
BEGIN:VCALENDAR
VERSION:2.0
PRODID:-//Fresno Housing - ECPv6.15.12.2//NONSGML v1.0//EN
CALSCALE:GREGORIAN
METHOD:PUBLISH
X-ORIGINAL-URL:https://fresnohousing.org
X-WR-CALDESC:Events for Fresno Housing
REFRESH-INTERVAL;VALUE=DURATION:PT1H
X-Robots-Tag:noindex
X-PUBLISHED-TTL:PT1H
BEGIN:VTIMEZONE
TZID:America/Los_Angeles
BEGIN:DAYLIGHT
TZOFFSETFROM:-0800
TZOFFSETTO:-0700
TZNAME:PDT
DTSTART:20210314T100000
END:DAYLIGHT
BEGIN:STANDARD
TZOFFSETFROM:-0700
TZOFFSETTO:-0800
TZNAME:PST
DTSTART:20211107T090000
END:STANDARD
BEGIN:DAYLIGHT
TZOFFSETFROM:-0800
TZOFFSETTO:-0700
TZNAME:PDT
DTSTART:20220313T100000
END:DAYLIGHT
BEGIN:STANDARD
TZOFFSETFROM:-0700
TZOFFSETTO:-0800
TZNAME:PST
DTSTART:20221106T090000
END:STANDARD
BEGIN:DAYLIGHT
TZOFFSETFROM:-0800
TZOFFSETTO:-0700
TZNAME:PDT
DTSTART:20230312T100000
END:DAYLIGHT
BEGIN:STANDARD
TZOFFSETFROM:-0700
TZOFFSETTO:-0800
TZNAME:PST
DTSTART:20231105T090000
END:STANDARD
BEGIN:DAYLIGHT
TZOFFSETFROM:-0800
TZOFFSETTO:-0700
TZNAME:PDT
DTSTART:20240310T100000
END:DAYLIGHT
BEGIN:STANDARD
TZOFFSETFROM:-0700
TZOFFSETTO:-0800
TZNAME:PST
DTSTART:20241103T090000
END:STANDARD
BEGIN:DAYLIGHT
TZOFFSETFROM:-0800
TZOFFSETTO:-0700
TZNAME:PDT
DTSTART:20250309T100000
END:DAYLIGHT
BEGIN:STANDARD
TZOFFSETFROM:-0700
TZOFFSETTO:-0800
TZNAME:PST
DTSTART:20251102T090000
END:STANDARD
BEGIN:DAYLIGHT
TZOFFSETFROM:-0800
TZOFFSETTO:-0700
TZNAME:PDT
DTSTART:20260308T100000
END:DAYLIGHT
BEGIN:STANDARD
TZOFFSETFROM:-0700
TZOFFSETTO:-0800
TZNAME:PST
DTSTART:20261101T090000
END:STANDARD
END:VTIMEZONE
BEGIN:VEVENT
DTSTART;TZID=America/Los_Angeles:20250929T110000
DTEND;TZID=America/Los_Angeles:20250929T123000
DTSTAMP:20260423T103844
CREATED:20250902T223010Z
LAST-MODIFIED:20250902T223010Z
UID:24800-1759143600-1759149000@fresnohousing.org
SUMMARY:The Habit Loop Series: Cue\, Craving\, Response\, Reward - Villages at Paragon
DESCRIPTION:The Habit Loop Series: Cue\, Craving\, Response\, Reward  \nResidents will begin a 4-part series on the habit loop\, utilizing James Clear’s best-selling book\, Atomic Habits. Each workshop will correspond to a step in the loop: cue\, craving\, response\, and reward. Discussion and application will center around addiction\, mental health\, and positive relationships.   \n  \nVillages at Paragon – 9/22/25 & 9/29/25\, 11:00-12:30  \n  \n  \n 
URL:https://fresnohousing.org/event/the-habit-loop-series-cue-craving-response-reward-villages-at-paragon/2025-09-29/
LOCATION:Villages at Paragon\, 4041 Plaza Drive W\, Fresno\, CA\, 93702\, United States
CATEGORIES:Education,Health & Wellness
ORGANIZER;CN="Nathan Turner":MAILTO:nturner@fresnohousing.org
END:VEVENT
BEGIN:VEVENT
DTSTART;TZID=America/Los_Angeles:20250922T110000
DTEND;TZID=America/Los_Angeles:20250922T123000
DTSTAMP:20260423T103844
CREATED:20250902T223010Z
LAST-MODIFIED:20250902T223010Z
UID:24799-1758538800-1758544200@fresnohousing.org
SUMMARY:The Habit Loop Series: Cue\, Craving\, Response\, Reward - Villages at Paragon
DESCRIPTION:The Habit Loop Series: Cue\, Craving\, Response\, Reward  \nResidents will begin a 4-part series on the habit loop\, utilizing James Clear’s best-selling book\, Atomic Habits. Each workshop will correspond to a step in the loop: cue\, craving\, response\, and reward. Discussion and application will center around addiction\, mental health\, and positive relationships.   \n  \nVillages at Paragon – 9/22/25 & 9/29/25\, 11:00-12:30  \n  \n  \n 
URL:https://fresnohousing.org/event/the-habit-loop-series-cue-craving-response-reward-villages-at-paragon/2025-09-22/
LOCATION:Villages at Paragon\, 4041 Plaza Drive W\, Fresno\, CA\, 93702\, United States
CATEGORIES:Education,Health & Wellness
ORGANIZER;CN="Nathan Turner":MAILTO:nturner@fresnohousing.org
END:VEVENT
BEGIN:VEVENT
DTSTART;TZID=America/Los_Angeles:20250915T110000
DTEND;TZID=America/Los_Angeles:20250915T123000
DTSTAMP:20260423T103844
CREATED:20250902T224401Z
LAST-MODIFIED:20250902T224401Z
UID:24815-1757934000-1757939400@fresnohousing.org
SUMMARY:Introduction to Drawing - Villages at Paragon
DESCRIPTION:Introduction to Drawing  \nResidents will be educated on the mental health benefits of drawing and introduced to drawing techniques\, resources\, and activities. The program Coordinator will guide residents to use drawing as a coping skill for life. Workshops will be provided at:  \n  \nVillages at Paragon – 9/15/25\, 11:00-12:30  \n  \n 
URL:https://fresnohousing.org/event/introduction-to-drawing-villages-at-paragon/
LOCATION:Villages at Paragon\, 4041 Plaza Drive W\, Fresno\, CA\, 93702\, United States
CATEGORIES:Arts and Crafts
ORGANIZER;CN="Nathan Turner":MAILTO:nturner@fresnohousing.org
END:VEVENT
BEGIN:VEVENT
DTSTART;TZID=America/Los_Angeles:20250428T120000
DTEND;TZID=America/Los_Angeles:20250428T133000
DTSTAMP:20260423T103844
CREATED:20250401T184745Z
LAST-MODIFIED:20250401T184801Z
UID:23096-1745841600-1745847000@fresnohousing.org
SUMMARY:Earth Day Education - Villages at Paragon
DESCRIPTION:Earth Day Education \nResidents will be educated about Earth Day\, its importance in history and impact on our lives\, along with ways to make a difference at the following sites: \n  \nVillages at Paragon – April 28 from 12 to 1:30pm
URL:https://fresnohousing.org/event/earth-day-education-villages-at-paragon/
LOCATION:Villages at Paragon\, 4041 Plaza Drive W\, Fresno\, CA\, 93702\, United States
CATEGORIES:Education
ORGANIZER;CN="Nathan Turner":MAILTO:nturner@fresnohousing.org
END:VEVENT
BEGIN:VEVENT
DTSTART;TZID=America/Los_Angeles:20250414T120000
DTEND;TZID=America/Los_Angeles:20250414T133000
DTSTAMP:20260423T103844
CREATED:20250401T180646Z
LAST-MODIFIED:20250401T180646Z
UID:23077-1744632000-1744637400@fresnohousing.org
SUMMARY:Mental Health Awareness Month Education - Villages at Paragon
DESCRIPTION:Mental Health Awareness Month Education \nResidents will be educated on the importance of mental health awareness\, engaged to discuss their own mental health\, along with coping skills and strategies\, and given a host of resources at the following sites: \n  \nVillages at Paragon – April 14 from 12 to 1:30 \nP
URL:https://fresnohousing.org/event/mental-health-awareness-month-education-villages-at-paragon/
LOCATION:Villages at Paragon\, 4041 Plaza Drive W\, Fresno\, CA\, 93702\, United States
CATEGORIES:Education,Health & Wellness
ORGANIZER;CN="Nathan Turner":MAILTO:nturner@fresnohousing.org
END:VEVENT
BEGIN:VEVENT
DTSTART;TZID=America/Los_Angeles:20250220T120000
DTEND;TZID=America/Los_Angeles:20250220T140000
DTSTAMP:20260423T103844
CREATED:20250204T221529Z
LAST-MODIFIED:20250204T224407Z
UID:22625-1740052800-1740060000@fresnohousing.org
SUMMARY:Black History Month Workshop - Villages @ Paragon
DESCRIPTION:Black History Month Workshop \n  \nThis month’s Black History Month workshops will offer residents a meaningful and engaging opportunity to learn about and celebrate the significant contributions of Black individuals throughout history\, particularly those who have helped shape the Central Valley. The workshops will include: \n  \nEducational workshop on Black Pioneers in the Central Valley: \nResidents will learn about the lives and legacies of Black pioneers who made a lasting impact in the Central Valley. From trailblazing figures in agriculture\, education\, and civil rights to the local community leaders who fought for justice\, this session will highlight the stories of these remarkable individuals and their contributions to the growth and development of the region. \n  \nArts & Craft Projects – Famous Faces of Black History: \nResidents will have the chance to get creative while honoring the legacies of well-known Black historical figures through an arts and crafts activity. Participants will work together to color and assemble tiles to create a beautiful poster featuring famous faces of Black history\, from leaders like Martin Luther King Jr. to cultural icons like Maya Angelou and beyond. This fun\, hands-on activity will inspire pride and celebration of Black history and foster creativity within the community. \n  \nVillages at Paragon –  2/20 at 12 noon
URL:https://fresnohousing.org/event/black-history-month-workshop-villages-paragon/
LOCATION:Villages at Paragon\, 4041 Plaza Drive W\, Fresno\, CA\, 93702\, United States
CATEGORIES:Arts and Crafts,Community Engagement,Diversity Equity & Inclusion,Education
ORGANIZER;CN="Nathan Turner":MAILTO:nturner@fresnohousing.org
END:VEVENT
BEGIN:VEVENT
DTSTART;TZID=America/Los_Angeles:20241216T143000
DTEND;TZID=America/Los_Angeles:20241216T163000
DTSTAMP:20260423T103844
CREATED:20241212T173138Z
LAST-MODIFIED:20241212T173138Z
UID:22237-1734359400-1734366600@fresnohousing.org
SUMMARY:December Holiday Event - Villages at Paragon
DESCRIPTION:December Holiday Events: \nVillages at Paragon – December 16th\, 2:30-4:30pm
URL:https://fresnohousing.org/event/december-holiday-event-villages-at-paragon/
LOCATION:Villages at Paragon\, 4041 Plaza Drive W\, Fresno\, CA\, 93702\, United States
CATEGORIES:Community Engagement
ORGANIZER;CN="Nathan Turner":MAILTO:nturner@fresnohousing.org
END:VEVENT
BEGIN:VEVENT
DTSTART;TZID=America/Los_Angeles:20240410T150000
DTEND;TZID=America/Los_Angeles:20240410T160000
DTSTAMP:20260423T103844
CREATED:20240327T220059Z
LAST-MODIFIED:20240327T220111Z
UID:21029-1712761200-1712764800@fresnohousing.org
SUMMARY:Education Scholarship Orientation
DESCRIPTION:Information about scholarships available through Fresno Housing and how to complete the application.  \n   \nApril 10\, 2024 @ 3pm – Villages at Paragon  \n 
URL:https://fresnohousing.org/event/education-scholarship-orientation-6/
LOCATION:Villages at Paragon\, 4041 Plaza Drive W\, Fresno\, CA\, 93702\, United States
CATEGORIES:Education,Financial Education
ORGANIZER;CN="Nathan Turner":MAILTO:nturner@fresnohousing.org
END:VEVENT
BEGIN:VEVENT
DTSTART;TZID=America/Los_Angeles:20240327T110000
DTEND;TZID=America/Los_Angeles:20240327T120000
DTSTAMP:20260423T103844
CREATED:20240306T185338Z
LAST-MODIFIED:20240306T185338Z
UID:20982-1711537200-1711540800@fresnohousing.org
SUMMARY:Cesar Chavez Day History Education 
DESCRIPTION:Cesar Chavez Day History Education  \n  \nThis workshop will look at the history and significance of Cesar Chavez both for the US in general and California specifically. \n  Villages at Paragon – 3/27/24 @ 11am 
URL:https://fresnohousing.org/event/cesar-chavez-day-history-education-4/
LOCATION:Villages at Paragon\, 4041 Plaza Drive W\, Fresno\, CA\, 93702\, United States
CATEGORIES:Diversity Equity & Inclusion
ORGANIZER;CN="Nathan Turner":MAILTO:nturner@fresnohousing.org
END:VEVENT
BEGIN:VEVENT
DTSTART;TZID=America/Los_Angeles:20240129T100000
DTEND;TZID=America/Los_Angeles:20240129T120000
DTSTAMP:20260423T103844
CREATED:20240102T192219Z
LAST-MODIFIED:20240102T192219Z
UID:20576-1706522400-1706529600@fresnohousing.org
SUMMARY:American Heart Association Workshop - Blood Pressure
DESCRIPTION:American Heart Association Corps Service Member will be doing workshops on blood pressure monitoring\, nutrition\, and fitness wellness. 
URL:https://fresnohousing.org/event/american-heart-association-workshop-blood-pressure-3/
LOCATION:Villages at Paragon\, 4041 Plaza Drive W\, Fresno\, CA\, 93702\, United States
ORGANIZER;CN="Nathan Turner":MAILTO:nturner@fresnohousing.org
END:VEVENT
BEGIN:VEVENT
DTSTART;TZID=America/Los_Angeles:20231117T120000
DTEND;TZID=America/Los_Angeles:20231117T130000
DTSTAMP:20260423T103844
CREATED:20231101T170144Z
LAST-MODIFIED:20231101T170144Z
UID:20211-1700222400-1700226000@fresnohousing.org
SUMMARY:Thanksgiving Potluck - Villages at Paragon
DESCRIPTION:A Thanksgiving celebration with residents
URL:https://fresnohousing.org/event/thanksgiving-potluck-villages-at-paragon/
LOCATION:Villages at Paragon\, 4041 Plaza Drive W\, Fresno\, CA\, 93702\, United States
CATEGORIES:Community Engagement
ORGANIZER;CN="Nathan Turner":MAILTO:nturner@fresnohousing.org
END:VEVENT
BEGIN:VEVENT
DTSTART;TZID=America/Los_Angeles:20230814T100000
DTEND;TZID=America/Los_Angeles:20230814T110000
DTSTAMP:20260423T103844
CREATED:20230914T175726Z
LAST-MODIFIED:20230914T175726Z
UID:19458-1692007200-1692010800@fresnohousing.org
SUMMARY:Indigenous People’s Awareness Workshop
DESCRIPTION:This workshop will highlight significant historical events for Indigenous Americans\, the struggle of indigenous people groups\, and ways residents can respond. 
URL:https://fresnohousing.org/event/indigenous-peoples-awareness-workshop-6/
LOCATION:Villages at Paragon\, 4041 Plaza Drive W\, Fresno\, CA\, 93702\, United States
CATEGORIES:Diversity Equity & Inclusion
ORGANIZER;CN="Nathan Turner":MAILTO:nturner@fresnohousing.org
END:VEVENT
BEGIN:VEVENT
DTSTART;TZID=America/Los_Angeles:20221219T100000
DTEND;TZID=America/Los_Angeles:20221219T120000
DTSTAMP:20260423T103844
CREATED:20221130T183120Z
LAST-MODIFIED:20221130T183120Z
UID:17609-1671444000-1671451200@fresnohousing.org
SUMMARY:Holiday Brunch & BINGO
DESCRIPTION:Holiday Brunch will be served. Bingo and a safety education will follow.
URL:https://fresnohousing.org/event/holiday-brunch-bingo-3/
LOCATION:Villages at Paragon\, 4041 Plaza Drive W\, Fresno\, CA\, 93702\, United States
CATEGORIES:Community Engagement,Safety
ORGANIZER;CN="Nathan Turner":MAILTO:nturner@fresnohousing.org
END:VEVENT
END:VCALENDAR