
BEGIN:VCALENDAR
VERSION:2.0
PRODID:-//Fresno Housing - ECPv6.15.12.2//NONSGML v1.0//EN
CALSCALE:GREGORIAN
METHOD:PUBLISH
X-ORIGINAL-URL:https://fresnohousing.org
X-WR-CALDESC:Events for Fresno Housing
REFRESH-INTERVAL;VALUE=DURATION:PT1H
X-Robots-Tag:noindex
X-PUBLISHED-TTL:PT1H
BEGIN:VTIMEZONE
TZID:America/Los_Angeles
BEGIN:DAYLIGHT
TZOFFSETFROM:-0800
TZOFFSETTO:-0700
TZNAME:PDT
DTSTART:20210314T100000
END:DAYLIGHT
BEGIN:STANDARD
TZOFFSETFROM:-0700
TZOFFSETTO:-0800
TZNAME:PST
DTSTART:20211107T090000
END:STANDARD
BEGIN:DAYLIGHT
TZOFFSETFROM:-0800
TZOFFSETTO:-0700
TZNAME:PDT
DTSTART:20220313T100000
END:DAYLIGHT
BEGIN:STANDARD
TZOFFSETFROM:-0700
TZOFFSETTO:-0800
TZNAME:PST
DTSTART:20221106T090000
END:STANDARD
BEGIN:DAYLIGHT
TZOFFSETFROM:-0800
TZOFFSETTO:-0700
TZNAME:PDT
DTSTART:20230312T100000
END:DAYLIGHT
BEGIN:STANDARD
TZOFFSETFROM:-0700
TZOFFSETTO:-0800
TZNAME:PST
DTSTART:20231105T090000
END:STANDARD
BEGIN:DAYLIGHT
TZOFFSETFROM:-0800
TZOFFSETTO:-0700
TZNAME:PDT
DTSTART:20240310T100000
END:DAYLIGHT
BEGIN:STANDARD
TZOFFSETFROM:-0700
TZOFFSETTO:-0800
TZNAME:PST
DTSTART:20241103T090000
END:STANDARD
END:VTIMEZONE
BEGIN:VEVENT
DTSTART;TZID=America/Los_Angeles:20231207T133000
DTEND;TZID=America/Los_Angeles:20231207T150000
DTSTAMP:20260422T065429
CREATED:20231129T215602Z
LAST-MODIFIED:20231129T215602Z
UID:20401-1701955800-1701961200@fresnohousing.org
SUMMARY:American Heart Association Educational Workshops
DESCRIPTION:Heart health\, blood pressure monitoring\, healthy eating\, and exercise
URL:https://fresnohousing.org/event/american-heart-association-educational-workshops/
LOCATION:Pacific Gardens\, 5161 E Kings Canyon Rd.\, Fresno\, CA\, 93727\, United States
CATEGORIES:Education,Health & Wellness,Nutrition,Physical Fitness
END:VEVENT
BEGIN:VEVENT
DTSTART;TZID=America/Los_Angeles:20231109T153000
DTEND;TZID=America/Los_Angeles:20231109T163000
DTSTAMP:20260422T065429
CREATED:20231031T201021Z
LAST-MODIFIED:20231031T201021Z
UID:20150-1699543800-1699547400@fresnohousing.org
SUMMARY:Food 2 Share Food Distribution
DESCRIPTION:Weekly food distribution and nutritional topic  \n(***First come first serve)
URL:https://fresnohousing.org/event/food-2-share-food-distribution/2023-11-09/
LOCATION:Pacific Gardens\, 5161 E Kings Canyon Rd.\, Fresno\, CA\, 93727\, United States
CATEGORIES:Health & Wellness,Meal Program,Nutrition
END:VEVENT
BEGIN:VEVENT
DTSTART;TZID=America/Los_Angeles:20231102T130000
DTEND;TZID=America/Los_Angeles:20231102T130000
DTSTAMP:20260422T065429
CREATED:20231031T201757Z
LAST-MODIFIED:20231031T201757Z
UID:20154-1698930000-1698930000@fresnohousing.org
SUMMARY:Breast & Cancer Awareness
DESCRIPTION:Breast & Cancer Awareness  \n  \nCalifornia Health Collaborative shares information on Breast Cancer Awareness.  \n 
URL:https://fresnohousing.org/event/breast-cancer-awareness/
LOCATION:Pacific Gardens\, 5161 E Kings Canyon Rd.\, Fresno\, CA\, 93727\, United States
CATEGORIES:Education,Health & Wellness
END:VEVENT
BEGIN:VEVENT
DTSTART;TZID=America/Los_Angeles:20230829T130000
DTEND;TZID=America/Los_Angeles:20230829T170000
DTSTAMP:20260422T065429
CREATED:20230914T160301Z
LAST-MODIFIED:20230914T160301Z
UID:19433-1693314000-1693328400@fresnohousing.org
SUMMARY:African American Coalition Community Outreach Event
DESCRIPTION:This event will provide information on services in the community\, free diaper distribution\, free flu and COVID vaccines\, and ppe supplies.  \n  \nProvided by Elizabeth Balboa-Brooks  \nAfrican American Coalition 
URL:https://fresnohousing.org/event/african-american-coalition-community-outreach-event-5/
LOCATION:Pacific Gardens\, 5161 E Kings Canyon Rd.\, Fresno\, CA\, 93727\, United States
CATEGORIES:Education,Health & Wellness
END:VEVENT
BEGIN:VEVENT
DTSTART;TZID=America/Los_Angeles:20230810T130000
DTEND;TZID=America/Los_Angeles:20230810T150000
DTSTAMP:20260422T065429
CREATED:20230914T174356Z
LAST-MODIFIED:20230914T174356Z
UID:19435-1691672400-1691679600@fresnohousing.org
SUMMARY:Diabetes Empowerment Education Program
DESCRIPTION:6 week Health Education Series on Diabetes   \nStarting Thursday August 10th\, from 1-3pm 
URL:https://fresnohousing.org/event/diabetes-empowerment-education-program/2023-08-10/
LOCATION:Pacific Gardens\, 5161 E Kings Canyon Rd.\, Fresno\, CA\, 93727\, United States
CATEGORIES:Education,Health & Wellness,Nutrition,Physical Fitness
END:VEVENT
BEGIN:VEVENT
DTSTART;TZID=America/Los_Angeles:20221021T150000
DTEND;TZID=America/Los_Angeles:20221021T160000
DTSTAMP:20260422T065429
CREATED:20221007T212642Z
LAST-MODIFIED:20221007T212642Z
UID:17379-1666364400-1666368000@fresnohousing.org
SUMMARY:PG&E FERA and CARE Program Workshop
DESCRIPTION:This workshop will be hosted by Fresno Housing Resident Service Coordinator who will explain CARE and FERA PG&E program eligibility.  There will also be assistance with sign ups and Q & A.
URL:https://fresnohousing.org/event/pge-fera-and-care-program-workshop/
LOCATION:Pacific Gardens\, 5161 E Kings Canyon Rd.\, Fresno\, CA\, 93727\, United States
CATEGORIES:Utility Assistance
ORGANIZER;CN="Kiana Quiocho":MAILTO:kquiocho@fresnohousing.org
END:VEVENT
BEGIN:VEVENT
DTSTART;TZID=America/Los_Angeles:20220908T083000
DTEND;TZID=America/Los_Angeles:20220908T093000
DTSTAMP:20260422T065429
CREATED:20220826T183156Z
LAST-MODIFIED:20220826T183156Z
UID:17102-1662625800-1662629400@fresnohousing.org
SUMMARY:Senior Coffee Hour
DESCRIPTION:Residents are welcome to participate in a coffee hour where residents can talk about current issues in the world and make small efforts to change them.
URL:https://fresnohousing.org/event/senior-coffee-hour/2022-09-08/
LOCATION:Pacific Gardens\, 5161 E Kings Canyon Rd.\, Fresno\, CA\, 93727\, United States
CATEGORIES:Community Engagement,Life Skills
ORGANIZER;CN="Kiana Quiocho":MAILTO:kquiocho@fresnohousing.org
END:VEVENT
BEGIN:VEVENT
DTSTART;TZID=America/Los_Angeles:20220907T153000
DTEND;TZID=America/Los_Angeles:20220907T163000
DTSTAMP:20260422T065429
CREATED:20220826T182758Z
LAST-MODIFIED:20220826T182827Z
UID:17100-1662564600-1662568200@fresnohousing.org
SUMMARY:Grandparents Day Arts & Crafts
DESCRIPTION:Loved ones are welcome to participate in a sweet Grandparent’s Day craft.
URL:https://fresnohousing.org/event/grandparents-day-arts-crafts/
LOCATION:Pacific Gardens\, 5161 E Kings Canyon Rd.\, Fresno\, CA\, 93727\, United States
CATEGORIES:Arts and Crafts,Community Engagement
ORGANIZER;CN="Kiana Quiocho":MAILTO:kquiocho@fresnohousing.org
END:VEVENT
BEGIN:VEVENT
DTSTART;TZID=America/Los_Angeles:20220906T123000
DTEND;TZID=America/Los_Angeles:20220906T133000
DTSTAMP:20260422T065429
CREATED:20220826T182617Z
LAST-MODIFIED:20220826T182617Z
UID:17094-1662467400-1662471000@fresnohousing.org
SUMMARY:Community Exercise
DESCRIPTION:Residents are able to participate in a low impact exercise\, as well as\, discuss nutritional information provided.
URL:https://fresnohousing.org/event/community-exercise/2022-09-06/
LOCATION:Pacific Gardens\, 5161 E Kings Canyon Rd.\, Fresno\, CA\, 93727\, United States
CATEGORIES:Health & Wellness,Physical Fitness
ORGANIZER;CN="Kiana Quiocho":MAILTO:kquiocho@fresnohousing.org
END:VEVENT
END:VCALENDAR