
BEGIN:VCALENDAR
VERSION:2.0
PRODID:-//Fresno Housing - ECPv6.15.12.2//NONSGML v1.0//EN
CALSCALE:GREGORIAN
METHOD:PUBLISH
X-ORIGINAL-URL:https://fresnohousing.org
X-WR-CALDESC:Events for Fresno Housing
REFRESH-INTERVAL;VALUE=DURATION:PT1H
X-Robots-Tag:noindex
X-PUBLISHED-TTL:PT1H
BEGIN:VTIMEZONE
TZID:America/Los_Angeles
BEGIN:DAYLIGHT
TZOFFSETFROM:-0800
TZOFFSETTO:-0700
TZNAME:PDT
DTSTART:20210314T100000
END:DAYLIGHT
BEGIN:STANDARD
TZOFFSETFROM:-0700
TZOFFSETTO:-0800
TZNAME:PST
DTSTART:20211107T090000
END:STANDARD
BEGIN:DAYLIGHT
TZOFFSETFROM:-0800
TZOFFSETTO:-0700
TZNAME:PDT
DTSTART:20220313T100000
END:DAYLIGHT
BEGIN:STANDARD
TZOFFSETFROM:-0700
TZOFFSETTO:-0800
TZNAME:PST
DTSTART:20221106T090000
END:STANDARD
BEGIN:DAYLIGHT
TZOFFSETFROM:-0800
TZOFFSETTO:-0700
TZNAME:PDT
DTSTART:20230312T100000
END:DAYLIGHT
BEGIN:STANDARD
TZOFFSETFROM:-0700
TZOFFSETTO:-0800
TZNAME:PST
DTSTART:20231105T090000
END:STANDARD
BEGIN:DAYLIGHT
TZOFFSETFROM:-0800
TZOFFSETTO:-0700
TZNAME:PDT
DTSTART:20240310T100000
END:DAYLIGHT
BEGIN:STANDARD
TZOFFSETFROM:-0700
TZOFFSETTO:-0800
TZNAME:PST
DTSTART:20241103T090000
END:STANDARD
BEGIN:DAYLIGHT
TZOFFSETFROM:-0800
TZOFFSETTO:-0700
TZNAME:PDT
DTSTART:20250309T100000
END:DAYLIGHT
BEGIN:STANDARD
TZOFFSETFROM:-0700
TZOFFSETTO:-0800
TZNAME:PST
DTSTART:20251102T090000
END:STANDARD
END:VTIMEZONE
BEGIN:VEVENT
DTSTART;TZID=America/Los_Angeles:20240612T110000
DTEND;TZID=America/Los_Angeles:20240612T120000
DTSTAMP:20260424T080047
CREATED:20240604T212706Z
LAST-MODIFIED:20240604T212706Z
UID:21563-1718190000-1718193600@fresnohousing.org
SUMMARY:Family Self Sufficiency Program Orientation & Enrollment
DESCRIPTION:Participants learn the requirements and benefits of participating in Fresno Housing’s Family Self Sufficiency Program. \n  \nHeld Virtually – ZOOM \n  \nHi All\, please share with your residents to join the FSS virtual orientation. \n  \nFresno Housing is inviting you to a scheduled Zoom meeting. \n  \nJoin Zoom Meeting \nhttps://gcc02.safelinks.protection.outlook.com/?url=https%3A%2F%2Fus06web.zoom.us%2Fj%2F84854763477%3Fpwd%3DkxLwjea3bTE0kcGdkfyJJfvmWkRcLo.1&data=05%7C02%7Cmmcintosh%40fresnohousing.org%7Cc8e08c95870945bb2a8208dc7a9ba373%7Ca36160478edb4053ba54078ee8bb3169%7C0%7C0%7C638520056110289054%7CUnknown%7CTWFpbGZsb3d8eyJWIjoiMC4wLjAwMDAiLCJQIjoiV2luMzIiLCJBTiI6Ik1haWwiLCJXVCI6Mn0%3D%7C0%7C%7C%7C&sdata=6YXK6PT8LL9i3f6joyhrgACsUnXr4wYtAmJ0J5lENM8%3D&reserved=0 \n  \nMeeting ID: 848 5476 3477 \nPasscode: 114480 \n  \n— \n  \nOne tap mobile \n+13126266799\,\,84854763477#\,\,\,\,*114480# US (Chicago) \n+16469313860\,\,84854763477#\,\,\,\,*114480# US \n  \n— \n  \nDial by your location \n\n+1 312 626 6799 US (Chicago)\n+1 646 931 3860 US\n+1 929 205 6099 US (New York)\n+1 301 715 8592 US (Washington DC)\n+1 305 224 1968 US\n+1 309 205 3325 US\n+1 253 205 0468 US\n+1 253 215 8782 US (Tacoma)\n+1 346 248 7799 US (Houston)\n+1 360 209 5623 US\n+1 386 347 5053 US\n+1 507 473 4847 US\n+1 564 217 2000 US\n+1 669 444 9171 US\n+1 669 900 6833 US (San Jose)\n+1 689 278 1000 US\n+1 719 359 4580 US\n\n  \nMeeting ID: 848 5476 3477 \nPasscode: 114480
URL:https://fresnohousing.org/event/family-self-sufficiency-program-orientation-enrollment/
LOCATION:Virtual
CATEGORIES:Education,Tenant Education,Workforce Development
END:VEVENT
BEGIN:VEVENT
DTSTART;TZID=America/Los_Angeles:20230301T100000
DTEND;TZID=America/Los_Angeles:20230301T120000
DTSTAMP:20260424T080047
CREATED:20230215T202029Z
LAST-MODIFIED:20230215T202116Z
UID:18149-1677664800-1677672000@fresnohousing.org
SUMMARY:ENP Computer Literacy Class - Spanish Only
DESCRIPTION:0995_001
URL:https://fresnohousing.org/event/enp-computer-literacy-class-spanish-only/2023-03-01/
LOCATION:Parc Grove Commons\, 2674 E Clinton Ave\, Fresno\, CA\, 93703\, United States
CATEGORIES:Computer/Digital Literacy,Soft-Skills,Workforce Development
END:VEVENT
BEGIN:VEVENT
DTSTART;TZID=America/Los_Angeles:20220324T180000
DTEND;TZID=America/Los_Angeles:20220324T193000
DTSTAMP:20260424T080047
CREATED:20220302T195439Z
LAST-MODIFIED:20220302T195543Z
UID:15860-1648144800-1648150200@fresnohousing.org
SUMMARY:Home Buying 101 Series - Part 2
DESCRIPTION:
URL:https://fresnohousing.org/event/home-buying-101-series-part-2/
CATEGORIES:Financial Education,Homebuyer's Education
END:VEVENT
BEGIN:VEVENT
DTSTART;TZID=America/Los_Angeles:20220310T180000
DTEND;TZID=America/Los_Angeles:20220310T193000
DTSTAMP:20260424T080047
CREATED:20220302T195027Z
LAST-MODIFIED:20220302T195042Z
UID:15856-1646935200-1646940600@fresnohousing.org
SUMMARY:Home Buying 101 Series - Part 1
DESCRIPTION:
URL:https://fresnohousing.org/event/home-buying-101-series-part-1/
END:VEVENT
END:VCALENDAR