
BEGIN:VCALENDAR
VERSION:2.0
PRODID:-//Fresno Housing - ECPv6.15.12.2//NONSGML v1.0//EN
CALSCALE:GREGORIAN
METHOD:PUBLISH
X-ORIGINAL-URL:https://fresnohousing.org
X-WR-CALDESC:Events for Fresno Housing
REFRESH-INTERVAL;VALUE=DURATION:PT1H
X-Robots-Tag:noindex
X-PUBLISHED-TTL:PT1H
BEGIN:VTIMEZONE
TZID:America/Los_Angeles
BEGIN:DAYLIGHT
TZOFFSETFROM:-0800
TZOFFSETTO:-0700
TZNAME:PDT
DTSTART:20230312T100000
END:DAYLIGHT
BEGIN:STANDARD
TZOFFSETFROM:-0700
TZOFFSETTO:-0800
TZNAME:PST
DTSTART:20231105T090000
END:STANDARD
BEGIN:DAYLIGHT
TZOFFSETFROM:-0800
TZOFFSETTO:-0700
TZNAME:PDT
DTSTART:20240310T100000
END:DAYLIGHT
BEGIN:STANDARD
TZOFFSETFROM:-0700
TZOFFSETTO:-0800
TZNAME:PST
DTSTART:20241103T090000
END:STANDARD
BEGIN:DAYLIGHT
TZOFFSETFROM:-0800
TZOFFSETTO:-0700
TZNAME:PDT
DTSTART:20250309T100000
END:DAYLIGHT
BEGIN:STANDARD
TZOFFSETFROM:-0700
TZOFFSETTO:-0800
TZNAME:PST
DTSTART:20251102T090000
END:STANDARD
BEGIN:DAYLIGHT
TZOFFSETFROM:-0800
TZOFFSETTO:-0700
TZNAME:PDT
DTSTART:20260308T100000
END:DAYLIGHT
BEGIN:STANDARD
TZOFFSETFROM:-0700
TZOFFSETTO:-0800
TZNAME:PST
DTSTART:20261101T090000
END:STANDARD
END:VTIMEZONE
BEGIN:VEVENT
DTSTART;TZID=America/Los_Angeles:20250130T133000
DTEND;TZID=America/Los_Angeles:20250130T153000
DTSTAMP:20260419T100913
CREATED:20250109T184236Z
LAST-MODIFIED:20250109T184236Z
UID:22464-1738243800-1738251000@fresnohousing.org
SUMMARY:Centro La Familia – Self Care Workshop  - Kings River Commons
DESCRIPTION:Centro La Familia – Self Care Workshop \nCentro La Familia is hosting an engaging self-care workshop for Fresno Housing Authority residents aimed at fostering mental and emotional well-being. During the session\, participants received guidance on practical strategies for reducing stress\, enhancing personal resilience\, and maintaining a balanced lifestyle. Through interactive activities and facilitated discussions\, the workshop encouraged attendees to prioritize their health and happiness. \n  \nKings River Commons – January 30th 1:30pm
URL:https://fresnohousing.org/event/centro-la-familia-self-care-workshop-kings-river-commons/
LOCATION:Kings River Commons\, 2020 Dinuba Ave\, Reedley\, CA\, United States
CATEGORIES:Health & Wellness,Life Skills
ORGANIZER;CN="Jose Robledo":MAILTO:jrobledo@fresnohousing.org
END:VEVENT
BEGIN:VEVENT
DTSTART;TZID=America/Los_Angeles:20250130T120000
DTEND;TZID=America/Los_Angeles:20250130T140000
DTSTAMP:20260419T100913
CREATED:20250109T005408Z
LAST-MODIFIED:20250109T005728Z
UID:22378-1738238400-1738245600@fresnohousing.org
SUMMARY:Knitting Club and Healthy Mindset
DESCRIPTION:Knitting Club and Healthy mindset: \nProgram coordinator will start a knitting club incorporating the importance of mental health awareness. Program Coordinator will implement coping skills and guide participant(s) to catch early stage/examples of mental health crisis. Resources will be provided along with education. \n  \nViking Village \nJanuary 24th 3pm – 5pm \nJanuary 30th 12pm – 2pm
URL:https://fresnohousing.org/event/knitting-club-and-healthy-mindset/2025-01-30/
LOCATION:Viking Village\, 4260 N Chestnut Ave.\, Fresno\, CA\, 93726\, United States
CATEGORIES:Arts and Crafts,Education,Health & Wellness,Life Skills
ORGANIZER;CN="Jose Robledo":MAILTO:jrobledo@fresnohousing.org
END:VEVENT
BEGIN:VEVENT
DTSTART;TZID=America/Los_Angeles:20250130T100000
DTEND;TZID=America/Los_Angeles:20250130T120000
DTSTAMP:20260419T100913
CREATED:20250109T184100Z
LAST-MODIFIED:20250109T184100Z
UID:22462-1738231200-1738238400@fresnohousing.org
SUMMARY:Centro La Familia – Self Care Workshop  - Paseo 55
DESCRIPTION:Centro La Familia – Self Care Workshop \nCentro La Familia is hosting an engaging self-care workshop for Fresno Housing Authority residents aimed at fostering mental and emotional well-being. During the session\, participants received guidance on practical strategies for reducing stress\, enhancing personal resilience\, and maintaining a balanced lifestyle. Through interactive activities and facilitated discussions\, the workshop encouraged attendees to prioritize their health and happiness. \n  \nPaseo 55 – Thursday January 30th 10:00am \n 
URL:https://fresnohousing.org/event/centro-la-familia-self-care-workshop-paseo-55/
LOCATION:Paseo 55\, 1233 G Street\, Reedly\, CA\, 93654\, United States
CATEGORIES:Health & Wellness,Life Skills
ORGANIZER;CN="Jose Robledo":MAILTO:jrobledo@fresnohousing.org
END:VEVENT
BEGIN:VEVENT
DTSTART;TZID=America/Los_Angeles:20250127T140000
DTEND;TZID=America/Los_Angeles:20250127T150000
DTSTAMP:20260419T100913
CREATED:20250109T183752Z
LAST-MODIFIED:20250109T183752Z
UID:22460-1737986400-1737990000@fresnohousing.org
SUMMARY:Workforce Connection – Workforce Development Workshop 
DESCRIPTION:Workforce Connection – Workforce Development Workshop \nThis presentation is to connect Workforce Connection with our residents and the community to inform them on the services provided by their organization. They provide services such as job readiness process\, career training and job search assistance as well as connecting individuals with resources as well. \n  \nCedar Courts – Monday\, January 27th 2:00pm
URL:https://fresnohousing.org/event/workforce-connection-workforce-development-workshop/
LOCATION:Cedar Courts\, CA\, United States
CATEGORIES:Workforce Development
ORGANIZER;CN="Jose Robledo":MAILTO:jrobledo@fresnohousing.org
END:VEVENT
BEGIN:VEVENT
DTSTART;TZID=America/Los_Angeles:20250124T150000
DTEND;TZID=America/Los_Angeles:20250124T170000
DTSTAMP:20260419T100913
CREATED:20250109T005408Z
LAST-MODIFIED:20250109T005728Z
UID:22377-1737730800-1737738000@fresnohousing.org
SUMMARY:Knitting Club and Healthy Mindset
DESCRIPTION:Knitting Club and Healthy mindset: \nProgram coordinator will start a knitting club incorporating the importance of mental health awareness. Program Coordinator will implement coping skills and guide participant(s) to catch early stage/examples of mental health crisis. Resources will be provided along with education. \n  \nViking Village \nJanuary 24th 3pm – 5pm \nJanuary 30th 12pm – 2pm
URL:https://fresnohousing.org/event/knitting-club-and-healthy-mindset/2025-01-24/
LOCATION:Viking Village\, 4260 N Chestnut Ave.\, Fresno\, CA\, 93726\, United States
CATEGORIES:Arts and Crafts,Education,Health & Wellness,Life Skills
ORGANIZER;CN="Jose Robledo":MAILTO:jrobledo@fresnohousing.org
END:VEVENT
BEGIN:VEVENT
DTSTART;TZID=America/Los_Angeles:20250116T150000
DTEND;TZID=America/Los_Angeles:20250116T170000
DTSTAMP:20260419T100913
CREATED:20250109T005135Z
LAST-MODIFIED:20250109T005135Z
UID:22375-1737039600-1737046800@fresnohousing.org
SUMMARY:SMART Goal Setting
DESCRIPTION:SMART Goal Setting:  \nTo provide residents with SMART goal setting tools and educate the importance of goal setting mindset.   Program Coordinator will conduct a follow up workshop in June 2025 to review SMART goal setting affectedness. \n  \nViking Village \nJanuary 16th 3pm – 5pm
URL:https://fresnohousing.org/event/smart-goal-setting/
LOCATION:Viking Village\, 4260 N Chestnut Ave.\, Fresno\, CA\, 93726\, United States
CATEGORIES:Life Skills
ORGANIZER;CN="Jose Robledo":MAILTO:jrobledo@fresnohousing.org
END:VEVENT
BEGIN:VEVENT
DTSTART;TZID=America/Los_Angeles:20250116T130000
DTEND;TZID=America/Los_Angeles:20250116T150000
DTSTAMP:20260419T100913
CREATED:20250109T183442Z
LAST-MODIFIED:20250109T183442Z
UID:22456-1737032400-1737039600@fresnohousing.org
SUMMARY:Anthem Blue Cross Medicare – Medicare Basics - Kings River Commons
DESCRIPTION:Anthem Blue Cross Medicare – Medicare Basics \nAnthem Blue Cross partner will be providing educational workshop to inform and teach elderly residents and their family members about their Medicare plans and eligibility. Community partner will also discuss their plans on Medicare advantage if they have the private option. This will provide our senior residents with knowledge on their healthcare and will help them make informed decisions regarding their health in the future. \n  \nKings River Commons – January 16th\, 1:00pm \n  \n 
URL:https://fresnohousing.org/event/anthem-blue-cross-medicare-medicare-basics-kings-river-commons/
LOCATION:Kings River Commons\, 2020 Dinuba Ave\, Reedley\, CA\, United States
CATEGORIES:Education,Health & Wellness
ORGANIZER;CN="Jose Robledo":MAILTO:jrobledo@fresnohousing.org
END:VEVENT
BEGIN:VEVENT
DTSTART;TZID=America/Los_Angeles:20250116T103000
DTEND;TZID=America/Los_Angeles:20250116T113000
DTSTAMP:20260419T100913
CREATED:20250109T183309Z
LAST-MODIFIED:20250109T183309Z
UID:22454-1737023400-1737027000@fresnohousing.org
SUMMARY:Anthem Blue Cross Medicare – Medicare Basics  - Paseo 55
DESCRIPTION:Anthem Blue Cross Medicare – Medicare Basics \nAnthem Blue Cross partner will be providing educational workshop to inform and teach elderly residents and their family members about their Medicare plans and eligibility. Community partner will also discuss their plans on Medicare advantage if they have the private option. This will provide our senior residents with knowledge on their healthcare and will help them make informed decisions regarding their health in the future. \n  \nPaseo 55 – January 16th\, 10:30am \n 
URL:https://fresnohousing.org/event/anthem-blue-cross-medicare-medicare-basics-paseo-55/
LOCATION:Paseo 55\, 1233 G Street\, Reedly\, CA\, 93654\, United States
CATEGORIES:Education,Health & Wellness
ORGANIZER;CN="Jose Robledo":MAILTO:jrobledo@fresnohousing.org
END:VEVENT
BEGIN:VEVENT
DTSTART;TZID=America/Los_Angeles:20250110T130000
DTEND;TZID=America/Los_Angeles:20250110T150000
DTSTAMP:20260419T100913
CREATED:20250109T004626Z
LAST-MODIFIED:20250109T004626Z
UID:22371-1736514000-1736521200@fresnohousing.org
SUMMARY:Narcan education with Rock painting 
DESCRIPTION:Narcan education with Rock painting  \nKathryn Sherman from Young People in Recovery (YPR) will be educating resident on how to use Narcan along with the purpose of the tool.  YPR will be providing resident with Narcan kit. YPR will also implement rock painting as an activity. \n  \nViking Village \nJanuary 10th 1pm – 3pm
URL:https://fresnohousing.org/event/narcan-education-with-rock-painting-2/
LOCATION:Viking Village\, 4260 N Chestnut Ave.\, Fresno\, CA\, 93726\, United States
CATEGORIES:Arts and Crafts,Health & Wellness
ORGANIZER;CN="Jose Robledo":MAILTO:jrobledo@fresnohousing.org
END:VEVENT
BEGIN:VEVENT
DTSTART;TZID=America/Los_Angeles:20250109T100000
DTEND;TZID=America/Los_Angeles:20250109T110000
DTSTAMP:20260419T100913
CREATED:20250109T010124Z
LAST-MODIFIED:20250109T010124Z
UID:22381-1736416800-1736420400@fresnohousing.org
SUMMARY:Mental Health Awareness Workshop
DESCRIPTION:Mental Health Awareness Workshop \nTo provide residents with practical tools for identifying\, addressing\, and managing mental health and stress effectively. The workshop will increase awareness\, reduce stigma\, and empower participants with self-care techniques. The workshop will also provide a safe space for discussing any topics regarding mental health for residents. \n  \nFultonia West \n541 N Fulton St.\, Fresno CA \n  \n– Thursday\, January 9 10:00am
URL:https://fresnohousing.org/event/mental-health-awareness-workshop/
LOCATION:Fultonia West\, 541 N Fulton Street\, Fresno\, CA\, 93728\, United States
CATEGORIES:Education,Health & Wellness
ORGANIZER;CN="Jose Robledo":MAILTO:jrobledo@fresnohousing.org
END:VEVENT
BEGIN:VEVENT
DTSTART;TZID=America/Los_Angeles:20250109T080000
DTEND;TZID=America/Los_Angeles:20250109T170000
DTSTAMP:20260419T100913
CREATED:20250109T183628Z
LAST-MODIFIED:20250109T183628Z
UID:22458-1736409600-1736442000@fresnohousing.org
SUMMARY:Anthem Blue Cross Medicare – Medicare Basics - Fultonia West
DESCRIPTION:Anthem Blue Cross Medicare – Medicare Basics \nAnthem Blue Cross partner will be providing educational workshop to inform and teach elderly residents and their family members about their Medicare plans and eligibility. Community partner will also discuss their plans on Medicare advantage if they have the private option. This will provide our senior residents with knowledge on their healthcare and will help them make informed decisions regarding their health in the future. \n  \nFultonia West – January 23rd 10:00am
URL:https://fresnohousing.org/event/anthem-blue-cross-medicare-medicare-basics-fultonia-west/
LOCATION:Fultonia West\, 541 N Fulton Street\, Fresno\, CA\, 93728\, United States
CATEGORIES:Education,Health & Wellness
ORGANIZER;CN="Jose Robledo":MAILTO:jrobledo@fresnohousing.org
END:VEVENT
BEGIN:VEVENT
DTSTART;TZID=America/Los_Angeles:20241230T143000
DTEND;TZID=America/Los_Angeles:20241230T153000
DTSTAMP:20260419T100913
CREATED:20241211T191736Z
LAST-MODIFIED:20241211T191736Z
UID:22214-1735569000-1735572600@fresnohousing.org
SUMMARY:Tenant Responsibility and Good Housekeeping
DESCRIPTION:Tenant Responsibility and Good Housekeeping \nTo educate tenants\, particularly those in low-income housing\, about their responsibilities as renters and the importance of good housekeeping. The workshop will provide practical tips and resources for maintaining a clean\, safe\, and healthy living environment. This workshop empowers tenants with the tools and knowledge to maintain their homes responsibly and economically. By fostering a healthy living space\, tenants can improve their quality of life\, maintain positive relationships with landlords\, and contribute to a supportive community. \n  \nCedar Courts – December 30th\, 2:30pm
URL:https://fresnohousing.org/event/tenant-responsibility-and-good-housekeeping-4/
LOCATION:Cedar Courts\, CA\, United States
CATEGORIES:Life Skills,Tenant Education
ORGANIZER;CN="Jose Robledo":MAILTO:jrobledo@fresnohousing.org
END:VEVENT
BEGIN:VEVENT
DTSTART;TZID=America/Los_Angeles:20241230T100000
DTEND;TZID=America/Los_Angeles:20241230T110000
DTSTAMP:20260419T100913
CREATED:20241211T191624Z
LAST-MODIFIED:20241211T191624Z
UID:22212-1735552800-1735556400@fresnohousing.org
SUMMARY:Tenant Responsibility and Good Housekeeping
DESCRIPTION:Tenant Responsibility and Good Housekeeping \nTo educate tenants\, particularly those in low-income housing\, about their responsibilities as renters and the importance of good housekeeping. The workshop will provide practical tips and resources for maintaining a clean\, safe\, and healthy living environment. This workshop empowers tenants with the tools and knowledge to maintain their homes responsibly and economically. By fostering a healthy living space\, tenants can improve their quality of life\, maintain positive relationships with landlords\, and contribute to a supportive community. \n  \n  \nMagnolia Commons – December 30th\, 10:00am \n 
URL:https://fresnohousing.org/event/tenant-responsibility-and-good-housekeeping-3/
LOCATION:Magnolia Commons\, 325 E Vine Street\, Fowler\, CA\, 93625\, United States
CATEGORIES:Life Skills,Tenant Education
ORGANIZER;CN="Jose Robledo":MAILTO:jrobledo@fresnohousing.org
END:VEVENT
BEGIN:VEVENT
DTSTART;TZID=America/Los_Angeles:20241226T140000
DTEND;TZID=America/Los_Angeles:20241226T150000
DTSTAMP:20260419T100913
CREATED:20241211T191511Z
LAST-MODIFIED:20241211T191511Z
UID:22210-1735221600-1735225200@fresnohousing.org
SUMMARY:Tenant Responsibility and Good Housekeeping
DESCRIPTION:Tenant Responsibility and Good Housekeeping \nTo educate tenants\, particularly those in low-income housing\, about their responsibilities as renters and the importance of good housekeeping. The workshop will provide practical tips and resources for maintaining a clean\, safe\, and healthy living environment. This workshop empowers tenants with the tools and knowledge to maintain their homes responsibly and economically. By fostering a healthy living space\, tenants can improve their quality of life\, maintain positive relationships with landlords\, and contribute to a supportive community. \n  \nKings River Commons – December 26th\, 2:00pm \n 
URL:https://fresnohousing.org/event/tenant-responsibility-and-good-housekeeping-2/
LOCATION:Kings River Commons\, 2020 Dinuba Ave\, Reedley\, CA\, United States
CATEGORIES:Life Skills,Tenant Education
ORGANIZER;CN="Jose Robledo":MAILTO:jrobledo@fresnohousing.org
END:VEVENT
BEGIN:VEVENT
DTSTART;TZID=America/Los_Angeles:20241223T143000
DTEND;TZID=America/Los_Angeles:20241223T153000
DTSTAMP:20260419T100913
CREATED:20241211T190542Z
LAST-MODIFIED:20241211T190542Z
UID:22196-1734964200-1734967800@fresnohousing.org
SUMMARY:How To Pay Your Rent Online
DESCRIPTION:I will discuss how residents who have not yet set up online accounts can do so to pay their rent online. I will walk through the process with them and try to get them set up by working directly with their property manager. I will walk them through the account setup\, a tutorial on how to pay their rent online\, as well as other resources available to them through Rentcafe. \n  \nCedar Courts – Monday\, December 23\, 2:30pm
URL:https://fresnohousing.org/event/how-to-pay-your-rent-online-2/
LOCATION:Cedar Courts\, CA\, United States
CATEGORIES:Education,Life Skills,Tenant Education
ORGANIZER;CN="Jose Robledo":MAILTO:jrobledo@fresnohousing.org
END:VEVENT
BEGIN:VEVENT
DTSTART;TZID=America/Los_Angeles:20241223T100000
DTEND;TZID=America/Los_Angeles:20241223T120000
DTSTAMP:20260419T100913
CREATED:20241211T191232Z
LAST-MODIFIED:20241211T191232Z
UID:22206-1734948000-1734955200@fresnohousing.org
SUMMARY:Book Club & Discussion/Study Session
DESCRIPTION:Book Club & Discussion/Study Session \nThis workshop is part of a series where residents and the program coordinator discuss the first two chapters of The Power of Now: A Guide to Spiritual Enlightenment. Each participant will discuss their notes\, main themes\, and other important information that they might have learned from the readings. Additionally\, we will use the extra time at the end of the workshop to have participants use this time to study in a group setting for their adult classes. \n  \nMagnolia Commons – December 23rd\, 10:00am
URL:https://fresnohousing.org/event/book-club-discussion-study-session/
LOCATION:Magnolia Commons\, 325 E Vine Street\, Fowler\, CA\, 93625\, United States
CATEGORIES:Community Engagement,Education,Literacy
ORGANIZER;CN="Jose Robledo":MAILTO:jrobledo@fresnohousing.org
END:VEVENT
BEGIN:VEVENT
DTSTART;TZID=America/Los_Angeles:20241219T110000
DTEND;TZID=America/Los_Angeles:20241219T120000
DTSTAMP:20260419T100913
CREATED:20241211T191105Z
LAST-MODIFIED:20241211T191105Z
UID:22204-1734606000-1734609600@fresnohousing.org
SUMMARY:Budgeting Tips - How to Create a Simple Budget
DESCRIPTION:Budgeting Tips – How to Create a Simple Budget \nThis presentation is crucial for low-income residents as it empowers them with practical strategies to manage their finances effectively\, even on a tight budget. By breaking down essential steps like prioritizing expenses\, tracking spending\, and planning for emergencies\, it offers actionable solutions to reduce financial stress and build stability. The goal is to help residents feel more in control of their money\, paving the way for better financial decisions and long-term security. \n  \nKings River Commons – Thursday\, December 19th 11:00am
URL:https://fresnohousing.org/event/budgeting-tips-how-to-create-a-simple-budget-2/
CATEGORIES:Financial Education
ORGANIZER;CN="Jose Robledo":MAILTO:jrobledo@fresnohousing.org
END:VEVENT
BEGIN:VEVENT
DTSTART;TZID=America/Los_Angeles:20241216T130000
DTEND;TZID=America/Los_Angeles:20241216T140000
DTSTAMP:20260419T100913
CREATED:20241211T190659Z
LAST-MODIFIED:20241211T190659Z
UID:22198-1734354000-1734357600@fresnohousing.org
SUMMARY:Benefits of Walking (Walking Club)/Coffee Hour and Community Discussion
DESCRIPTION:Purpose of walking club is to get residents active by walking their property to promote a healthy and active lifestyle as well fostering community interaction through the discussions during the walk. Coffee Hour and Community Discussion is facilitated by program coordinator to lead discussion on topics such as mental health\, stress management\, fostering positive relationships\, and making positive life choices in a collaborative and supportive environment with other residents. Will also provide resources on other relevant support resources and networks. \n  \nFultonia West – Monday\, December 16th\, 1:00 pm
URL:https://fresnohousing.org/event/benefits-of-walking-walking-club-coffee-hour-and-community-discussion/
LOCATION:Fultonia West\, 541 N Fulton Street\, Fresno\, CA\, 93728\, United States
CATEGORIES:Education,Health & Wellness,Physical Fitness
ORGANIZER;CN="Jose Robledo":MAILTO:jrobledo@fresnohousing.org
END:VEVENT
BEGIN:VEVENT
DTSTART;TZID=America/Los_Angeles:20241209T150000
DTEND;TZID=America/Los_Angeles:20241209T160000
DTSTAMP:20260419T100913
CREATED:20241211T190401Z
LAST-MODIFIED:20241211T190401Z
UID:22193-1733756400-1733760000@fresnohousing.org
SUMMARY:How to Pay Your Rent Online
DESCRIPTION:I will discuss how residents who have not yet set up online accounts can do so to pay their rent online. I will walk through the process with them and try to get them set up by working directly with their property manager. I will walk them through the account setup\, a tutorial on how to pay their rent online\, as well as other resources available to them through Rentcafe. \n  \nFultonia West – Monday\, December 9\, 3:00pm \nCedar Courts – Monday\, December 23\, 2:30pm
URL:https://fresnohousing.org/event/how-to-pay-your-rent-online/
LOCATION:Fultonia West\, 541 N Fulton Street\, Fresno\, CA\, 93728\, United States
CATEGORIES:Education,Life Skills,Tenant Education
ORGANIZER;CN="Jose Robledo":MAILTO:jrobledo@fresnohousing.org
END:VEVENT
BEGIN:VEVENT
DTSTART;TZID=America/Los_Angeles:20241209T100000
DTEND;TZID=America/Los_Angeles:20241209T120000
DTSTAMP:20260419T100913
CREATED:20241211T191001Z
LAST-MODIFIED:20241211T191001Z
UID:22202-1733738400-1733745600@fresnohousing.org
SUMMARY:Budgeting Tips - How to Create a Simple Budget
DESCRIPTION:Budgeting Tips – How to Create a Simple Budget \nThis presentation is crucial for low-income residents as it empowers them with practical strategies to manage their finances effectively\, even on a tight budget. By breaking down essential steps like prioritizing expenses\, tracking spending\, and planning for emergencies\, it offers actionable solutions to reduce financial stress and build stability. The goal is to help residents feel more in control of their money\, paving the way for better financial decisions and long-term security. \n  \nMagnolia Commons – Monday\, December 9th\, 10:00 am \n 
URL:https://fresnohousing.org/event/budgeting-tips-how-to-create-a-simple-budget/
LOCATION:Magnolia Commons\, 325 E Vine Street\, Fowler\, CA\, 93625\, United States
CATEGORIES:Financial Education
ORGANIZER;CN="Jose Robledo":MAILTO:jrobledo@fresnohousing.org
END:VEVENT
BEGIN:VEVENT
DTSTART;TZID=America/Los_Angeles:20241202T100000
DTEND;TZID=America/Los_Angeles:20241202T120000
DTSTAMP:20260419T100913
CREATED:20241211T190841Z
LAST-MODIFIED:20241211T190841Z
UID:22200-1733133600-1733140800@fresnohousing.org
SUMMARY:Neighborhood Resource Center – Comprehensive Youth Services
DESCRIPTION:Neighborhood Resource Center – Comprehensive Youth Services \nPartner organization offers services to tenants with DSS benefits applications\, renewals\, unemployment assistance\, application to other services\, etc. Provides assistance in 1:1 setting in a case management style and follows up with tenants about existing applications with their services or services that have been referred out. \n  \nMagnolia Commons – December 2\, 10:00am
URL:https://fresnohousing.org/event/neighborhood-resource-center-comprehensive-youth-services/
LOCATION:Magnolia Commons\, 325 E Vine Street\, Fowler\, CA\, 93625\, United States
CATEGORIES:Education,Health & Wellness,Life Skills,Parenting,Tenant Education,Utility Assistance
ORGANIZER;CN="Jose Robledo":MAILTO:jrobledo@fresnohousing.org
END:VEVENT
END:VCALENDAR