
BEGIN:VCALENDAR
VERSION:2.0
PRODID:-//Fresno Housing - ECPv6.15.12.2//NONSGML v1.0//EN
CALSCALE:GREGORIAN
METHOD:PUBLISH
X-WR-CALNAME:Fresno Housing
X-ORIGINAL-URL:https://fresnohousing.org
X-WR-CALDESC:Events for Fresno Housing
REFRESH-INTERVAL;VALUE=DURATION:PT1H
X-Robots-Tag:noindex
X-PUBLISHED-TTL:PT1H
BEGIN:VTIMEZONE
TZID:America/Los_Angeles
BEGIN:DAYLIGHT
TZOFFSETFROM:-0800
TZOFFSETTO:-0700
TZNAME:PDT
DTSTART:20240310T100000
END:DAYLIGHT
BEGIN:STANDARD
TZOFFSETFROM:-0700
TZOFFSETTO:-0800
TZNAME:PST
DTSTART:20241103T090000
END:STANDARD
BEGIN:DAYLIGHT
TZOFFSETFROM:-0800
TZOFFSETTO:-0700
TZNAME:PDT
DTSTART:20250309T100000
END:DAYLIGHT
BEGIN:STANDARD
TZOFFSETFROM:-0700
TZOFFSETTO:-0800
TZNAME:PST
DTSTART:20251102T090000
END:STANDARD
BEGIN:DAYLIGHT
TZOFFSETFROM:-0800
TZOFFSETTO:-0700
TZNAME:PDT
DTSTART:20260308T100000
END:DAYLIGHT
BEGIN:STANDARD
TZOFFSETFROM:-0700
TZOFFSETTO:-0800
TZNAME:PST
DTSTART:20261101T090000
END:STANDARD
END:VTIMEZONE
BEGIN:VEVENT
DTSTART;TZID=America/Los_Angeles:20250707T150000
DTEND;TZID=America/Los_Angeles:20250707T160000
DTSTAMP:20260423T100723
CREATED:20250630T200259Z
LAST-MODIFIED:20250630T200259Z
UID:23777-1751900400-1751904000@fresnohousing.org
SUMMARY:Family Yoga with CalFresh Healthy Living
DESCRIPTION:This wellness-focused session\, in collaboration with CalFresh Healthy Living\, introduced families to beginner-friendly yoga and movement activities. The event promoted physical health\, stress relief\, and family bonding in a fun and supportive environment. 
URL:https://fresnohousing.org/event/family-yoga-with-calfresh-healthy-living/
LOCATION:Blossom Trail Commons\, 285 J Street\, Sanger\, 93657\, United States
ORGANIZER;CN="Gladis Perez":MAILTO:gladisp@fresnohousing.org
END:VEVENT
BEGIN:VEVENT
DTSTART;TZID=America/Los_Angeles:20250703T150000
DTEND;TZID=America/Los_Angeles:20250703T170000
DTSTAMP:20260423T100723
CREATED:20250630T204823Z
LAST-MODIFIED:20250630T204823Z
UID:23894-1751554800-1751562000@fresnohousing.org
SUMMARY:CalFresh Healthy Living Adult and Youth Program
DESCRIPTION:The Cal Fresh Healthy Living Program in Fresno provides nutrition education\, physical activity instruction\, and environmental support for adults and youth in Fresno County. Participants learn to view falls as controllable\, set goals for staying active\, and make small changes to reduce fall risks at home1. The program aims to empower participants to choose healthier foods and beverages within a limited budget and lead more active lifestyles. 
URL:https://fresnohousing.org/event/calfresh-healthy-living-adult-and-youth-program/2025-07-03/
LOCATION:Kings River Commons\, 2020 Dinuba Ave\, Reedley\, CA\, United States
ORGANIZER;CN="Gladis Perez":MAILTO:gladisp@fresnohousing.org
END:VEVENT
BEGIN:VEVENT
DTSTART;TZID=America/Los_Angeles:20250703T100000
DTEND;TZID=America/Los_Angeles:20250703T120000
DTSTAMP:20260423T100723
CREATED:20250630T200539Z
LAST-MODIFIED:20250630T200539Z
UID:23783-1751536800-1751544000@fresnohousing.org
SUMMARY:Soft Skills Workshop
DESCRIPTION:In support of Workforce Development\, the Program Coordinator is educating residents on basic soft skills in the workplace such as email etiquette and telephone skills.
URL:https://fresnohousing.org/event/soft-skills-workshop/2025-07-03/
LOCATION:Paseo 55\, 1233 G Street\, Reedly\, CA\, 93654\, United States
ORGANIZER;CN="Gladis Perez":MAILTO:gladisp@fresnohousing.org
END:VEVENT
BEGIN:VEVENT
DTSTART;TZID=America/Los_Angeles:20250701T130000
DTEND;TZID=America/Los_Angeles:20250701T150000
DTSTAMP:20260423T100723
CREATED:20250630T202535Z
LAST-MODIFIED:20250630T202535Z
UID:23831-1751374800-1751382000@fresnohousing.org
SUMMARY:Summer Reading Program
DESCRIPTION:Youth residents are engaging in an interactive\, creative Summer Literacy Program. Each lesson allows participants to read a book and enjoy activities tied to the book subject provided by Program Coordinators of Fresno Housing. The program is open to the entire family and the activities vary from activity packets\, crafts\, brain breaks\, exercise\, and more. 
URL:https://fresnohousing.org/event/summer-reading-program-6/2025-07-01/
LOCATION:Blossom Trail Commons\, 285 J Street\, Sanger\, 93657\, United States
ORGANIZER;CN="Gladis Perez":MAILTO:gladisp@fresnohousing.org
END:VEVENT
BEGIN:VEVENT
DTSTART;TZID=America/Los_Angeles:20250701T100000
DTEND;TZID=America/Los_Angeles:20250701T120000
DTSTAMP:20260423T100723
CREATED:20250630T204100Z
LAST-MODIFIED:20250630T204100Z
UID:23878-1751364000-1751371200@fresnohousing.org
SUMMARY:Everyone On – Digital Class
DESCRIPTION:Everyone On will bring a holistic approach to digital inclusion that connects and intersects affordable internet and computers\, trains individuals and our residents on digital skills and resources and advances fair and just policies. 
URL:https://fresnohousing.org/event/everyone-on-digital-class/2025-07-01/
LOCATION:Cedar Courts\, CA\, United States
ORGANIZER;CN="Gladis Perez":MAILTO:gladisp@fresnohousing.org
END:VEVENT
BEGIN:VEVENT
DTSTART;TZID=America/Los_Angeles:20250616T100000
DTEND;TZID=America/Los_Angeles:20250616T120000
DTSTAMP:20260423T100723
CREATED:20250603T181921Z
LAST-MODIFIED:20250603T181921Z
UID:23427-1750068000-1750075200@fresnohousing.org
SUMMARY:GED – Adult Education - Mariposa Commons
DESCRIPTION:GED – Adult Education  \nThis workshop provides residents with information on free adult education opportunities. Topics included ESL\, GED programs\, career training\, and workforce preparation resources available. Partner Mary Lopez from State Center Adult Education Consortium gave flyers states she is not able to attend but will be available virtual if needed.   \nMariposa – June 16 @ 10am 
URL:https://fresnohousing.org/event/ged-adult-education-mariposa-commons/
LOCATION:Mariposa Commons\, 1011 W Atchison Ave.\, Fresno\, CA\, 93706\, United States
CATEGORIES:Education,GED/HS Diploma
ORGANIZER;CN="Gladis Perez":MAILTO:gladisp@fresnohousing.org
END:VEVENT
BEGIN:VEVENT
DTSTART;TZID=America/Los_Angeles:20250610T100000
DTEND;TZID=America/Los_Angeles:20250610T110000
DTSTAMP:20260423T100723
CREATED:20250603T181349Z
LAST-MODIFIED:20250603T181349Z
UID:23423-1749549600-1749553200@fresnohousing.org
SUMMARY:GED – Adult Education - Kings River Commons
DESCRIPTION:GED – Adult Education  \nThis workshop provides residents with information on free adult education opportunities. Topics included ESL\, GED programs\, career training\, and workforce preparation resources available. Partner Mary Lopez from State Center Adult Education Consortium gave flyers states she is not able to attend but will be available virtual if needed.   \n  \nKings River Commons – June 10 @ 10 am  \n 
URL:https://fresnohousing.org/event/ged-adult-education-kings-river-commons/
LOCATION:Kings River Commons\, 2020 Dinuba Ave\, Reedley\, CA\, United States
CATEGORIES:Education,GED/HS Diploma
ORGANIZER;CN="Gladis Perez":MAILTO:gladisp@fresnohousing.org
END:VEVENT
BEGIN:VEVENT
DTSTART;TZID=America/Los_Angeles:20250605T100000
DTEND;TZID=America/Los_Angeles:20250605T110000
DTSTAMP:20260423T100723
CREATED:20250603T181212Z
LAST-MODIFIED:20250603T181212Z
UID:23421-1749117600-1749121200@fresnohousing.org
SUMMARY:GED – Adult Education  - Paseo 55
DESCRIPTION:GED – Adult Education  \nThis workshop provides residents with information on free adult education opportunities. Topics included ESL\, GED programs\, career training\, and workforce preparation resources available. Partner Mary Lopez from State Center Adult Education Consortium gave flyers states she is not able to attend but will be available virtual if needed.   \nPaseo 55 – June 5 @ 10am  \n 
URL:https://fresnohousing.org/event/ged-adult-education-paseo-55/
LOCATION:Paseo 55\, 1233 G Street\, Reedly\, CA\, 93654\, United States
CATEGORIES:Education,GED/HS Diploma
ORGANIZER;CN="Gladis Perez":MAILTO:gladisp@fresnohousing.org
END:VEVENT
BEGIN:VEVENT
DTSTART;TZID=America/Los_Angeles:20250602T150000
DTEND;TZID=America/Los_Angeles:20250602T170000
DTSTAMP:20260423T100723
CREATED:20250603T181608Z
LAST-MODIFIED:20250603T181608Z
UID:23425-1748876400-1748883600@fresnohousing.org
SUMMARY:GED – Adult Education - Magnolia Commons
DESCRIPTION:GED – Adult Education  \nThis workshop provides residents with information on free adult education opportunities. Topics included ESL\, GED programs\, career training\, and workforce preparation resources available. Partner Mary Lopez from State Center Adult Education Consortium gave flyers states she is not able to attend but will be available virtual if needed.   \n  \nMagnolia – June 2 @ 3pm  \n 
URL:https://fresnohousing.org/event/ged-adult-education-magnolia-commons/
LOCATION:Magnolia Commons\, 325 E Vine Street\, Fowler\, CA\, 93625\, United States
CATEGORIES:Education,GED/HS Diploma
ORGANIZER;CN="Gladis Perez":MAILTO:gladisp@fresnohousing.org
END:VEVENT
BEGIN:VEVENT
DTSTART;TZID=America/Los_Angeles:20250602T100000
DTEND;TZID=America/Los_Angeles:20250602T120000
DTSTAMP:20260423T100723
CREATED:20250603T173336Z
LAST-MODIFIED:20250603T173839Z
UID:23377-1748858400-1748865600@fresnohousing.org
SUMMARY:Supporting Migrant Families: FUSD Migrant Program 
DESCRIPTION:Supporting Migrant Families: FUSD Migrant Program  \nThis workshop connects migrant families with educational support services\, community resources\, and programs designed to help students succeed academically and socially.  \nMariposa Commons – June 2 @ 10am  \n 
URL:https://fresnohousing.org/event/supporting-migrant-families-fusd-migrant-program/
LOCATION:Mariposa Commons\, 1011 W Atchison Ave.\, Fresno\, CA\, 93706\, United States
CATEGORIES:Diversity Equity & Inclusion,Education
ORGANIZER;CN="Gladis Perez":MAILTO:gladisp@fresnohousing.org
END:VEVENT
END:VCALENDAR