
BEGIN:VCALENDAR
VERSION:2.0
PRODID:-//Fresno Housing - ECPv6.15.12.2//NONSGML v1.0//EN
CALSCALE:GREGORIAN
METHOD:PUBLISH
X-ORIGINAL-URL:https://fresnohousing.org
X-WR-CALDESC:Events for Fresno Housing
REFRESH-INTERVAL;VALUE=DURATION:PT1H
X-Robots-Tag:noindex
X-PUBLISHED-TTL:PT1H
BEGIN:VTIMEZONE
TZID:America/Los_Angeles
BEGIN:DAYLIGHT
TZOFFSETFROM:-0800
TZOFFSETTO:-0700
TZNAME:PDT
DTSTART:20240310T100000
END:DAYLIGHT
BEGIN:STANDARD
TZOFFSETFROM:-0700
TZOFFSETTO:-0800
TZNAME:PST
DTSTART:20241103T090000
END:STANDARD
BEGIN:DAYLIGHT
TZOFFSETFROM:-0800
TZOFFSETTO:-0700
TZNAME:PDT
DTSTART:20250309T100000
END:DAYLIGHT
BEGIN:STANDARD
TZOFFSETFROM:-0700
TZOFFSETTO:-0800
TZNAME:PST
DTSTART:20251102T090000
END:STANDARD
BEGIN:DAYLIGHT
TZOFFSETFROM:-0800
TZOFFSETTO:-0700
TZNAME:PDT
DTSTART:20260308T100000
END:DAYLIGHT
BEGIN:STANDARD
TZOFFSETFROM:-0700
TZOFFSETTO:-0800
TZNAME:PST
DTSTART:20261101T090000
END:STANDARD
END:VTIMEZONE
BEGIN:VEVENT
DTSTART;TZID=America/Los_Angeles:20250827T100000
DTEND;TZID=America/Los_Angeles:20250827T120000
DTSTAMP:20260420T071339
CREATED:20250731T152914Z
LAST-MODIFIED:20250731T152914Z
UID:24240-1756288800-1756296000@fresnohousing.org
SUMMARY:First 5 Play and Learn - Cedar Courts
DESCRIPTION:First 5 Play and Learn  \nThe play and learn program support family\, friends\, and neighbors. If you are caring for a child 0-5 years old\, the program will provide workshops with tools\, music\, arts\, and resources to nurture environments for children to grow and learn.  \n  \nCedar Courts – August 6th\, 13th\, 20th\, ad 27th @ 10am-12pm  \n 
URL:https://fresnohousing.org/event/first-5-play-and-learn-cedar-courts/2025-08-27/
LOCATION:Cedar Courts\, CA\, United States
CATEGORIES:Early Learning,Education
ORGANIZER;CN="Gladis Perez":MAILTO:gladisp@fresnohousing.org
END:VEVENT
BEGIN:VEVENT
DTSTART;TZID=America/Los_Angeles:20250826T100000
DTEND;TZID=America/Los_Angeles:20250826T120000
DTSTAMP:20260420T071339
CREATED:20250804T210416Z
LAST-MODIFIED:20250804T211223Z
UID:24322-1756202400-1756209600@fresnohousing.org
SUMMARY:Stress Workshop - Paseo 55
DESCRIPTION:Stress Workshop \nIn the first module of this series on stress\, residents will discover what is stress\, why is it important\, and who it affects. We will dive into some of life’s most common stressors and explore the ways in which these might produce stressful feelings both inside and outside of the workplace. Events related to work\, family\, finances\, and relationships will be discussed. Residents will discover how stress can sometimes be positive and be given the opportunity to reflect on what you might be able to do about the specific stressors in your life. Recognize positive aspects of stress.  \n  \nPaseo 55- Aug 26th 10am –12pm  \n 
URL:https://fresnohousing.org/event/stress-workshop-paseo-55/
LOCATION:Paseo 55\, 1233 G Street\, Reedly\, CA\, 93654\, United States
CATEGORIES:Education,Health & Wellness
ORGANIZER;CN="Gladis Perez":MAILTO:gladisp@fresnohousing.org
END:VEVENT
BEGIN:VEVENT
DTSTART;TZID=America/Los_Angeles:20250825T100000
DTEND;TZID=America/Los_Angeles:20250825T120000
DTSTAMP:20260420T071339
CREATED:20250804T210152Z
LAST-MODIFIED:20250804T210209Z
UID:24320-1756116000-1756123200@fresnohousing.org
SUMMARY:Stress Workshop - Mariposa Commons
DESCRIPTION:Stress Workshop \nIn the first module of this series on stress\, residents will discover what is stress\, why is it important\, and who it affects. We will dive into some of life’s most common stressors and explore the ways in which these might produce stressful feelings both inside and outside of the workplace. Events related to work\, family\, finances\, and relationships will be discussed. Residents will discover how stress can sometimes be positive and be given the opportunity to reflect on what you might be able to do about the specific stressors in your life. Recognize positive aspects of stress.  \n  \nMariposa – Aug 25th 10am-12pm 
URL:https://fresnohousing.org/event/stress-workshop-mariposa-commons/
LOCATION:Mariposa Commons\, 1011 W Atchison Ave.\, Fresno\, CA\, 93706\, United States
CATEGORIES:Education,Health & Wellness
ORGANIZER;CN="Gladis Perez":MAILTO:gladisp@fresnohousing.org
END:VEVENT
BEGIN:VEVENT
DTSTART;TZID=America/Los_Angeles:20250820T100000
DTEND;TZID=America/Los_Angeles:20250820T120000
DTSTAMP:20260420T071339
CREATED:20250731T152914Z
LAST-MODIFIED:20250731T152914Z
UID:24239-1755684000-1755691200@fresnohousing.org
SUMMARY:First 5 Play and Learn - Cedar Courts
DESCRIPTION:First 5 Play and Learn  \nThe play and learn program support family\, friends\, and neighbors. If you are caring for a child 0-5 years old\, the program will provide workshops with tools\, music\, arts\, and resources to nurture environments for children to grow and learn.  \n  \nCedar Courts – August 6th\, 13th\, 20th\, ad 27th @ 10am-12pm  \n 
URL:https://fresnohousing.org/event/first-5-play-and-learn-cedar-courts/2025-08-20/
LOCATION:Cedar Courts\, CA\, United States
CATEGORIES:Early Learning,Education
ORGANIZER;CN="Gladis Perez":MAILTO:gladisp@fresnohousing.org
END:VEVENT
BEGIN:VEVENT
DTSTART;TZID=America/Los_Angeles:20250819T100000
DTEND;TZID=America/Los_Angeles:20250819T120000
DTSTAMP:20260420T071339
CREATED:20250804T211852Z
LAST-MODIFIED:20250804T211852Z
UID:24328-1755597600-1755604800@fresnohousing.org
SUMMARY:Introduction to Excel - Paseo 55
DESCRIPTION:Introduction to Excel  \nProgram coordinator will use Aspire to demonstrate excel training. This course is a basic introduction to Microsoft Excel. This course is an introduction to mathematical formulas and functions in Microsoft Excel. Learn and practice some of the most common formulas and functions that help you with basic calculations in spreadsheets.  \nPaseo – Aug 19th 10am-12pm  \n  \n 
URL:https://fresnohousing.org/event/introduction-to-excel-paseo-55/
LOCATION:Paseo 55\, 1233 G Street\, Reedly\, CA\, 93654\, United States
CATEGORIES:Soft-Skills,Workforce Development
ORGANIZER;CN="Gladis Perez":MAILTO:gladisp@fresnohousing.org
END:VEVENT
BEGIN:VEVENT
DTSTART;TZID=America/Los_Angeles:20250818T140000
DTEND;TZID=America/Los_Angeles:20250818T160000
DTSTAMP:20260420T071339
CREATED:20250804T205957Z
LAST-MODIFIED:20250804T205957Z
UID:24318-1755525600-1755532800@fresnohousing.org
SUMMARY:Stress Workshop - Magnolia
DESCRIPTION:Stress Workshop (Aspire Training)  \nIn the first module of this series on stress\, residents will discover what is stress\, why is it important\, and who it affects. We will dive into some of life’s most common stressors and explore the ways in which these might produce stressful feelings both inside and outside of the workplace. Events related to work\, family\, finances\, and relationships will be discussed. Residents will discover how stress can sometimes be positive and be given the opportunity to reflect on what you might be able to do about the specific stressors in your life. Recognize positive aspects of stress.  \n  \nMagnolia – Aug 18th 2pm-4pm  \n 
URL:https://fresnohousing.org/event/stress-workshop-magnolia/
LOCATION:Magnolia Commons\, 325 E Vine Street\, Fowler\, CA\, 93625\, United States
CATEGORIES:Education,Health & Wellness
ORGANIZER;CN="Gladis Perez":MAILTO:gladisp@fresnohousing.org
END:VEVENT
BEGIN:VEVENT
DTSTART;TZID=America/Los_Angeles:20250818T100000
DTEND;TZID=America/Los_Angeles:20250818T120000
DTSTAMP:20260420T071339
CREATED:20250804T213002Z
LAST-MODIFIED:20250804T213002Z
UID:24332-1755511200-1755518400@fresnohousing.org
SUMMARY:Introduction to Excel - Mariposa Commons
DESCRIPTION:Introduction to Excel  \nProgram coordinator will use Aspire to demonstrate excel training. This course is a basic introduction to Microsoft Excel. This course is an introduction to mathematical formulas and functions in Microsoft Excel. Learn and practice some of the most common formulas and functions that help you with basic calculations in spreadsheets.  \n  \nMariposa – Aug 18th @ 10am-12pm  \n  \n 
URL:https://fresnohousing.org/event/introduction-to-excel-mariposa-commons/
LOCATION:Mariposa Commons\, 1011 W Atchison Ave.\, Fresno\, CA\, 93706\, United States
CATEGORIES:Soft-Skills,Workforce Development
ORGANIZER;CN="Gladis Perez":MAILTO:gladisp@fresnohousing.org
END:VEVENT
BEGIN:VEVENT
DTSTART;TZID=America/Los_Angeles:20250814T100000
DTEND;TZID=America/Los_Angeles:20250814T120000
DTSTAMP:20260420T071339
CREATED:20250804T205827Z
LAST-MODIFIED:20250804T205827Z
UID:24316-1755165600-1755172800@fresnohousing.org
SUMMARY:Stress Workshop - Kings River Commons
DESCRIPTION:Stress Workshop \nIn the first module of this series on stress\, residents will discover what is stress\, why is it important\, and who it affects. We will dive into some of life’s most common stressors and explore the ways in which these might produce stressful feelings both inside and outside of the workplace. Events related to work\, family\, finances\, and relationships will be discussed. Residents will discover how stress can sometimes be positive and be given the opportunity to reflect on what you might be able to do about the specific stressors in your life. Recognize positive aspects of stress.  \n  \nKings River – Aug 14th 10am-12pm  \n 
URL:https://fresnohousing.org/event/stress-workshop-kings-river-commons/
LOCATION:Kings River Commons\, 2020 Dinuba Ave\, Reedley\, CA\, United States
CATEGORIES:Education,Health & Wellness
ORGANIZER;CN="Gladis Perez":MAILTO:gladisp@fresnohousing.org
END:VEVENT
BEGIN:VEVENT
DTSTART;TZID=America/Los_Angeles:20250813T100000
DTEND;TZID=America/Los_Angeles:20250813T120000
DTSTAMP:20260420T071339
CREATED:20250731T152914Z
LAST-MODIFIED:20250731T152914Z
UID:24238-1755079200-1755086400@fresnohousing.org
SUMMARY:First 5 Play and Learn - Cedar Courts
DESCRIPTION:First 5 Play and Learn  \nThe play and learn program support family\, friends\, and neighbors. If you are caring for a child 0-5 years old\, the program will provide workshops with tools\, music\, arts\, and resources to nurture environments for children to grow and learn.  \n  \nCedar Courts – August 6th\, 13th\, 20th\, ad 27th @ 10am-12pm  \n 
URL:https://fresnohousing.org/event/first-5-play-and-learn-cedar-courts/2025-08-13/
LOCATION:Cedar Courts\, CA\, United States
CATEGORIES:Early Learning,Education
ORGANIZER;CN="Gladis Perez":MAILTO:gladisp@fresnohousing.org
END:VEVENT
BEGIN:VEVENT
DTSTART;TZID=America/Los_Angeles:20250811T160000
DTEND;TZID=America/Los_Angeles:20250811T170000
DTSTAMP:20260420T071339
CREATED:20250731T155805Z
LAST-MODIFIED:20250731T160025Z
UID:24257-1754928000-1754931600@fresnohousing.org
SUMMARY:SOMAH Solar Tenant Education - Paseo 55
DESCRIPTION:SOMAH Solar Tenant Education  \n  \nSomah representatives will be at Pacific Gardens and Inyo Terrace to explain how solar works to provide tenant education materials\, clarity about utility bills\, and answer all FAQ’s.  \n  \nPaseo 55 – August 11 4pm-5pm  \n 
URL:https://fresnohousing.org/event/somah-solar-tenant-education-paseo-55/
LOCATION:Paseo 55\, 1233 G Street\, Reedly\, CA\, 93654\, United States
CATEGORIES:Tenant Education,Utility Assistance
ORGANIZER;CN="Gladis Perez":MAILTO:gladisp@fresnohousing.org
END:VEVENT
BEGIN:VEVENT
DTSTART;TZID=America/Los_Angeles:20250811T100000
DTEND;TZID=America/Los_Angeles:20250811T120000
DTSTAMP:20260420T071339
CREATED:20250804T205405Z
LAST-MODIFIED:20250804T205415Z
UID:24311-1754906400-1754913600@fresnohousing.org
SUMMARY:Big Fresno Fair Job Workshop - Cedar Courts
DESCRIPTION:Big Fresno Fair Job Workshop  \nProgram coordinator will demonstrate how to fill out Big Fresno Fair application and demonstrate how to build a resume.  \nCedar Courts- Aug 11th 10am-12pm  \n 
URL:https://fresnohousing.org/event/big-fresno-fair-job-workshop-cedar-courts/
LOCATION:Cedar Courts\, CA\, United States
CATEGORIES:Workforce Development
ORGANIZER;CN="Gladis Perez":MAILTO:gladisp@fresnohousing.org
END:VEVENT
BEGIN:VEVENT
DTSTART;TZID=America/Los_Angeles:20250808T100000
DTEND;TZID=America/Los_Angeles:20250808T120000
DTSTAMP:20260420T071339
CREATED:20250804T211719Z
LAST-MODIFIED:20250804T211719Z
UID:24326-1754647200-1754654400@fresnohousing.org
SUMMARY:Introduction to Excel - Kings River Commons
DESCRIPTION:Introduction to Excel  \nProgram coordinator will use Aspire to demonstrate excel training. This course is a basic introduction to Microsoft Excel. This course is an introduction to mathematical formulas and functions in Microsoft Excel. Learn and practice some of the most common formulas and functions that help you with basic calculations in spreadsheets.  \nKings River – Aug 8th 10am-12pm  \n  \n 
URL:https://fresnohousing.org/event/introduction-to-excel-kings-river-commons/
LOCATION:Kings River Commons\, 2020 Dinuba Ave\, Reedley\, CA\, United States
CATEGORIES:Soft-Skills,Workforce Development
ORGANIZER;CN="Gladis Perez":MAILTO:gladisp@fresnohousing.org
END:VEVENT
BEGIN:VEVENT
DTSTART;TZID=America/Los_Angeles:20250806T100000
DTEND;TZID=America/Los_Angeles:20250806T120000
DTSTAMP:20260420T071339
CREATED:20250731T152914Z
LAST-MODIFIED:20250731T152914Z
UID:24237-1754474400-1754481600@fresnohousing.org
SUMMARY:First 5 Play and Learn - Cedar Courts
DESCRIPTION:First 5 Play and Learn  \nThe play and learn program support family\, friends\, and neighbors. If you are caring for a child 0-5 years old\, the program will provide workshops with tools\, music\, arts\, and resources to nurture environments for children to grow and learn.  \n  \nCedar Courts – August 6th\, 13th\, 20th\, ad 27th @ 10am-12pm  \n 
URL:https://fresnohousing.org/event/first-5-play-and-learn-cedar-courts/2025-08-06/
LOCATION:Cedar Courts\, CA\, United States
CATEGORIES:Early Learning,Education
ORGANIZER;CN="Gladis Perez":MAILTO:gladisp@fresnohousing.org
END:VEVENT
BEGIN:VEVENT
DTSTART;TZID=America/Los_Angeles:20250804T120000
DTEND;TZID=America/Los_Angeles:20250804T140000
DTSTAMP:20260420T071339
CREATED:20250804T212815Z
LAST-MODIFIED:20250804T212815Z
UID:24330-1754308800-1754316000@fresnohousing.org
SUMMARY:Introduction to Excel  - Magnolia Commons
DESCRIPTION:Introduction to Excel  \nProgram coordinator will use Aspire to demonstrate excel training. This course is a basic introduction to Microsoft Excel. This course is an introduction to mathematical formulas and functions in Microsoft Excel. Learn and practice some of the most common formulas and functions that help you with basic calculations in spreadsheets.  \nMagnolia – Aug 4th 12pm-2pm  \n 
URL:https://fresnohousing.org/event/introduction-to-excel-magnolia-commons/
LOCATION:Magnolia Commons\, 325 E Vine Street\, Fowler\, CA\, 93625\, United States
CATEGORIES:Soft-Skills,Workforce Development
ORGANIZER;CN="Gladis Perez":MAILTO:gladisp@fresnohousing.org
END:VEVENT
BEGIN:VEVENT
DTSTART;TZID=America/Los_Angeles:20250804T100000
DTEND;TZID=America/Los_Angeles:20250804T120000
DTSTAMP:20260420T071339
CREATED:20250804T204904Z
LAST-MODIFIED:20250804T204904Z
UID:24309-1754301600-1754308800@fresnohousing.org
SUMMARY:Big Fresno Fair Job Workshop  - Mariposa
DESCRIPTION:Big Fresno Fair Job Workshop  \nProgram coordinator will demonstrate how to fill out Big Fresno Fair application and demonstrate how to build a resume.  \nMariposa – Aug 4th 10am-12pm  \n  \n 
URL:https://fresnohousing.org/event/big-fresno-fair-job-workshop-mariposa/
LOCATION:Mariposa Commons\, 1011 W Atchison Ave.\, Fresno\, CA\, 93706\, United States
CATEGORIES:Workforce Development
ORGANIZER;CN="Gladis Perez":MAILTO:gladisp@fresnohousing.org
END:VEVENT
BEGIN:VEVENT
DTSTART;TZID=America/Los_Angeles:20250730T130000
DTEND;TZID=America/Los_Angeles:20250730T150000
DTSTAMP:20260420T071339
CREATED:20250630T202535Z
LAST-MODIFIED:20250630T202535Z
UID:23838-1753880400-1753887600@fresnohousing.org
SUMMARY:Summer Reading Program
DESCRIPTION:Youth residents are engaging in an interactive\, creative Summer Literacy Program. Each lesson allows participants to read a book and enjoy activities tied to the book subject provided by Program Coordinators of Fresno Housing. The program is open to the entire family and the activities vary from activity packets\, crafts\, brain breaks\, exercise\, and more. 
URL:https://fresnohousing.org/event/summer-reading-program-6/2025-07-30/
LOCATION:Blossom Trail Commons\, 285 J Street\, Sanger\, 93657\, United States
ORGANIZER;CN="Gladis Perez":MAILTO:gladisp@fresnohousing.org
END:VEVENT
BEGIN:VEVENT
DTSTART;TZID=America/Los_Angeles:20250729T130000
DTEND;TZID=America/Los_Angeles:20250729T150000
DTSTAMP:20260420T071339
CREATED:20250630T202535Z
LAST-MODIFIED:20250630T202535Z
UID:23837-1753794000-1753801200@fresnohousing.org
SUMMARY:Summer Reading Program
DESCRIPTION:Youth residents are engaging in an interactive\, creative Summer Literacy Program. Each lesson allows participants to read a book and enjoy activities tied to the book subject provided by Program Coordinators of Fresno Housing. The program is open to the entire family and the activities vary from activity packets\, crafts\, brain breaks\, exercise\, and more. 
URL:https://fresnohousing.org/event/summer-reading-program-6/2025-07-29/
LOCATION:Blossom Trail Commons\, 285 J Street\, Sanger\, 93657\, United States
ORGANIZER;CN="Gladis Perez":MAILTO:gladisp@fresnohousing.org
END:VEVENT
BEGIN:VEVENT
DTSTART;TZID=America/Los_Angeles:20250729T100000
DTEND;TZID=America/Los_Angeles:20250729T120000
DTSTAMP:20260420T071339
CREATED:20250630T204100Z
LAST-MODIFIED:20250630T204100Z
UID:23882-1753783200-1753790400@fresnohousing.org
SUMMARY:Everyone On – Digital Class
DESCRIPTION:Everyone On will bring a holistic approach to digital inclusion that connects and intersects affordable internet and computers\, trains individuals and our residents on digital skills and resources and advances fair and just policies. 
URL:https://fresnohousing.org/event/everyone-on-digital-class/2025-07-29/
LOCATION:Cedar Courts\, CA\, United States
ORGANIZER;CN="Gladis Perez":MAILTO:gladisp@fresnohousing.org
END:VEVENT
BEGIN:VEVENT
DTSTART;TZID=America/Los_Angeles:20250724T150000
DTEND;TZID=America/Los_Angeles:20250724T170000
DTSTAMP:20260420T071339
CREATED:20250630T204823Z
LAST-MODIFIED:20250630T204823Z
UID:23897-1753369200-1753376400@fresnohousing.org
SUMMARY:CalFresh Healthy Living Adult and Youth Program
DESCRIPTION:The Cal Fresh Healthy Living Program in Fresno provides nutrition education\, physical activity instruction\, and environmental support for adults and youth in Fresno County. Participants learn to view falls as controllable\, set goals for staying active\, and make small changes to reduce fall risks at home1. The program aims to empower participants to choose healthier foods and beverages within a limited budget and lead more active lifestyles. 
URL:https://fresnohousing.org/event/calfresh-healthy-living-adult-and-youth-program/2025-07-24/
LOCATION:Kings River Commons\, 2020 Dinuba Ave\, Reedley\, CA\, United States
ORGANIZER;CN="Gladis Perez":MAILTO:gladisp@fresnohousing.org
END:VEVENT
BEGIN:VEVENT
DTSTART;TZID=America/Los_Angeles:20250724T100000
DTEND;TZID=America/Los_Angeles:20250724T120000
DTSTAMP:20260420T071339
CREATED:20250630T200539Z
LAST-MODIFIED:20250630T200539Z
UID:23786-1753351200-1753358400@fresnohousing.org
SUMMARY:Soft Skills Workshop
DESCRIPTION:In support of Workforce Development\, the Program Coordinator is educating residents on basic soft skills in the workplace such as email etiquette and telephone skills.
URL:https://fresnohousing.org/event/soft-skills-workshop/2025-07-24/
LOCATION:Paseo 55\, 1233 G Street\, Reedly\, CA\, 93654\, United States
ORGANIZER;CN="Gladis Perez":MAILTO:gladisp@fresnohousing.org
END:VEVENT
BEGIN:VEVENT
DTSTART;TZID=America/Los_Angeles:20250723T130000
DTEND;TZID=America/Los_Angeles:20250723T150000
DTSTAMP:20260420T071339
CREATED:20250630T202535Z
LAST-MODIFIED:20250630T202535Z
UID:23836-1753275600-1753282800@fresnohousing.org
SUMMARY:Summer Reading Program
DESCRIPTION:Youth residents are engaging in an interactive\, creative Summer Literacy Program. Each lesson allows participants to read a book and enjoy activities tied to the book subject provided by Program Coordinators of Fresno Housing. The program is open to the entire family and the activities vary from activity packets\, crafts\, brain breaks\, exercise\, and more. 
URL:https://fresnohousing.org/event/summer-reading-program-6/2025-07-23/
LOCATION:Blossom Trail Commons\, 285 J Street\, Sanger\, 93657\, United States
ORGANIZER;CN="Gladis Perez":MAILTO:gladisp@fresnohousing.org
END:VEVENT
BEGIN:VEVENT
DTSTART;TZID=America/Los_Angeles:20250723T080000
DTEND;TZID=America/Los_Angeles:20250723T170000
DTSTAMP:20260420T071339
CREATED:20250630T200410Z
LAST-MODIFIED:20250630T200410Z
UID:23781-1753257600-1753290000@fresnohousing.org
SUMMARY:Soft Skills Workshops
DESCRIPTION:In support of Workforce Development\, the Program Coordinator is educating residents on basic soft skills in the workplace such as email etiquette and telephone skills. 
URL:https://fresnohousing.org/event/soft-skills-workshops/2025-07-23/
LOCATION:Mariposa Commons\, 1011 W Atchison Ave.\, Fresno\, CA\, 93706\, United States
ORGANIZER;CN="Gladis Perez":MAILTO:gladisp@fresnohousing.org
END:VEVENT
BEGIN:VEVENT
DTSTART;TZID=America/Los_Angeles:20250722T130000
DTEND;TZID=America/Los_Angeles:20250722T150000
DTSTAMP:20260420T071339
CREATED:20250630T202535Z
LAST-MODIFIED:20250630T202535Z
UID:23835-1753189200-1753196400@fresnohousing.org
SUMMARY:Summer Reading Program
DESCRIPTION:Youth residents are engaging in an interactive\, creative Summer Literacy Program. Each lesson allows participants to read a book and enjoy activities tied to the book subject provided by Program Coordinators of Fresno Housing. The program is open to the entire family and the activities vary from activity packets\, crafts\, brain breaks\, exercise\, and more. 
URL:https://fresnohousing.org/event/summer-reading-program-6/2025-07-22/
LOCATION:Blossom Trail Commons\, 285 J Street\, Sanger\, 93657\, United States
ORGANIZER;CN="Gladis Perez":MAILTO:gladisp@fresnohousing.org
END:VEVENT
BEGIN:VEVENT
DTSTART;TZID=America/Los_Angeles:20250722T100000
DTEND;TZID=America/Los_Angeles:20250722T120000
DTSTAMP:20260420T071339
CREATED:20250630T204100Z
LAST-MODIFIED:20250630T204100Z
UID:23881-1753178400-1753185600@fresnohousing.org
SUMMARY:Everyone On – Digital Class
DESCRIPTION:Everyone On will bring a holistic approach to digital inclusion that connects and intersects affordable internet and computers\, trains individuals and our residents on digital skills and resources and advances fair and just policies. 
URL:https://fresnohousing.org/event/everyone-on-digital-class/2025-07-22/
LOCATION:Cedar Courts\, CA\, United States
ORGANIZER;CN="Gladis Perez":MAILTO:gladisp@fresnohousing.org
END:VEVENT
BEGIN:VEVENT
DTSTART;TZID=America/Los_Angeles:20250717T150000
DTEND;TZID=America/Los_Angeles:20250717T170000
DTSTAMP:20260420T071339
CREATED:20250630T204823Z
LAST-MODIFIED:20250630T204823Z
UID:23896-1752764400-1752771600@fresnohousing.org
SUMMARY:CalFresh Healthy Living Adult and Youth Program
DESCRIPTION:The Cal Fresh Healthy Living Program in Fresno provides nutrition education\, physical activity instruction\, and environmental support for adults and youth in Fresno County. Participants learn to view falls as controllable\, set goals for staying active\, and make small changes to reduce fall risks at home1. The program aims to empower participants to choose healthier foods and beverages within a limited budget and lead more active lifestyles. 
URL:https://fresnohousing.org/event/calfresh-healthy-living-adult-and-youth-program/2025-07-17/
LOCATION:Kings River Commons\, 2020 Dinuba Ave\, Reedley\, CA\, United States
ORGANIZER;CN="Gladis Perez":MAILTO:gladisp@fresnohousing.org
END:VEVENT
BEGIN:VEVENT
DTSTART;TZID=America/Los_Angeles:20250717T100000
DTEND;TZID=America/Los_Angeles:20250717T120000
DTSTAMP:20260420T071339
CREATED:20250630T200539Z
LAST-MODIFIED:20250630T200539Z
UID:23785-1752746400-1752753600@fresnohousing.org
SUMMARY:Soft Skills Workshop
DESCRIPTION:In support of Workforce Development\, the Program Coordinator is educating residents on basic soft skills in the workplace such as email etiquette and telephone skills.
URL:https://fresnohousing.org/event/soft-skills-workshop/2025-07-17/
LOCATION:Paseo 55\, 1233 G Street\, Reedly\, CA\, 93654\, United States
ORGANIZER;CN="Gladis Perez":MAILTO:gladisp@fresnohousing.org
END:VEVENT
BEGIN:VEVENT
DTSTART;TZID=America/Los_Angeles:20250716T130000
DTEND;TZID=America/Los_Angeles:20250716T150000
DTSTAMP:20260420T071339
CREATED:20250630T202535Z
LAST-MODIFIED:20250630T202535Z
UID:23834-1752670800-1752678000@fresnohousing.org
SUMMARY:Summer Reading Program
DESCRIPTION:Youth residents are engaging in an interactive\, creative Summer Literacy Program. Each lesson allows participants to read a book and enjoy activities tied to the book subject provided by Program Coordinators of Fresno Housing. The program is open to the entire family and the activities vary from activity packets\, crafts\, brain breaks\, exercise\, and more. 
URL:https://fresnohousing.org/event/summer-reading-program-6/2025-07-16/
LOCATION:Blossom Trail Commons\, 285 J Street\, Sanger\, 93657\, United States
ORGANIZER;CN="Gladis Perez":MAILTO:gladisp@fresnohousing.org
END:VEVENT
BEGIN:VEVENT
DTSTART;TZID=America/Los_Angeles:20250716T080000
DTEND;TZID=America/Los_Angeles:20250716T170000
DTSTAMP:20260420T071339
CREATED:20250630T200410Z
LAST-MODIFIED:20250630T200410Z
UID:23780-1752652800-1752685200@fresnohousing.org
SUMMARY:Soft Skills Workshops
DESCRIPTION:In support of Workforce Development\, the Program Coordinator is educating residents on basic soft skills in the workplace such as email etiquette and telephone skills. 
URL:https://fresnohousing.org/event/soft-skills-workshops/2025-07-16/
LOCATION:Mariposa Commons\, 1011 W Atchison Ave.\, Fresno\, CA\, 93706\, United States
ORGANIZER;CN="Gladis Perez":MAILTO:gladisp@fresnohousing.org
END:VEVENT
BEGIN:VEVENT
DTSTART;TZID=America/Los_Angeles:20250715T130000
DTEND;TZID=America/Los_Angeles:20250715T150000
DTSTAMP:20260420T071339
CREATED:20250630T202535Z
LAST-MODIFIED:20250630T202535Z
UID:23833-1752584400-1752591600@fresnohousing.org
SUMMARY:Summer Reading Program
DESCRIPTION:Youth residents are engaging in an interactive\, creative Summer Literacy Program. Each lesson allows participants to read a book and enjoy activities tied to the book subject provided by Program Coordinators of Fresno Housing. The program is open to the entire family and the activities vary from activity packets\, crafts\, brain breaks\, exercise\, and more. 
URL:https://fresnohousing.org/event/summer-reading-program-6/2025-07-15/
LOCATION:Blossom Trail Commons\, 285 J Street\, Sanger\, 93657\, United States
ORGANIZER;CN="Gladis Perez":MAILTO:gladisp@fresnohousing.org
END:VEVENT
BEGIN:VEVENT
DTSTART;TZID=America/Los_Angeles:20250715T100000
DTEND;TZID=America/Los_Angeles:20250715T120000
DTSTAMP:20260420T071339
CREATED:20250630T204100Z
LAST-MODIFIED:20250630T204100Z
UID:23880-1752573600-1752580800@fresnohousing.org
SUMMARY:Everyone On – Digital Class
DESCRIPTION:Everyone On will bring a holistic approach to digital inclusion that connects and intersects affordable internet and computers\, trains individuals and our residents on digital skills and resources and advances fair and just policies. 
URL:https://fresnohousing.org/event/everyone-on-digital-class/2025-07-15/
LOCATION:Cedar Courts\, CA\, United States
ORGANIZER;CN="Gladis Perez":MAILTO:gladisp@fresnohousing.org
END:VEVENT
END:VCALENDAR