
BEGIN:VCALENDAR
VERSION:2.0
PRODID:-//Fresno Housing - ECPv6.15.12.2//NONSGML v1.0//EN
CALSCALE:GREGORIAN
METHOD:PUBLISH
X-ORIGINAL-URL:https://fresnohousing.org
X-WR-CALDESC:Events for Fresno Housing
REFRESH-INTERVAL;VALUE=DURATION:PT1H
X-Robots-Tag:noindex
X-PUBLISHED-TTL:PT1H
BEGIN:VTIMEZONE
TZID:America/Los_Angeles
BEGIN:DAYLIGHT
TZOFFSETFROM:-0800
TZOFFSETTO:-0700
TZNAME:PDT
DTSTART:20220313T100000
END:DAYLIGHT
BEGIN:STANDARD
TZOFFSETFROM:-0700
TZOFFSETTO:-0800
TZNAME:PST
DTSTART:20221106T090000
END:STANDARD
BEGIN:DAYLIGHT
TZOFFSETFROM:-0800
TZOFFSETTO:-0700
TZNAME:PDT
DTSTART:20230312T100000
END:DAYLIGHT
BEGIN:STANDARD
TZOFFSETFROM:-0700
TZOFFSETTO:-0800
TZNAME:PST
DTSTART:20231105T090000
END:STANDARD
BEGIN:DAYLIGHT
TZOFFSETFROM:-0800
TZOFFSETTO:-0700
TZNAME:PDT
DTSTART:20240310T100000
END:DAYLIGHT
BEGIN:STANDARD
TZOFFSETFROM:-0700
TZOFFSETTO:-0800
TZNAME:PST
DTSTART:20241103T090000
END:STANDARD
END:VTIMEZONE
BEGIN:VEVENT
DTSTART;TZID=America/Los_Angeles:20231024T093000
DTEND;TZID=America/Los_Angeles:20231024T103000
DTSTAMP:20260425T064205
CREATED:20231002T181833Z
LAST-MODIFIED:20231002T182009Z
UID:19927-1698139800-1698143400@fresnohousing.org
SUMMARY:Bingo and Breast Cancer Awareness
DESCRIPTION:A workshop presentation provided by California Health Collaborative on Breast Cancer Awareness followed by a game of bingo.  \n  \n 
URL:https://fresnohousing.org/event/bingo-and-breast-cancer-awareness/
LOCATION:Parc Grove Commons\, 2674 E Clinton Ave\, Fresno\, CA\, 93703\, United States
CATEGORIES:Education,Health & Wellness
ORGANIZER;CN="Edward Gama":MAILTO:egama@fresnohousing.org
END:VEVENT
BEGIN:VEVENT
DTSTART;TZID=America/Los_Angeles:20231003T093000
DTEND;TZID=America/Los_Angeles:20231003T113000
DTSTAMP:20260425T064205
CREATED:20231002T180755Z
LAST-MODIFIED:20231002T180818Z
UID:19875-1696325400-1696332600@fresnohousing.org
SUMMARY:Play & Learn at Parc Grove Commons
DESCRIPTION:First 5 Fresno County   \nThis is an ongoing class for registered residents with children 0-5. This class will assist parents with socialization\, early learning\, resources\, trainings\, and much more.
URL:https://fresnohousing.org/event/play-learn-at-parc-grove-commons/2023-10-03/
LOCATION:Parc Grove Commons\, 2674 E Clinton Ave\, Fresno\, CA\, 93703\, United States
CATEGORIES:Early Learning,Education,Education,Health & Wellness
ORGANIZER;CN="Edward Gama":MAILTO:egama@fresnohousing.org
END:VEVENT
BEGIN:VEVENT
DTSTART;TZID=America/Los_Angeles:20231002T173000
DTEND;TZID=America/Los_Angeles:20231002T193000
DTSTAMP:20260425T064205
CREATED:20231002T191906Z
LAST-MODIFIED:20231002T191906Z
UID:19964-1696267800-1696275000@fresnohousing.org
SUMMARY:Black Parenting Education Program
DESCRIPTION:First 5 Fresno County  \n  \nThe effective Black Parenting Program is open to participants who are African American/Black and have children between the ages of 0-5 years. The class will run weekly on Wednesdays for 16 weeks. Participants will receive a workbook\, peer support\, therapeutic services and a swag bag. Food will be provided at each workshop as well as fun raffles. 
URL:https://fresnohousing.org/event/black-parenting-education-program-2/2023-10-02/
LOCATION:Parc Grove Commons\, 2674 E Clinton Ave\, Fresno\, CA\, 93703\, United States
CATEGORIES:Parenting
ORGANIZER;CN="Edward Gama":MAILTO:egama@fresnohousing.org
END:VEVENT
BEGIN:VEVENT
DTSTART;TZID=America/Los_Angeles:20230926T150000
DTEND;TZID=America/Los_Angeles:20230926T150000
DTSTAMP:20260425T064205
CREATED:20230914T235658Z
LAST-MODIFIED:20230914T235658Z
UID:19503-1695740400-1695740400@fresnohousing.org
SUMMARY:Safe Kids Coalition-Helmet Safety Class
DESCRIPTION:Youth residents will learn about Helmet safety class with a local Fresno Police Officer and will be fitted for a helmet once completed.  
URL:https://fresnohousing.org/event/safe-kids-coalition-helmet-safety-class/
LOCATION:Parc Grove Commons\, 2674 E Clinton Ave\, Fresno\, CA\, 93703\, United States
CATEGORIES:After-School Program,Education,Safety
ORGANIZER;CN="Edward Gama":MAILTO:egama@fresnohousing.org
END:VEVENT
BEGIN:VEVENT
DTSTART;TZID=America/Los_Angeles:20230921T150000
DTEND;TZID=America/Los_Angeles:20230921T150000
DTSTAMP:20260425T064205
CREATED:20230914T235518Z
LAST-MODIFIED:20230914T235518Z
UID:19501-1695308400-1695308400@fresnohousing.org
SUMMARY:Valley Air District-Children Education Workshop
DESCRIPTION:Youth residents will learn about air quality in the Central Valley. A workshop will focus on air quality and be a participant in a coloring contest from Valley Air District.  \n 
URL:https://fresnohousing.org/event/valley-air-district-children-education-workshop/
LOCATION:Parc Grove Commons\, 2674 E Clinton Ave\, Fresno\, CA\, 93703\, United States
CATEGORIES:After-School Program,Education,Education,Health & Wellness
ORGANIZER;CN="Edward Gama":MAILTO:egama@fresnohousing.org
END:VEVENT
BEGIN:VEVENT
DTSTART;TZID=America/Los_Angeles:20230919T100000
DTEND;TZID=America/Los_Angeles:20230919T110000
DTSTAMP:20260425T064205
CREATED:20230914T235022Z
LAST-MODIFIED:20230914T235022Z
UID:19495-1695117600-1695121200@fresnohousing.org
SUMMARY:Library Card Registration with Fresno County Library
DESCRIPTION:In celebration of Library Card Registration Month (September)\, residents are welcome to register for a library card on site. Fresno County Librarians will be on site to create new library cards when registered.  \n 
URL:https://fresnohousing.org/event/library-card-registration-with-fresno-county-library-2/
LOCATION:Renaissance at Trinity\, 524 S Trinity\, Fresno\, CA\, 93706\, United States
CATEGORIES:Education,Life Skills,Literacy
ORGANIZER;CN="Edward Gama":MAILTO:egama@fresnohousing.org
END:VEVENT
BEGIN:VEVENT
DTSTART;TZID=America/Los_Angeles:20230911T150000
DTEND;TZID=America/Los_Angeles:20230911T150000
DTSTAMP:20260425T064205
CREATED:20230914T234842Z
LAST-MODIFIED:20230914T234842Z
UID:19493-1694444400-1694444400@fresnohousing.org
SUMMARY:Library Card Registration with Fresno County Library
DESCRIPTION:In celebration of Library Card Registration Month (September)\, residents are welcome to register for a library card on site. Fresno County Librarians will be on site to create new library cards when registered.  \n 
URL:https://fresnohousing.org/event/library-card-registration-with-fresno-county-library/
LOCATION:Parc Grove Commons\, 2674 E Clinton Ave\, Fresno\, CA\, 93703\, United States
CATEGORIES:After-School Program,Community Engagement,Education,Literacy
ORGANIZER;CN="Edward Gama":MAILTO:egama@fresnohousing.org
END:VEVENT
BEGIN:VEVENT
DTSTART;TZID=America/Los_Angeles:20230814T150000
DTEND;TZID=America/Los_Angeles:20230814T150000
DTSTAMP:20260425T064205
CREATED:20220826T181556Z
LAST-MODIFIED:20230918T162713Z
UID:17008-1692025200-1692025200@fresnohousing.org
SUMMARY:Parc Grove Commons/NW Afterschool Program
DESCRIPTION:Youth are able to get homework help\, be involved in their community\, and participate in recreational activities.
URL:https://fresnohousing.org/event/afterschool-program/2023-08-14/
LOCATION:Parc Grove Commons\, 2674 E Clinton Ave\, Fresno\, CA\, 93703\, United States
CATEGORIES:After-School Program,Education
ORGANIZER;CN="Edward Gama":MAILTO:egama@fresnohousing.org
END:VEVENT
BEGIN:VEVENT
DTSTART;TZID=America/Los_Angeles:20230811T090000
DTEND;TZID=America/Los_Angeles:20230811T110000
DTSTAMP:20260425T064205
CREATED:20230913T233013Z
LAST-MODIFIED:20230913T233013Z
UID:19406-1691744400-1691751600@fresnohousing.org
SUMMARY:Resident Empowerment Partner Meeting
DESCRIPTION:An annual meeting for partnerships to be introduced\, focusing on our new MOU process\, and introducing our Resident Empowerment Department Team. This event will highlight our work\, processes of forming a partnership and logo guidelines.
URL:https://fresnohousing.org/event/resident-empowerment-partner-meeting/
LOCATION:Legacy Commons\, Fresno\, 93706
CATEGORIES:Community Engagement
ORGANIZER;CN="Edward Gama":MAILTO:egama@fresnohousing.org
END:VEVENT
BEGIN:VEVENT
DTSTART;TZID=America/Los_Angeles:20230810T090000
DTEND;TZID=America/Los_Angeles:20230810T113000
DTSTAMP:20260425T064205
CREATED:20230913T232514Z
LAST-MODIFIED:20230913T232514Z
UID:19401-1691658000-1691667000@fresnohousing.org
SUMMARY:High Blood Pressure
DESCRIPTION:This workshop is specific for resident adults to learn about High Blood Pressure with our partner\, Family Healthcare Network. Residents will learn about symptoms\, when to contact a doctor\, and will have access to a high blood pressure wellness check on site.
URL:https://fresnohousing.org/event/high-blood-pressure/
LOCATION:Parc Grove Commons\, 2674 E Clinton Ave\, Fresno\, CA\, 93703\, United States
CATEGORIES:Health & Wellness
ORGANIZER;CN="":MAILTO:purchasing@pavlovagency.com
END:VEVENT
BEGIN:VEVENT
DTSTART;TZID=America/Los_Angeles:20230809T100000
DTEND;TZID=America/Los_Angeles:20230809T110000
DTSTAMP:20260425T064205
CREATED:20230914T175956Z
LAST-MODIFIED:20230914T175956Z
UID:19460-1691575200-1691578800@fresnohousing.org
SUMMARY:Indigenous People’s Awareness Workshop
DESCRIPTION:This workshop will highlight significant historical events for Indigenous Americans\, the struggle of indigenous people groups\, and ways residents can respond. 
URL:https://fresnohousing.org/event/indigenous-peoples-awareness-workshop-7/
LOCATION:Parc Grove Commons\, 2674 E Clinton Ave\, Fresno\, CA\, 93703\, United States
CATEGORIES:Diversity Equity & Inclusion
ORGANIZER;CN="Edward Gama":MAILTO:egama@fresnohousing.org
END:VEVENT
BEGIN:VEVENT
DTSTART;TZID=America/Los_Angeles:20230802T093000
DTEND;TZID=America/Los_Angeles:20230802T110000
DTSTAMP:20260425T064205
CREATED:20230913T232808Z
LAST-MODIFIED:20230913T232808Z
UID:19404-1690968600-1690974000@fresnohousing.org
SUMMARY:Fresno Center Workshop
DESCRIPTION:This workshop will give an overview of the agency and will link them to several resources in Fresno regarding health\, education\, social services\, financial literacy courses\, and much more. The Fresno Center will also inform residents about upcoming programming and workshops they are working on with the community.
URL:https://fresnohousing.org/event/fresno-center-workshop/
LOCATION:Parc Grove Commons\, 2674 E Clinton Ave\, Fresno\, CA\, 93703\, United States
CATEGORIES:Education,Education,Financial Education,Health & Wellness,Nutrition
ORGANIZER;CN="Edward Gama":MAILTO:egama@fresnohousing.org
END:VEVENT
END:VCALENDAR