
BEGIN:VCALENDAR
VERSION:2.0
PRODID:-//Fresno Housing - ECPv6.15.12.2//NONSGML v1.0//EN
CALSCALE:GREGORIAN
METHOD:PUBLISH
X-WR-CALNAME:Fresno Housing
X-ORIGINAL-URL:https://fresnohousing.org
X-WR-CALDESC:Events for Fresno Housing
REFRESH-INTERVAL;VALUE=DURATION:PT1H
X-Robots-Tag:noindex
X-PUBLISHED-TTL:PT1H
BEGIN:VTIMEZONE
TZID:America/Los_Angeles
BEGIN:DAYLIGHT
TZOFFSETFROM:-0800
TZOFFSETTO:-0700
TZNAME:PDT
DTSTART:20240310T100000
END:DAYLIGHT
BEGIN:STANDARD
TZOFFSETFROM:-0700
TZOFFSETTO:-0800
TZNAME:PST
DTSTART:20241103T090000
END:STANDARD
BEGIN:DAYLIGHT
TZOFFSETFROM:-0800
TZOFFSETTO:-0700
TZNAME:PDT
DTSTART:20250309T100000
END:DAYLIGHT
BEGIN:STANDARD
TZOFFSETFROM:-0700
TZOFFSETTO:-0800
TZNAME:PST
DTSTART:20251102T090000
END:STANDARD
BEGIN:DAYLIGHT
TZOFFSETFROM:-0800
TZOFFSETTO:-0700
TZNAME:PDT
DTSTART:20260308T100000
END:DAYLIGHT
BEGIN:STANDARD
TZOFFSETFROM:-0700
TZOFFSETTO:-0800
TZNAME:PST
DTSTART:20261101T090000
END:STANDARD
END:VTIMEZONE
BEGIN:VEVENT
DTSTART;TZID=America/Los_Angeles:20250804T120000
DTEND;TZID=America/Los_Angeles:20250804T140000
DTSTAMP:20260424T060541
CREATED:20250804T212815Z
LAST-MODIFIED:20250804T212815Z
UID:24330-1754308800-1754316000@fresnohousing.org
SUMMARY:Introduction to Excel  - Magnolia Commons
DESCRIPTION:Introduction to Excel  \nProgram coordinator will use Aspire to demonstrate excel training. This course is a basic introduction to Microsoft Excel. This course is an introduction to mathematical formulas and functions in Microsoft Excel. Learn and practice some of the most common formulas and functions that help you with basic calculations in spreadsheets.  \nMagnolia – Aug 4th 12pm-2pm  \n 
URL:https://fresnohousing.org/event/introduction-to-excel-magnolia-commons/
LOCATION:Magnolia Commons\, 325 E Vine Street\, Fowler\, CA\, 93625\, United States
CATEGORIES:Soft-Skills,Workforce Development
ORGANIZER;CN="Gladis Perez":MAILTO:gladisp@fresnohousing.org
END:VEVENT
END:VCALENDAR