
BEGIN:VCALENDAR
VERSION:2.0
PRODID:-//Fresno Housing - ECPv6.15.12.2//NONSGML v1.0//EN
CALSCALE:GREGORIAN
METHOD:PUBLISH
X-ORIGINAL-URL:https://fresnohousing.org
X-WR-CALDESC:Events for Fresno Housing
REFRESH-INTERVAL;VALUE=DURATION:PT1H
X-Robots-Tag:noindex
X-PUBLISHED-TTL:PT1H
BEGIN:VTIMEZONE
TZID:America/Los_Angeles
BEGIN:DAYLIGHT
TZOFFSETFROM:-0800
TZOFFSETTO:-0700
TZNAME:PDT
DTSTART:20240310T100000
END:DAYLIGHT
BEGIN:STANDARD
TZOFFSETFROM:-0700
TZOFFSETTO:-0800
TZNAME:PST
DTSTART:20241103T090000
END:STANDARD
BEGIN:DAYLIGHT
TZOFFSETFROM:-0800
TZOFFSETTO:-0700
TZNAME:PDT
DTSTART:20250309T100000
END:DAYLIGHT
BEGIN:STANDARD
TZOFFSETFROM:-0700
TZOFFSETTO:-0800
TZNAME:PST
DTSTART:20251102T090000
END:STANDARD
BEGIN:DAYLIGHT
TZOFFSETFROM:-0800
TZOFFSETTO:-0700
TZNAME:PDT
DTSTART:20260308T100000
END:DAYLIGHT
BEGIN:STANDARD
TZOFFSETFROM:-0700
TZOFFSETTO:-0800
TZNAME:PST
DTSTART:20261101T090000
END:STANDARD
END:VTIMEZONE
BEGIN:VEVENT
DTSTART;TZID=America/Los_Angeles:20250318T140000
DTEND;TZID=America/Los_Angeles:20250318T160000
DTSTAMP:20260424T174801
CREATED:20250304T175630Z
LAST-MODIFIED:20250304T175630Z
UID:22876-1742306400-1742313600@fresnohousing.org
SUMMARY:LIHEAP Application Information Assistance 
DESCRIPTION:LIHEAP Application Information Assistance  \nResidents receive information and assistance with completing their LIHEAP applications. By appointment only.   \nContact coordinator to make your appointment: Marcella McIntosh\, mobile (559)513-5183  \n  \nMonarch at Chinatown – 3/11/2025 10am-12pm  and  3/18/2025 2-4pm  \n  \n  \n 
URL:https://fresnohousing.org/event/liheap-application-information-assistance-2/2025-03-18/
LOCATION:The Monarch @ Chinatown\, 1101 F Street\, Fresno\, CA\, 93706\, United States
CATEGORIES:Utility Assistance
END:VEVENT
END:VCALENDAR