
BEGIN:VCALENDAR
VERSION:2.0
PRODID:-//Fresno Housing - ECPv6.15.12.2//NONSGML v1.0//EN
CALSCALE:GREGORIAN
METHOD:PUBLISH
X-ORIGINAL-URL:https://fresnohousing.org
X-WR-CALDESC:Events for Fresno Housing
REFRESH-INTERVAL;VALUE=DURATION:PT1H
X-Robots-Tag:noindex
X-PUBLISHED-TTL:PT1H
BEGIN:VTIMEZONE
TZID:America/Los_Angeles
BEGIN:DAYLIGHT
TZOFFSETFROM:-0800
TZOFFSETTO:-0700
TZNAME:PDT
DTSTART:20240310T100000
END:DAYLIGHT
BEGIN:STANDARD
TZOFFSETFROM:-0700
TZOFFSETTO:-0800
TZNAME:PST
DTSTART:20241103T090000
END:STANDARD
BEGIN:DAYLIGHT
TZOFFSETFROM:-0800
TZOFFSETTO:-0700
TZNAME:PDT
DTSTART:20250309T100000
END:DAYLIGHT
BEGIN:STANDARD
TZOFFSETFROM:-0700
TZOFFSETTO:-0800
TZNAME:PST
DTSTART:20251102T090000
END:STANDARD
BEGIN:DAYLIGHT
TZOFFSETFROM:-0800
TZOFFSETTO:-0700
TZNAME:PDT
DTSTART:20260308T100000
END:DAYLIGHT
BEGIN:STANDARD
TZOFFSETFROM:-0700
TZOFFSETTO:-0800
TZNAME:PST
DTSTART:20261101T090000
END:STANDARD
END:VTIMEZONE
BEGIN:VEVENT
DTSTART;TZID=America/Los_Angeles:20250312T100000
DTEND;TZID=America/Los_Angeles:20250312T130000
DTSTAMP:20260422T003729
CREATED:20250304T175807Z
LAST-MODIFIED:20250304T175807Z
UID:22878-1741773600-1741784400@fresnohousing.org
SUMMARY:LIHEAP Application Information Assistance 
DESCRIPTION:LIHEAP Application Information Assistance  \nResidents receive information and assistance with completing their LIHEAP applications. By appointment only.   \nContact coordinator to make your appointment: Marcella McIntosh\, mobile (559)513-5183  \n  \nYosemite Village – 3/12/2025 & 3/17/2025 10am-1pm  \n  \n 
URL:https://fresnohousing.org/event/liheap-application-information-assistance-3/2025-03-12/
LOCATION:Yosemite Village Apartments\, 709 W California Ave.\, Fresno\, CA\, 93706\, United States
CATEGORIES:Utility Assistance
END:VEVENT
END:VCALENDAR