
BEGIN:VCALENDAR
VERSION:2.0
PRODID:-//Fresno Housing - ECPv6.15.12.2//NONSGML v1.0//EN
CALSCALE:GREGORIAN
METHOD:PUBLISH
X-WR-CALNAME:Fresno Housing
X-ORIGINAL-URL:https://fresnohousing.org
X-WR-CALDESC:Events for Fresno Housing
REFRESH-INTERVAL;VALUE=DURATION:PT1H
X-Robots-Tag:noindex
X-PUBLISHED-TTL:PT1H
BEGIN:VTIMEZONE
TZID:America/Los_Angeles
BEGIN:DAYLIGHT
TZOFFSETFROM:-0800
TZOFFSETTO:-0700
TZNAME:PDT
DTSTART:20240310T100000
END:DAYLIGHT
BEGIN:STANDARD
TZOFFSETFROM:-0700
TZOFFSETTO:-0800
TZNAME:PST
DTSTART:20241103T090000
END:STANDARD
BEGIN:DAYLIGHT
TZOFFSETFROM:-0800
TZOFFSETTO:-0700
TZNAME:PDT
DTSTART:20250309T100000
END:DAYLIGHT
BEGIN:STANDARD
TZOFFSETFROM:-0700
TZOFFSETTO:-0800
TZNAME:PST
DTSTART:20251102T090000
END:STANDARD
BEGIN:DAYLIGHT
TZOFFSETFROM:-0800
TZOFFSETTO:-0700
TZNAME:PDT
DTSTART:20260308T100000
END:DAYLIGHT
BEGIN:STANDARD
TZOFFSETFROM:-0700
TZOFFSETTO:-0800
TZNAME:PST
DTSTART:20261101T090000
END:STANDARD
END:VTIMEZONE
BEGIN:VEVENT
DTSTART;TZID=America/Los_Angeles:20250626T160000
DTEND;TZID=America/Los_Angeles:20250626T170000
DTSTAMP:20260421T062355
CREATED:20250602T225938Z
LAST-MODIFIED:20250602T230623Z
UID:23338-1750953600-1750957200@fresnohousing.org
SUMMARY:Home Buying 101 - RE/MAX Success (Realtors) - Corozon del Valle
DESCRIPTION:Home Buying 101 – RE/MAX Success (Realtors)  \nThe workshop provides an opportunity for residents to unlock the keys to home ownership with guidance through the home buying process.  The education presents a general understanding of mortgage options and navigating the real estate market.  Residents learn how to empower themselves with knowledge for a confident and informed homebuying journey.   \n  \nCorazon del Valle – June 26\, 2025 @ 4pm 
URL:https://fresnohousing.org/event/home-buying-101-re-max-success-realtors-corozon-del-valle/
LOCATION:Corazon del Valle\, 36307 Fresno St.\, Huron\, CA\, 93234\, United States
CATEGORIES:Financial Education,Homebuyer's Education
ORGANIZER;CN="Eunice Gomez":MAILTO:egomez@fresnohousing.org
END:VEVENT
END:VCALENDAR