
BEGIN:VCALENDAR
VERSION:2.0
PRODID:-//Fresno Housing - ECPv6.15.12.2//NONSGML v1.0//EN
CALSCALE:GREGORIAN
METHOD:PUBLISH
X-WR-CALNAME:Fresno Housing
X-ORIGINAL-URL:https://fresnohousing.org
X-WR-CALDESC:Events for Fresno Housing
REFRESH-INTERVAL;VALUE=DURATION:PT1H
X-Robots-Tag:noindex
X-PUBLISHED-TTL:PT1H
BEGIN:VTIMEZONE
TZID:America/Los_Angeles
BEGIN:DAYLIGHT
TZOFFSETFROM:-0800
TZOFFSETTO:-0700
TZNAME:PDT
DTSTART:20240310T100000
END:DAYLIGHT
BEGIN:STANDARD
TZOFFSETFROM:-0700
TZOFFSETTO:-0800
TZNAME:PST
DTSTART:20241103T090000
END:STANDARD
BEGIN:DAYLIGHT
TZOFFSETFROM:-0800
TZOFFSETTO:-0700
TZNAME:PDT
DTSTART:20250309T100000
END:DAYLIGHT
BEGIN:STANDARD
TZOFFSETFROM:-0700
TZOFFSETTO:-0800
TZNAME:PST
DTSTART:20251102T090000
END:STANDARD
BEGIN:DAYLIGHT
TZOFFSETFROM:-0800
TZOFFSETTO:-0700
TZNAME:PDT
DTSTART:20260308T100000
END:DAYLIGHT
BEGIN:STANDARD
TZOFFSETFROM:-0700
TZOFFSETTO:-0800
TZNAME:PST
DTSTART:20261101T090000
END:STANDARD
END:VTIMEZONE
BEGIN:VEVENT
DTSTART;TZID=America/Los_Angeles:20250211T100000
DTEND;TZID=America/Los_Angeles:20250211T120000
DTSTAMP:20260421T233226
CREATED:20250204T185031Z
LAST-MODIFIED:20250204T185031Z
UID:22531-1739268000-1739275200@fresnohousing.org
SUMMARY:American Heart Association - CPR - Fairview Heights/De Soto Gardens
DESCRIPTION:American Heart Association – CPR \nRepresentative will be on site to explain the new methods of CPR.  Education and hands-on practice will be offered.  Class does not offer a certification.\, \n  \nFairview Heights/De Soto – Tuesday\, February 11th\, 2025 @ 10am \n 
URL:https://fresnohousing.org/event/american-heart-association-cpr-fairview-heights-de-soto-gardens/
LOCATION:Fairview Heights\, 2195 S Maud Ave\, Fresno\, California\, 93706
CATEGORIES:Education,Health & Wellness
ORGANIZER;CN="Danny Bravo":MAILTO:dbravo@fresnohousing.org
END:VEVENT
BEGIN:VEVENT
DTSTART;TZID=America/Los_Angeles:20250211T123000
DTEND;TZID=America/Los_Angeles:20250211T143000
DTSTAMP:20260421T233226
CREATED:20250204T231544Z
LAST-MODIFIED:20250204T231544Z
UID:22649-1739277000-1739284200@fresnohousing.org
SUMMARY:Vision Board Workshop - Viking Village
DESCRIPTION:Vision Board Workshops: \nThe workshops will help residents create a vision/resolution board to define and clarify their personal goals to represent their aspirations\, values\, and outcomes for the year.  Coordinators will help to guide residents through the process of reflecting on their vision by collecting materials to assemble their vision boards.  Boards can represent personal\, professional\, health\, financial growth\, etc. and serves as a reminder and motivation for residents to keep their goals in the forefront.  Workshops will be held at the following sites: \n  \nViking Village – February 7th @ 2pm and February 11th @ 12:30pm
URL:https://fresnohousing.org/event/vision-board-workshop-viking-village/2025-02-11/
LOCATION:Viking Village\, 4260 N Chestnut Ave.\, Fresno\, CA\, 93726\, United States
CATEGORIES:Arts and Crafts,Health & Wellness
ORGANIZER;CN="Ali Vue":MAILTO:pvue@fresnohousing.org
END:VEVENT
BEGIN:VEVENT
DTSTART;TZID=America/Los_Angeles:20250212T100000
DTEND;TZID=America/Los_Angeles:20250212T120000
DTSTAMP:20260421T233226
CREATED:20250204T210902Z
LAST-MODIFIED:20250204T210902Z
UID:22576-1739354400-1739361600@fresnohousing.org
SUMMARY:Diabetes Empowerment Education Program (DEP)
DESCRIPTION:Diabetes Empowerment Education Program (DEP): \nTwo representatives from the collaborative health prevention program will meet once a week for two hours for 6-weeks to do a class where they educate and demonstrate healthy work habitats for diabetes and resources as well. \n  \nParc Grove Commons \nRenaissance at Par Grove (Vets) \n  \nFebruary 5th\, 12th\, 19th\, & 26th 10am – 12pm
URL:https://fresnohousing.org/event/diabetes-empowerment-education-program-dep/2025-02-12/
LOCATION:Parc Grove Commons\, 2674 E Clinton Ave\, Fresno\, CA\, 93703\, United States
CATEGORIES:Education,Health & Wellness
ORGANIZER;CN="Ali Vue":MAILTO:pvue@fresnohousing.org
END:VEVENT
BEGIN:VEVENT
DTSTART;TZID=America/Los_Angeles:20250212T130000
DTEND;TZID=America/Los_Angeles:20250212T140000
DTSTAMP:20260421T233226
CREATED:20250204T211934Z
LAST-MODIFIED:20250226T194306Z
UID:22759-1739365200-1739368800@fresnohousing.org
SUMMARY:Food to Share Food Distribution - Parc Grove Commons
DESCRIPTION:Food to Share Food Distribution \n  \nFresno Ministry Food to Share will be providing food distribution every Wednesday. \n  \nParc Grove Commons \nFebruary 5th\, 12th\, 19th\, and 26th
URL:https://fresnohousing.org/event/food-to-share-food-distribution-parc-grove-commons/2025-02-12/
LOCATION:Parc Grove Commons\, 2674 E Clinton Ave\, Fresno\, CA\, 93703\, United States
CATEGORIES:Health & Wellness,Meal Program,Nutrition
ORGANIZER;CN="Ali Vue":MAILTO:pvue@fresnohousing.org
END:VEVENT
BEGIN:VEVENT
DTSTART;TZID=America/Los_Angeles:20250212T130000
DTEND;TZID=America/Los_Angeles:20250212T150000
DTSTAMP:20260421T233226
CREATED:20250204T230933Z
LAST-MODIFIED:20250204T230933Z
UID:22642-1739365200-1739372400@fresnohousing.org
SUMMARY:Vision Board Workshop - Yosemite Village
DESCRIPTION:Vision Board Workshops: \nThe workshops will help residents create a vision/resolution board to define and clarify their personal goals to represent their aspirations\, values\, and outcomes for the year.  Coordinators will help to guide residents through the process of reflecting on their vision by collecting materials to assemble their vision boards.  Boards can represent personal\, professional\, health\, financial growth\, etc. and serves as a reminder and motivation for residents to keep their goals in the forefront.  Workshops will be held at the following sites: \n  \nYosemite Village – Wednesday February 12\, 2025 1-3pm \n 
URL:https://fresnohousing.org/event/vision-board-workshop-yosemite-village/
LOCATION:Yosemite Village Apartments\, 709 W California Ave.\, Fresno\, CA\, 93706\, United States
CATEGORIES:Arts and Crafts,Health & Wellness
END:VEVENT
BEGIN:VEVENT
DTSTART;TZID=America/Los_Angeles:20250213T120000
DTEND;TZID=America/Los_Angeles:20250213T140000
DTSTAMP:20260421T233226
CREATED:20250204T231319Z
LAST-MODIFIED:20250204T231319Z
UID:22646-1739448000-1739455200@fresnohousing.org
SUMMARY:Vision Board Workshop - Renaissance at Parc Grove (Vets)
DESCRIPTION:Vision Board Workshops: \nThe workshops will help residents create a vision/resolution board to define and clarify their personal goals to represent their aspirations\, values\, and outcomes for the year.  Coordinators will help to guide residents through the process of reflecting on their vision by collecting materials to assemble their vision boards.  Boards can represent personal\, professional\, health\, financial growth\, etc. and serves as a reminder and motivation for residents to keep their goals in the forefront.  Workshops will be held at the following sites: \n  \nRenaissance at Parc Grove (Vets) – Thursday 13th @ 12pm \n 
URL:https://fresnohousing.org/event/vision-board-workshop-renaissance-at-parc-grove-vets/
LOCATION:Renaissance at Parc Grove\, 2720 E Clinton Ave\, Fresno\, CA\, 93703\, United States
CATEGORIES:Arts and Crafts,Health & Wellness
ORGANIZER;CN="Ali Vue":MAILTO:pvue@fresnohousing.org
END:VEVENT
BEGIN:VEVENT
DTSTART;TZID=America/Los_Angeles:20250213T130000
DTEND;TZID=America/Los_Angeles:20250213T140000
DTSTAMP:20260421T233226
CREATED:20250204T190741Z
LAST-MODIFIED:20250204T205054Z
UID:22544-1739451600-1739455200@fresnohousing.org
SUMMARY:American Heart Assoc. - Hypertension/Heart Health & Healthy Habits - Legacy Commons
DESCRIPTION:American Heart Association – Hypertension/Heart Health and Healthy Habits \nRepresentative will be on site to explain the importance of maintaining healthy habits for your heart. Residents will also learn how to also make healthy life choices. \n  \nLegacy Commons –  February 13th\, 2025 @ 1pm \n 
URL:https://fresnohousing.org/event/american-heart-assoc-hypertension-heart-health-healthy-habits-legacy-commons/
LOCATION:Legacy Commons\, Fresno\, 93706
CATEGORIES:Education,Health & Wellness
ORGANIZER;CN="Danny Bravo":MAILTO:dbravo@fresnohousing.org
END:VEVENT
BEGIN:VEVENT
DTSTART;TZID=America/Los_Angeles:20250218T100000
DTEND;TZID=America/Los_Angeles:20250218T120000
DTSTAMP:20260421T233226
CREATED:20250204T184502Z
LAST-MODIFIED:20250204T184502Z
UID:22527-1739872800-1739880000@fresnohousing.org
SUMMARY:American Heart Association - CPR - Cueva de Oso
DESCRIPTION:American Heart Association – CPR \nRepresentative will be on site to explain the new methods of CPR.  Education and hands-on practice will be offered.  Class does not offer a certification.\, \n  \nCueva de Oso – Tuesday\, February 18\, 2025 @ 10am
URL:https://fresnohousing.org/event/american-heart-association-cpr-cueva-de-oso/
LOCATION:Cueva De Oso\, CA\, United States
CATEGORIES:Education,Health & Wellness
ORGANIZER;CN="Irma Garcia":MAILTO:igarcia@fresnohousing.org
END:VEVENT
BEGIN:VEVENT
DTSTART;TZID=America/Los_Angeles:20250219T100000
DTEND;TZID=America/Los_Angeles:20250219T120000
DTSTAMP:20260421T233226
CREATED:20250204T210902Z
LAST-MODIFIED:20250204T210902Z
UID:22577-1739959200-1739966400@fresnohousing.org
SUMMARY:Diabetes Empowerment Education Program (DEP)
DESCRIPTION:Diabetes Empowerment Education Program (DEP): \nTwo representatives from the collaborative health prevention program will meet once a week for two hours for 6-weeks to do a class where they educate and demonstrate healthy work habitats for diabetes and resources as well. \n  \nParc Grove Commons \nRenaissance at Par Grove (Vets) \n  \nFebruary 5th\, 12th\, 19th\, & 26th 10am – 12pm
URL:https://fresnohousing.org/event/diabetes-empowerment-education-program-dep/2025-02-19/
LOCATION:Parc Grove Commons\, 2674 E Clinton Ave\, Fresno\, CA\, 93703\, United States
CATEGORIES:Education,Health & Wellness
ORGANIZER;CN="Ali Vue":MAILTO:pvue@fresnohousing.org
END:VEVENT
BEGIN:VEVENT
DTSTART;TZID=America/Los_Angeles:20250219T103000
DTEND;TZID=America/Los_Angeles:20250219T123000
DTSTAMP:20260421T233226
CREATED:20250204T185804Z
LAST-MODIFIED:20250204T185804Z
UID:22538-1739961000-1739968200@fresnohousing.org
SUMMARY:Young People in Recovery Program Information - Yosemite Village
DESCRIPTION:Young People in Recovery Program Information \nAttendees are invited to learn about the program offered by “Young People in Recovery” (YPR). They learn about their mission\, services and resources\, as well as how each can be tailored to help the individual heal and grow post recovery. \n  \nYosemite Village – Wednesday February 19\, 2025 10:30am-12:30pm
URL:https://fresnohousing.org/event/young-people-in-recovery-program-information-yosemite-village/
LOCATION:Yosemite Village Apartments\, 709 W California Ave.\, Fresno\, CA\, 93706\, United States
CATEGORIES:Education,Health & Wellness,Life Skills,Workforce Development
END:VEVENT
BEGIN:VEVENT
DTSTART;TZID=America/Los_Angeles:20250219T110000
DTEND;TZID=America/Los_Angeles:20250219T130000
DTSTAMP:20260421T233226
CREATED:20250204T185202Z
LAST-MODIFIED:20250204T185202Z
UID:22533-1739962800-1739970000@fresnohousing.org
SUMMARY:American Heart Association - CPR - Legacy Commons
DESCRIPTION:American Heart Association – CPR \nRepresentative will be on site to explain the new methods of CPR.  Education and hands-on practice will be offered.  Class does not offer a certification.\, \n  \nLegacy Commons – Wednesday\, February 19th\, 2025 @ 11am
URL:https://fresnohousing.org/event/american-heart-association-cpr-legacy-commons/
LOCATION:Legacy Commons\, Fresno\, 93706
CATEGORIES:Education,Health & Wellness
ORGANIZER;CN="Danny Bravo":MAILTO:dbravo@fresnohousing.org
END:VEVENT
BEGIN:VEVENT
DTSTART;TZID=America/Los_Angeles:20250219T130000
DTEND;TZID=America/Los_Angeles:20250219T140000
DTSTAMP:20260421T233226
CREATED:20250204T211934Z
LAST-MODIFIED:20250226T194307Z
UID:22760-1739970000-1739973600@fresnohousing.org
SUMMARY:Food to Share Food Distribution - Parc Grove Commons
DESCRIPTION:Food to Share Food Distribution \n  \nFresno Ministry Food to Share will be providing food distribution every Wednesday. \n  \nParc Grove Commons \nFebruary 5th\, 12th\, 19th\, and 26th
URL:https://fresnohousing.org/event/food-to-share-food-distribution-parc-grove-commons/2025-02-19/
LOCATION:Parc Grove Commons\, 2674 E Clinton Ave\, Fresno\, CA\, 93703\, United States
CATEGORIES:Health & Wellness,Meal Program,Nutrition
ORGANIZER;CN="Ali Vue":MAILTO:pvue@fresnohousing.org
END:VEVENT
BEGIN:VEVENT
DTSTART;TZID=America/Los_Angeles:20250219T163000
DTEND;TZID=America/Los_Angeles:20250219T173000
DTSTAMP:20260421T233226
CREATED:20250204T225812Z
LAST-MODIFIED:20250204T230154Z
UID:22634-1739982600-1739986200@fresnohousing.org
SUMMARY:Education - Linking Families & Teens Workshop
DESCRIPTION:Education – Linking Families & Teens Workshop \nResidents will learn how to communicate with their teenagers regarding school and life. \n  \nCorazon del Valle 2/19/25 @ 4:30pm; 2/12/25 @ 4:30pm
URL:https://fresnohousing.org/event/education-linking-families-teens-workshop/
LOCATION:Corazon del Valle\, 36307 Fresno St.\, Huron\, CA\, 93234\, United States
CATEGORIES:Health & Wellness,Parenting
ORGANIZER;CN="Eunice Gomez":MAILTO:egomez@fresnohousing.org
END:VEVENT
BEGIN:VEVENT
DTSTART;TZID=America/Los_Angeles:20250224T100000
DTEND;TZID=America/Los_Angeles:20250224T110000
DTSTAMP:20260421T233226
CREATED:20250204T192755Z
LAST-MODIFIED:20250204T192755Z
UID:22556-1740391200-1740394800@fresnohousing.org
SUMMARY:Mindfulness Mondays
DESCRIPTION:Mindfulness Mondays \nAdult residents will learn an array of different mindful exercises and topics such as mindful breathing\, mindful listening\, mindful body awareness\, mindful eating\, heartfulness\, and gratitude. Practicing mindfulness involves breathing methods\, guided imagery\, and other practices to relax the body and mind and help reduce stress. This can also help regulate emotions\, burnouts\, and other stressors in their life. \n  \nLegacy Commons \nFebruary 17th 10am-11am \nFebruary 24th 10am-11am
URL:https://fresnohousing.org/event/mindfulness-mondays-2/
LOCATION:Legacy Commons\, Fresno\, 93706
CATEGORIES:Education,Health & Wellness
ORGANIZER;CN="Danny Bravo":MAILTO:dbravo@fresnohousing.org
END:VEVENT
BEGIN:VEVENT
DTSTART;TZID=America/Los_Angeles:20250224T130000
DTEND;TZID=America/Los_Angeles:20250224T150000
DTSTAMP:20260421T233226
CREATED:20250204T184742Z
LAST-MODIFIED:20250204T184742Z
UID:22529-1740402000-1740409200@fresnohousing.org
SUMMARY:American Heart Association - CPR - Oak Grove Commons
DESCRIPTION:American Heart Association – CPR \nRepresentative will be on site to explain the new methods of CPR.  Education and hands-on practice will be offered.  Class does not offer a certification.\, \n  \nOak Grove Commons – Monday\, February 24\, 2025 @ 1pm \n 
URL:https://fresnohousing.org/event/american-heart-association-cpr-oak-grove-commons/
LOCATION:Oak Grove\, 595 Bigger St.\, Parlier\, CA\, 93648\, United States
CATEGORIES:Education,Health & Wellness
ORGANIZER;CN="Irma Garcia":MAILTO:igarcia@fresnohousing.org
END:VEVENT
BEGIN:VEVENT
DTSTART;TZID=America/Los_Angeles:20250225T100000
DTEND;TZID=America/Los_Angeles:20250225T120000
DTSTAMP:20260421T233226
CREATED:20250204T230550Z
LAST-MODIFIED:20250204T230550Z
UID:22638-1740477600-1740484800@fresnohousing.org
SUMMARY:Vision Board Workshop - Linnea Villas
DESCRIPTION:Vision Board Workshops: \nThe workshops will help residents create a vision/resolution board to define and clarify their personal goals to represent their aspirations\, values\, and outcomes for the year.  Coordinators will help to guide residents through the process of reflecting on their vision by collecting materials to assemble their vision boards.  Boards can represent personal\, professional\, health\, financial growth\, etc. and serves as a reminder and motivation for residents to keep their goals in the forefront.  Workshops will be held at the following sites: \n  \nLinnaea Villas – Tuesday\, February 25\, 2025 @ 10am \n 
URL:https://fresnohousing.org/event/vision-board-workshop-linnea-villas/
LOCATION:Linnaea Villas\, 2530 Sierra St\,\, Kingsburg\, California\, 93631
CATEGORIES:Arts and Crafts,Health & Wellness
ORGANIZER;CN="Irma Garcia":MAILTO:igarcia@fresnohousing.org
END:VEVENT
BEGIN:VEVENT
DTSTART;TZID=America/Los_Angeles:20250226T100000
DTEND;TZID=America/Los_Angeles:20250226T120000
DTSTAMP:20260421T233226
CREATED:20250204T210902Z
LAST-MODIFIED:20250204T210902Z
UID:22578-1740564000-1740571200@fresnohousing.org
SUMMARY:Diabetes Empowerment Education Program (DEP)
DESCRIPTION:Diabetes Empowerment Education Program (DEP): \nTwo representatives from the collaborative health prevention program will meet once a week for two hours for 6-weeks to do a class where they educate and demonstrate healthy work habitats for diabetes and resources as well. \n  \nParc Grove Commons \nRenaissance at Par Grove (Vets) \n  \nFebruary 5th\, 12th\, 19th\, & 26th 10am – 12pm
URL:https://fresnohousing.org/event/diabetes-empowerment-education-program-dep/2025-02-26/
LOCATION:Parc Grove Commons\, 2674 E Clinton Ave\, Fresno\, CA\, 93703\, United States
CATEGORIES:Education,Health & Wellness
ORGANIZER;CN="Ali Vue":MAILTO:pvue@fresnohousing.org
END:VEVENT
BEGIN:VEVENT
DTSTART;TZID=America/Los_Angeles:20250226T130000
DTEND;TZID=America/Los_Angeles:20250226T140000
DTSTAMP:20260421T233226
CREATED:20250204T211934Z
LAST-MODIFIED:20250226T194307Z
UID:22761-1740574800-1740578400@fresnohousing.org
SUMMARY:Food to Share Food Distribution - Parc Grove Commons
DESCRIPTION:Food to Share Food Distribution \n  \nFresno Ministry Food to Share will be providing food distribution every Wednesday. \n  \nParc Grove Commons \nFebruary 5th\, 12th\, 19th\, and 26th
URL:https://fresnohousing.org/event/food-to-share-food-distribution-parc-grove-commons/2025-02-26/
LOCATION:Parc Grove Commons\, 2674 E Clinton Ave\, Fresno\, CA\, 93703\, United States
CATEGORIES:Health & Wellness,Meal Program,Nutrition
ORGANIZER;CN="Ali Vue":MAILTO:pvue@fresnohousing.org
END:VEVENT
BEGIN:VEVENT
DTSTART;TZID=America/Los_Angeles:20250227T133000
DTEND;TZID=America/Los_Angeles:20250227T153000
DTSTAMP:20260421T233226
CREATED:20250204T184157Z
LAST-MODIFIED:20250204T184157Z
UID:22525-1740663000-1740670200@fresnohousing.org
SUMMARY:Every Women Counts with California Health Collaborative - Oak Grove Commons
DESCRIPTION:Representative will be on site to present on the EWC Program on the importance of breast and cervical cancer screenings and resources available to cover the costs.  Workshops will be held at the following sites: \n  \nOak Grove Commons – Thursday\, February 27\, 2025 @ 1:30pm
URL:https://fresnohousing.org/event/every-women-counts-with-california-health-collaborative-oak-grove-commons/
LOCATION:Oak Grove\, 595 Bigger St.\, Parlier\, CA\, 93648\, United States
CATEGORIES:Education,Health & Wellness
ORGANIZER;CN="Irma Garcia":MAILTO:igarcia@fresnohousing.org
END:VEVENT
BEGIN:VEVENT
DTSTART;TZID=America/Los_Angeles:20250227T160000
DTEND;TZID=America/Los_Angeles:20250227T170000
DTSTAMP:20260421T233226
CREATED:20250204T185959Z
LAST-MODIFIED:20250204T185959Z
UID:22540-1740672000-1740675600@fresnohousing.org
SUMMARY:Nutrition Class
DESCRIPTION:Nutrition Class \nResidents are invited to learn how to make healthy\, low-cost meals. Attendees are also invited to participate in the on–site community garden with staff from UC Coopertive Extension. \n  \nSolivita Commons – Thursday February 27\, 2025 4-5pm
URL:https://fresnohousing.org/event/nutrition-class-2/
LOCATION:Solivita Commons\, 725 W Alluvial\, Clovis\, CA\, 93612
CATEGORIES:Education,Health & Wellness,Meal Program,Nutrition
END:VEVENT
BEGIN:VEVENT
DTSTART;TZID=America/Los_Angeles:20250303T100000
DTEND;TZID=America/Los_Angeles:20250303T120000
DTSTAMP:20260421T233226
CREATED:20250304T171555Z
LAST-MODIFIED:20250304T171555Z
UID:22846-1740996000-1741003200@fresnohousing.org
SUMMARY:Mindfulness Mondays 
DESCRIPTION:Mindfulness Mondays  \nAdult residents will learn an array of different mindful exercises and topics such as mindful breathing\, mindful listening\, mindful body awareness\, mindful eating\, heartfulness\, and gratitude. Practicing mindfulness involves breathing methods\, guided imagery\, and other practices to relax the body and mind and help reduce stress. This can also help regulate emotions\, burnouts\, and other stressors in their life.   \n   \nLegacy Commons- March 3rd\, March 10th\, March 17th\, & March 24th 10am-11am 
URL:https://fresnohousing.org/event/mindfulness-mondays-3/2025-03-03/
LOCATION:Legacy Commons\, Fresno\, 93706
CATEGORIES:Health & Wellness
ORGANIZER;CN="Danny Bravo":MAILTO:dbravo@fresnohousing.org
END:VEVENT
BEGIN:VEVENT
DTSTART;TZID=America/Los_Angeles:20250306T100000
DTEND;TZID=America/Los_Angeles:20250306T120000
DTSTAMP:20260421T233226
CREATED:20250304T181708Z
LAST-MODIFIED:20250304T181708Z
UID:22941-1741255200-1741262400@fresnohousing.org
SUMMARY:Cooking Matters  
DESCRIPTION:Cooking Matters   \nFresno Metro Ministry will be providing healthy cooking classes/series and educate on the importance of daily nutrition intake.  Fresno Metro Ministry will also provide food distribution after each class.  \n  \nCedar Courts – March 6th\, 13th and 20th  10am-12pm
URL:https://fresnohousing.org/event/cooking-matters-2/2025-03-06/
LOCATION:Cedar Courts\, CA\, United States
CATEGORIES:Education,Health & Wellness,Meal Program,Nutrition
END:VEVENT
BEGIN:VEVENT
DTSTART;TZID=America/Los_Angeles:20250306T120000
DTEND;TZID=America/Los_Angeles:20250306T130000
DTSTAMP:20260421T233226
CREATED:20250304T161756Z
LAST-MODIFIED:20250304T161756Z
UID:22790-1741262400-1741266000@fresnohousing.org
SUMMARY:American Heart Association - Hypertension/Heart Health and Healthy Meals
DESCRIPTION:Representative will be on site to explain the importance of maintaining healthy habits for your heart. Residents will also learn how to also make healthy life choices.  \n  \nParc Grove Commons – March 6th 12pm –1pm   \n  \n 
URL:https://fresnohousing.org/event/american-heart-association-hypertension-heart-health-and-healthy-meals/
LOCATION:Parc Grove Commons\, 2674 E Clinton Ave\, Fresno\, CA\, 93703\, United States
CATEGORIES:Education,Health & Wellness,Meal Program,Nutrition
ORGANIZER;CN="Ali Vue":MAILTO:pvue@fresnohousing.org
END:VEVENT
BEGIN:VEVENT
DTSTART;TZID=America/Los_Angeles:20250306T120000
DTEND;TZID=America/Los_Angeles:20250306T130000
DTSTAMP:20260421T233226
CREATED:20250304T161946Z
LAST-MODIFIED:20250304T161946Z
UID:22792-1741262400-1741266000@fresnohousing.org
SUMMARY:American Heart Association – Hypertension/Heart Health and Healthy Habits 
DESCRIPTION:American Heart Association – Hypertension/Heart Health and Healthy Habits  \n  \nRepresentative will be on site to explain the importance of maintaining healthy habits for your heart. Residents will also learn how to also make healthy life choices.  \n  \nRenaissance at Parc Grove – March 6th 12pm – 1pm   \n 
URL:https://fresnohousing.org/event/american-heart-association-hypertension-heart-health-and-healthy-habits/
LOCATION:Renaissance at Parc Grove\, 2720 E Clinton Ave\, Fresno\, CA\, 93703\, United States
CATEGORIES:Education,Health & Wellness,Meal Program,Nutrition
ORGANIZER;CN="Ali Vue":MAILTO:pvue@fresnohousing.org
END:VEVENT
BEGIN:VEVENT
DTSTART;TZID=America/Los_Angeles:20250307T160000
DTEND;TZID=America/Los_Angeles:20250307T170000
DTSTAMP:20260421T233226
CREATED:20250304T162125Z
LAST-MODIFIED:20250304T162125Z
UID:22794-1741363200-1741366800@fresnohousing.org
SUMMARY:American Heart Association – Hypertension/Heart Health and Healthy Habits 
DESCRIPTION:American Heart Association – Hypertension/Heart Health and Healthy Habits  \n  \nRepresentative will be on site to explain the importance of maintaining healthy habits for your heart. Residents will also learn how to also make healthy life choices.  \n  \nViking Village – March 7th 4pm – 5pm   \n 
URL:https://fresnohousing.org/event/american-heart-association-hypertension-heart-health-and-healthy-habits-2/
LOCATION:Viking Village\, 4260 N Chestnut Ave.\, Fresno\, CA\, 93726\, United States
CATEGORIES:Education,Health & Wellness,Meal Program,Nutrition
ORGANIZER;CN="Ali Vue":MAILTO:pvue@fresnohousing.org
END:VEVENT
BEGIN:VEVENT
DTSTART;TZID=America/Los_Angeles:20250310T100000
DTEND;TZID=America/Los_Angeles:20250310T120000
DTSTAMP:20260421T233226
CREATED:20250304T171555Z
LAST-MODIFIED:20250304T171555Z
UID:22847-1741600800-1741608000@fresnohousing.org
SUMMARY:Mindfulness Mondays 
DESCRIPTION:Mindfulness Mondays  \nAdult residents will learn an array of different mindful exercises and topics such as mindful breathing\, mindful listening\, mindful body awareness\, mindful eating\, heartfulness\, and gratitude. Practicing mindfulness involves breathing methods\, guided imagery\, and other practices to relax the body and mind and help reduce stress. This can also help regulate emotions\, burnouts\, and other stressors in their life.   \n   \nLegacy Commons- March 3rd\, March 10th\, March 17th\, & March 24th 10am-11am 
URL:https://fresnohousing.org/event/mindfulness-mondays-3/2025-03-10/
LOCATION:Legacy Commons\, Fresno\, 93706
CATEGORIES:Health & Wellness
ORGANIZER;CN="Danny Bravo":MAILTO:dbravo@fresnohousing.org
END:VEVENT
BEGIN:VEVENT
DTSTART;TZID=America/Los_Angeles:20250310T140000
DTEND;TZID=America/Los_Angeles:20250310T150000
DTSTAMP:20260421T233226
CREATED:20250304T181937Z
LAST-MODIFIED:20250304T181937Z
UID:22945-1741615200-1741618800@fresnohousing.org
SUMMARY:EWC – Every Woman Counts – California Health Collaborative  
DESCRIPTION:EWC – Every Woman Counts – California Health Collaborative   \nProgram provides free comprehensive breast and cervical cancer early detection services for age/income – eligible California residents.  \nBlossom Trail Commons – 3/10/2025 2pm-3pm  \n 
URL:https://fresnohousing.org/event/ewc-every-woman-counts-california-health-collaborative/
LOCATION:Blossom Trail Commons\, 285 J Street\, Sanger\, 93657\, United States
CATEGORIES:Education,Health & Wellness
ORGANIZER;CN="Irma Garcia":MAILTO:igarcia@fresnohousing.org
END:VEVENT
BEGIN:VEVENT
DTSTART;TZID=America/Los_Angeles:20250312T100000
DTEND;TZID=America/Los_Angeles:20250312T120000
DTSTAMP:20260421T233226
CREATED:20250304T193928Z
LAST-MODIFIED:20250304T193928Z
UID:22953-1741773600-1741780800@fresnohousing.org
SUMMARY:Cooking Matters  
DESCRIPTION:Cooking Matters   \nFresno Metro Ministry will be providing healthy cooking classes/series and educate on the importance of daily nutrition intake.  Fresno Metro Ministry will also provide food distribution after each class.  \nViking Village – March 12th\, 19th and 26th   10am-12pm
URL:https://fresnohousing.org/event/cooking-matters-3/2025-03-12/
LOCATION:Viking Village\, 4260 N Chestnut Ave.\, Fresno\, CA\, 93726\, United States
CATEGORIES:Education,Health & Wellness,Meal Program,Nutrition
ORGANIZER;CN="Ali Vue":MAILTO:pvue@fresnohousing.org
END:VEVENT
BEGIN:VEVENT
DTSTART;TZID=America/Los_Angeles:20250312T110000
DTEND;TZID=America/Los_Angeles:20250312T120000
DTSTAMP:20260421T233226
CREATED:20250304T171410Z
LAST-MODIFIED:20250304T171410Z
UID:22844-1741777200-1741780800@fresnohousing.org
SUMMARY:Mental & Physical Health Awareness Workshop 
DESCRIPTION:Mental & Physical Health Awareness Workshop  \nTo provide residents with practical tools for identifying\, addressing\, and managing mental health and the importance of physical health effectively. The workshop will increase awareness\, reduce stigma\, and empower participants with self-care techniques. The workshop will also provide a list of exercises\, dances\, and even techniques to help become physical in daily activities and resident day-to-day lives.  \nLegacy Commons- March 12th 11am-12pm 
URL:https://fresnohousing.org/event/mental-physical-health-awareness-workshop-3/
LOCATION:Legacy Commons\, Fresno\, 93706
CATEGORIES:Education,Health & Wellness
ORGANIZER;CN="Danny Bravo":MAILTO:dbravo@fresnohousing.org
END:VEVENT
BEGIN:VEVENT
DTSTART;TZID=America/Los_Angeles:20250312T120000
DTEND;TZID=America/Los_Angeles:20250312T130000
DTSTAMP:20260421T233226
CREATED:20250227T170347Z
LAST-MODIFIED:20250227T170347Z
UID:22783-1741780800-1741784400@fresnohousing.org
SUMMARY:Nutrition Education
DESCRIPTION:Nutrition Education   \n  \nResidents will receive education on the importance of healthy nutrition.  Residents will also learn how to read nutrition labels and make healthy life choices. Residents will then receive food distribution.   \n  \nParc Grove Commons – March 12th  12pm – 1pm   \n  \n 
URL:https://fresnohousing.org/event/nutrition-education/
LOCATION:Parc Grove Commons\, 2674 E Clinton Ave\, Fresno\, CA\, 93703\, United States
CATEGORIES:Health & Wellness,Nutrition
ORGANIZER;CN="Ali Vue":MAILTO:pvue@fresnohousing.org
END:VEVENT
END:VCALENDAR