
BEGIN:VCALENDAR
VERSION:2.0
PRODID:-//Fresno Housing - ECPv6.15.12.2//NONSGML v1.0//EN
CALSCALE:GREGORIAN
METHOD:PUBLISH
X-WR-CALNAME:Fresno Housing
X-ORIGINAL-URL:https://fresnohousing.org
X-WR-CALDESC:Events for Fresno Housing
REFRESH-INTERVAL;VALUE=DURATION:PT1H
X-Robots-Tag:noindex
X-PUBLISHED-TTL:PT1H
BEGIN:VTIMEZONE
TZID:America/Los_Angeles
BEGIN:DAYLIGHT
TZOFFSETFROM:-0800
TZOFFSETTO:-0700
TZNAME:PDT
DTSTART:20220313T100000
END:DAYLIGHT
BEGIN:STANDARD
TZOFFSETFROM:-0700
TZOFFSETTO:-0800
TZNAME:PST
DTSTART:20221106T090000
END:STANDARD
BEGIN:DAYLIGHT
TZOFFSETFROM:-0800
TZOFFSETTO:-0700
TZNAME:PDT
DTSTART:20230312T100000
END:DAYLIGHT
BEGIN:STANDARD
TZOFFSETFROM:-0700
TZOFFSETTO:-0800
TZNAME:PST
DTSTART:20231105T090000
END:STANDARD
BEGIN:DAYLIGHT
TZOFFSETFROM:-0800
TZOFFSETTO:-0700
TZNAME:PDT
DTSTART:20240310T100000
END:DAYLIGHT
BEGIN:STANDARD
TZOFFSETFROM:-0700
TZOFFSETTO:-0800
TZNAME:PST
DTSTART:20241103T090000
END:STANDARD
END:VTIMEZONE
BEGIN:VEVENT
DTSTART;TZID=America/Los_Angeles:20231102T130000
DTEND;TZID=America/Los_Angeles:20231102T130000
DTSTAMP:20260423T104645
CREATED:20231031T201757Z
LAST-MODIFIED:20231031T201757Z
UID:20154-1698930000-1698930000@fresnohousing.org
SUMMARY:Breast & Cancer Awareness
DESCRIPTION:Breast & Cancer Awareness  \n  \nCalifornia Health Collaborative shares information on Breast Cancer Awareness.  \n 
URL:https://fresnohousing.org/event/breast-cancer-awareness/
LOCATION:Pacific Gardens\, 5161 E Kings Canyon Rd.\, Fresno\, CA\, 93727\, United States
CATEGORIES:Education,Health & Wellness
END:VEVENT
BEGIN:VEVENT
DTSTART;TZID=America/Los_Angeles:20231109T153000
DTEND;TZID=America/Los_Angeles:20231109T163000
DTSTAMP:20260423T104645
CREATED:20231031T201021Z
LAST-MODIFIED:20231031T201021Z
UID:20150-1699543800-1699547400@fresnohousing.org
SUMMARY:Food 2 Share Food Distribution
DESCRIPTION:Weekly food distribution and nutritional topic  \n(***First come first serve)
URL:https://fresnohousing.org/event/food-2-share-food-distribution/2023-11-09/
LOCATION:Pacific Gardens\, 5161 E Kings Canyon Rd.\, Fresno\, CA\, 93727\, United States
CATEGORIES:Health & Wellness,Meal Program,Nutrition
END:VEVENT
BEGIN:VEVENT
DTSTART;TZID=America/Los_Angeles:20231114T130000
DTEND;TZID=America/Los_Angeles:20231114T140000
DTSTAMP:20260423T104645
CREATED:20231031T213157Z
LAST-MODIFIED:20231031T213157Z
UID:20169-1699966800-1699970400@fresnohousing.org
SUMMARY:Diabetes Prevention Program 
DESCRIPTION:Diabetes Prevention Program  \n  \nThis class is taught by California Health Collaborative and is designed to assist participants with losing 5-7% of their body weight through increased understanding of type 2 diabetes\, increase tracking of physical activity\, and improved nutrition.  \n  \nPaseo 55         Every Tuesday Starting November 14\,2023 – for the next 12 months @1pm  
URL:https://fresnohousing.org/event/diabetes-prevention-program/2023-11-14/
LOCATION:Paseo 55\, 1233 G Street\, Reedly\, CA\, 93654\, United States
CATEGORIES:Education,Health & Wellness,Nutrition,Physical Fitness
END:VEVENT
BEGIN:VEVENT
DTSTART;TZID=America/Los_Angeles:20231114T170000
DTEND;TZID=America/Los_Angeles:20231114T200000
DTSTAMP:20260423T104645
CREATED:20231031T192533Z
LAST-MODIFIED:20231031T192533Z
UID:20144-1699981200-1699992000@fresnohousing.org
SUMMARY:Leadership Council Meeting
DESCRIPTION:Leadership Council Meeting  \nJewels of Justice/ Dr. Karen Crozier  \nLegacy Commons      Tuesday\, November 14\, 2023 / 5:00PM – 8:00PM  \nThe leadership council is joined by members of the community and Legacy residents.  The focus of the council is for residents and members to be able to serve the people\, advance Black self-care and wellness in Fresno County\, and to advocate for appropriate and relevant funds\, programs and services. 
URL:https://fresnohousing.org/event/leadership-council-meeting/
LOCATION:Legacy Commons\, Fresno\, 93706
CATEGORIES:Community Engagement,Diversity Equity & Inclusion,Diversity Equity & Inclusion,Education,Health & Wellness,Life Skills
END:VEVENT
BEGIN:VEVENT
DTSTART;TZID=America/Los_Angeles:20231116T130000
DTEND;TZID=America/Los_Angeles:20231116T130000
DTSTAMP:20260423T104645
CREATED:20231031T200626Z
LAST-MODIFIED:20231031T200626Z
UID:20148-1700139600-1700139600@fresnohousing.org
SUMMARY:CPR Training Class 
DESCRIPTION:CPR Training Class  \nThe Health Disparity Program in Partnership with West Fresno Family Resource Center  \n  \nLegacy Commons     Thursday\, November 16\, 2023 / 1:00PM – 5:00PM  \n  \nThe CPR Training will teach individuals how to provide immediate care to someone experiencing a cardiac arrest or a sudden medical emergency.  This class is geared towards those who would like to learn lifesaving skills or required to learn CPR for their employment. This class is also for parents of small children\, anyone living with someone who has health issues or for those who would like to learn about CPR. 
URL:https://fresnohousing.org/event/cpr-training-class/
LOCATION:Legacy Commons\, Fresno\, 93706
CATEGORIES:Education,Health & Wellness,Life Skills
END:VEVENT
BEGIN:VEVENT
DTSTART;TZID=America/Los_Angeles:20231120T130000
DTEND;TZID=America/Los_Angeles:20231120T150000
DTSTAMP:20260423T104645
CREATED:20231031T201930Z
LAST-MODIFIED:20231031T202443Z
UID:20156-1700485200-1700492400@fresnohousing.org
SUMMARY:Breast Cancer Awareness 
DESCRIPTION:Breast Cancer Awareness  \n  \nCalifornia Health Collaborative shares information on Breast Cancer Awareness
URL:https://fresnohousing.org/event/breast-cancer-awareness-2/
LOCATION:Paseo 55\, 1233 G Street\, Reedly\, CA\, 93654\, United States
CATEGORIES:Education,Health & Wellness
END:VEVENT
BEGIN:VEVENT
DTSTART;TZID=America/Los_Angeles:20231128T100000
DTEND;TZID=America/Los_Angeles:20231128T110000
DTSTAMP:20260423T104645
CREATED:20231031T202421Z
LAST-MODIFIED:20231031T202421Z
UID:20161-1701165600-1701169200@fresnohousing.org
SUMMARY:Breast Cancer Awareness
DESCRIPTION:California Health Collaborative shares information on Breast Cancer Awareness
URL:https://fresnohousing.org/event/breast-cancer-awareness-4/
LOCATION:Renaissance at Trinity\, 524 S Trinity\, Fresno\, CA\, 93706\, United States
CATEGORIES:Education,Health & Wellness
ORGANIZER;CN="Nathan Turner":MAILTO:nturner@fresnohousing.org
END:VEVENT
BEGIN:VEVENT
DTSTART;TZID=America/Los_Angeles:20231130T100000
DTEND;TZID=America/Los_Angeles:20231130T110000
DTSTAMP:20260423T104645
CREATED:20231031T202305Z
LAST-MODIFIED:20231031T202305Z
UID:20159-1701338400-1701342000@fresnohousing.org
SUMMARY:Breast Cancer Awareness
DESCRIPTION:California Health Collaborative shares information on Breast Cancer Awareness
URL:https://fresnohousing.org/event/breast-cancer-awareness-3/
LOCATION:Renaissance at Santa Clara\, 1553 Santa Clara Street\, Fresno\, CA\, 93706\, United States
CATEGORIES:Education,Health & Wellness
ORGANIZER;CN="Nathan Turner":MAILTO:nturner@fresnohousing.org
END:VEVENT
END:VCALENDAR