
BEGIN:VCALENDAR
VERSION:2.0
PRODID:-//Fresno Housing - ECPv6.15.12.2//NONSGML v1.0//EN
CALSCALE:GREGORIAN
METHOD:PUBLISH
X-ORIGINAL-URL:https://fresnohousing.org
X-WR-CALDESC:Events for Fresno Housing
REFRESH-INTERVAL;VALUE=DURATION:PT1H
X-Robots-Tag:noindex
X-PUBLISHED-TTL:PT1H
BEGIN:VTIMEZONE
TZID:America/Los_Angeles
BEGIN:DAYLIGHT
TZOFFSETFROM:-0800
TZOFFSETTO:-0700
TZNAME:PDT
DTSTART:20240310T100000
END:DAYLIGHT
BEGIN:STANDARD
TZOFFSETFROM:-0700
TZOFFSETTO:-0800
TZNAME:PST
DTSTART:20241103T090000
END:STANDARD
BEGIN:DAYLIGHT
TZOFFSETFROM:-0800
TZOFFSETTO:-0700
TZNAME:PDT
DTSTART:20250309T100000
END:DAYLIGHT
BEGIN:STANDARD
TZOFFSETFROM:-0700
TZOFFSETTO:-0800
TZNAME:PST
DTSTART:20251102T090000
END:STANDARD
BEGIN:DAYLIGHT
TZOFFSETFROM:-0800
TZOFFSETTO:-0700
TZNAME:PDT
DTSTART:20260308T100000
END:DAYLIGHT
BEGIN:STANDARD
TZOFFSETFROM:-0700
TZOFFSETTO:-0800
TZNAME:PST
DTSTART:20261101T090000
END:STANDARD
END:VTIMEZONE
BEGIN:VEVENT
DTSTART;TZID=America/Los_Angeles:20250527T150000
DTEND;TZID=America/Los_Angeles:20250527T170000
DTSTAMP:20260424T205637
CREATED:20250430T204324Z
LAST-MODIFIED:20250430T204324Z
UID:23236-1748358000-1748365200@fresnohousing.org
SUMMARY:After School Program
DESCRIPTION:After School Program \nYouth residents will come and receive homework help as well as read with the group as we promote reading literacy and fostering youth interaction and strengthening bonds as we read and discuss the book. We will hold discussions facilitated by program coordinator on topics of mental health\, time management\, organizational skills\, and fostering a supportive environment and resources for the youth \n  \nCueva de Oso (Selma) – May 5th\, May\,8th\, May 13th\, May 15th\, May 20th\, May 22nd\, May 27th and May 29th (3pm-5pm)
URL:https://fresnohousing.org/event/after-school-program-5/2025-05-27/
LOCATION:Cueva De Oso\, CA\, United States
CATEGORIES:After-School Program,Education
ORGANIZER;CN="Irma Garcia":MAILTO:igarcia@fresnohousing.org
END:VEVENT
END:VCALENDAR