
BEGIN:VCALENDAR
VERSION:2.0
PRODID:-//Fresno Housing - ECPv6.15.12.2//NONSGML v1.0//EN
CALSCALE:GREGORIAN
METHOD:PUBLISH
X-ORIGINAL-URL:https://fresnohousing.org
X-WR-CALDESC:Events for Fresno Housing
REFRESH-INTERVAL;VALUE=DURATION:PT1H
X-Robots-Tag:noindex
X-PUBLISHED-TTL:PT1H
BEGIN:VTIMEZONE
TZID:America/Los_Angeles
BEGIN:DAYLIGHT
TZOFFSETFROM:-0800
TZOFFSETTO:-0700
TZNAME:PDT
DTSTART:19690427T100000
END:DAYLIGHT
BEGIN:STANDARD
TZOFFSETFROM:-0700
TZOFFSETTO:-0800
TZNAME:PST
DTSTART:19691026T090000
END:STANDARD
BEGIN:DAYLIGHT
TZOFFSETFROM:-0800
TZOFFSETTO:-0700
TZNAME:PDT
DTSTART:19700426T100000
END:DAYLIGHT
BEGIN:STANDARD
TZOFFSETFROM:-0700
TZOFFSETTO:-0800
TZNAME:PST
DTSTART:19701025T090000
END:STANDARD
BEGIN:DAYLIGHT
TZOFFSETFROM:-0800
TZOFFSETTO:-0700
TZNAME:PDT
DTSTART:19710425T100000
END:DAYLIGHT
BEGIN:STANDARD
TZOFFSETFROM:-0700
TZOFFSETTO:-0800
TZNAME:PST
DTSTART:19711031T090000
END:STANDARD
BEGIN:DAYLIGHT
TZOFFSETFROM:-0800
TZOFFSETTO:-0700
TZNAME:PDT
DTSTART:19720430T100000
END:DAYLIGHT
BEGIN:STANDARD
TZOFFSETFROM:-0700
TZOFFSETTO:-0800
TZNAME:PST
DTSTART:19721029T090000
END:STANDARD
BEGIN:DAYLIGHT
TZOFFSETFROM:-0800
TZOFFSETTO:-0700
TZNAME:PDT
DTSTART:19730429T100000
END:DAYLIGHT
BEGIN:STANDARD
TZOFFSETFROM:-0700
TZOFFSETTO:-0800
TZNAME:PST
DTSTART:19731028T090000
END:STANDARD
BEGIN:DAYLIGHT
TZOFFSETFROM:-0800
TZOFFSETTO:-0700
TZNAME:PDT
DTSTART:19740106T100000
END:DAYLIGHT
BEGIN:STANDARD
TZOFFSETFROM:-0700
TZOFFSETTO:-0800
TZNAME:PST
DTSTART:19741027T090000
END:STANDARD
BEGIN:DAYLIGHT
TZOFFSETFROM:-0800
TZOFFSETTO:-0700
TZNAME:PDT
DTSTART:19750223T100000
END:DAYLIGHT
BEGIN:STANDARD
TZOFFSETFROM:-0700
TZOFFSETTO:-0800
TZNAME:PST
DTSTART:19751026T090000
END:STANDARD
BEGIN:DAYLIGHT
TZOFFSETFROM:-0800
TZOFFSETTO:-0700
TZNAME:PDT
DTSTART:19760425T100000
END:DAYLIGHT
BEGIN:STANDARD
TZOFFSETFROM:-0700
TZOFFSETTO:-0800
TZNAME:PST
DTSTART:19761031T090000
END:STANDARD
BEGIN:DAYLIGHT
TZOFFSETFROM:-0800
TZOFFSETTO:-0700
TZNAME:PDT
DTSTART:19770424T100000
END:DAYLIGHT
BEGIN:STANDARD
TZOFFSETFROM:-0700
TZOFFSETTO:-0800
TZNAME:PST
DTSTART:19771030T090000
END:STANDARD
BEGIN:DAYLIGHT
TZOFFSETFROM:-0800
TZOFFSETTO:-0700
TZNAME:PDT
DTSTART:19780430T100000
END:DAYLIGHT
BEGIN:STANDARD
TZOFFSETFROM:-0700
TZOFFSETTO:-0800
TZNAME:PST
DTSTART:19781029T090000
END:STANDARD
BEGIN:DAYLIGHT
TZOFFSETFROM:-0800
TZOFFSETTO:-0700
TZNAME:PDT
DTSTART:19790429T100000
END:DAYLIGHT
BEGIN:STANDARD
TZOFFSETFROM:-0700
TZOFFSETTO:-0800
TZNAME:PST
DTSTART:19791028T090000
END:STANDARD
BEGIN:DAYLIGHT
TZOFFSETFROM:-0800
TZOFFSETTO:-0700
TZNAME:PDT
DTSTART:19800427T100000
END:DAYLIGHT
BEGIN:STANDARD
TZOFFSETFROM:-0700
TZOFFSETTO:-0800
TZNAME:PST
DTSTART:19801026T090000
END:STANDARD
BEGIN:DAYLIGHT
TZOFFSETFROM:-0800
TZOFFSETTO:-0700
TZNAME:PDT
DTSTART:19810426T100000
END:DAYLIGHT
BEGIN:STANDARD
TZOFFSETFROM:-0700
TZOFFSETTO:-0800
TZNAME:PST
DTSTART:19811025T090000
END:STANDARD
BEGIN:DAYLIGHT
TZOFFSETFROM:-0800
TZOFFSETTO:-0700
TZNAME:PDT
DTSTART:19820425T100000
END:DAYLIGHT
BEGIN:STANDARD
TZOFFSETFROM:-0700
TZOFFSETTO:-0800
TZNAME:PST
DTSTART:19821031T090000
END:STANDARD
BEGIN:DAYLIGHT
TZOFFSETFROM:-0800
TZOFFSETTO:-0700
TZNAME:PDT
DTSTART:19830424T100000
END:DAYLIGHT
BEGIN:STANDARD
TZOFFSETFROM:-0700
TZOFFSETTO:-0800
TZNAME:PST
DTSTART:19831030T090000
END:STANDARD
BEGIN:DAYLIGHT
TZOFFSETFROM:-0800
TZOFFSETTO:-0700
TZNAME:PDT
DTSTART:19840429T100000
END:DAYLIGHT
BEGIN:STANDARD
TZOFFSETFROM:-0700
TZOFFSETTO:-0800
TZNAME:PST
DTSTART:19841028T090000
END:STANDARD
BEGIN:DAYLIGHT
TZOFFSETFROM:-0800
TZOFFSETTO:-0700
TZNAME:PDT
DTSTART:19850428T100000
END:DAYLIGHT
BEGIN:STANDARD
TZOFFSETFROM:-0700
TZOFFSETTO:-0800
TZNAME:PST
DTSTART:19851027T090000
END:STANDARD
BEGIN:DAYLIGHT
TZOFFSETFROM:-0800
TZOFFSETTO:-0700
TZNAME:PDT
DTSTART:19860427T100000
END:DAYLIGHT
BEGIN:STANDARD
TZOFFSETFROM:-0700
TZOFFSETTO:-0800
TZNAME:PST
DTSTART:19861026T090000
END:STANDARD
BEGIN:DAYLIGHT
TZOFFSETFROM:-0800
TZOFFSETTO:-0700
TZNAME:PDT
DTSTART:19870405T100000
END:DAYLIGHT
BEGIN:STANDARD
TZOFFSETFROM:-0700
TZOFFSETTO:-0800
TZNAME:PST
DTSTART:19871025T090000
END:STANDARD
BEGIN:DAYLIGHT
TZOFFSETFROM:-0800
TZOFFSETTO:-0700
TZNAME:PDT
DTSTART:19880403T100000
END:DAYLIGHT
BEGIN:STANDARD
TZOFFSETFROM:-0700
TZOFFSETTO:-0800
TZNAME:PST
DTSTART:19881030T090000
END:STANDARD
BEGIN:DAYLIGHT
TZOFFSETFROM:-0800
TZOFFSETTO:-0700
TZNAME:PDT
DTSTART:19890402T100000
END:DAYLIGHT
BEGIN:STANDARD
TZOFFSETFROM:-0700
TZOFFSETTO:-0800
TZNAME:PST
DTSTART:19891029T090000
END:STANDARD
BEGIN:DAYLIGHT
TZOFFSETFROM:-0800
TZOFFSETTO:-0700
TZNAME:PDT
DTSTART:19900401T100000
END:DAYLIGHT
BEGIN:STANDARD
TZOFFSETFROM:-0700
TZOFFSETTO:-0800
TZNAME:PST
DTSTART:19901028T090000
END:STANDARD
BEGIN:DAYLIGHT
TZOFFSETFROM:-0800
TZOFFSETTO:-0700
TZNAME:PDT
DTSTART:19910407T100000
END:DAYLIGHT
BEGIN:STANDARD
TZOFFSETFROM:-0700
TZOFFSETTO:-0800
TZNAME:PST
DTSTART:19911027T090000
END:STANDARD
BEGIN:DAYLIGHT
TZOFFSETFROM:-0800
TZOFFSETTO:-0700
TZNAME:PDT
DTSTART:19920405T100000
END:DAYLIGHT
BEGIN:STANDARD
TZOFFSETFROM:-0700
TZOFFSETTO:-0800
TZNAME:PST
DTSTART:19921025T090000
END:STANDARD
BEGIN:DAYLIGHT
TZOFFSETFROM:-0800
TZOFFSETTO:-0700
TZNAME:PDT
DTSTART:19930404T100000
END:DAYLIGHT
BEGIN:STANDARD
TZOFFSETFROM:-0700
TZOFFSETTO:-0800
TZNAME:PST
DTSTART:19931031T090000
END:STANDARD
BEGIN:DAYLIGHT
TZOFFSETFROM:-0800
TZOFFSETTO:-0700
TZNAME:PDT
DTSTART:19940403T100000
END:DAYLIGHT
BEGIN:STANDARD
TZOFFSETFROM:-0700
TZOFFSETTO:-0800
TZNAME:PST
DTSTART:19941030T090000
END:STANDARD
BEGIN:DAYLIGHT
TZOFFSETFROM:-0800
TZOFFSETTO:-0700
TZNAME:PDT
DTSTART:19950402T100000
END:DAYLIGHT
BEGIN:STANDARD
TZOFFSETFROM:-0700
TZOFFSETTO:-0800
TZNAME:PST
DTSTART:19951029T090000
END:STANDARD
BEGIN:DAYLIGHT
TZOFFSETFROM:-0800
TZOFFSETTO:-0700
TZNAME:PDT
DTSTART:19960407T100000
END:DAYLIGHT
BEGIN:STANDARD
TZOFFSETFROM:-0700
TZOFFSETTO:-0800
TZNAME:PST
DTSTART:19961027T090000
END:STANDARD
BEGIN:DAYLIGHT
TZOFFSETFROM:-0800
TZOFFSETTO:-0700
TZNAME:PDT
DTSTART:19970406T100000
END:DAYLIGHT
BEGIN:STANDARD
TZOFFSETFROM:-0700
TZOFFSETTO:-0800
TZNAME:PST
DTSTART:19971026T090000
END:STANDARD
BEGIN:DAYLIGHT
TZOFFSETFROM:-0800
TZOFFSETTO:-0700
TZNAME:PDT
DTSTART:19980405T100000
END:DAYLIGHT
BEGIN:STANDARD
TZOFFSETFROM:-0700
TZOFFSETTO:-0800
TZNAME:PST
DTSTART:19981025T090000
END:STANDARD
BEGIN:DAYLIGHT
TZOFFSETFROM:-0800
TZOFFSETTO:-0700
TZNAME:PDT
DTSTART:19990404T100000
END:DAYLIGHT
BEGIN:STANDARD
TZOFFSETFROM:-0700
TZOFFSETTO:-0800
TZNAME:PST
DTSTART:19991031T090000
END:STANDARD
BEGIN:DAYLIGHT
TZOFFSETFROM:-0800
TZOFFSETTO:-0700
TZNAME:PDT
DTSTART:20000402T100000
END:DAYLIGHT
BEGIN:STANDARD
TZOFFSETFROM:-0700
TZOFFSETTO:-0800
TZNAME:PST
DTSTART:20001029T090000
END:STANDARD
BEGIN:DAYLIGHT
TZOFFSETFROM:-0800
TZOFFSETTO:-0700
TZNAME:PDT
DTSTART:20010401T100000
END:DAYLIGHT
BEGIN:STANDARD
TZOFFSETFROM:-0700
TZOFFSETTO:-0800
TZNAME:PST
DTSTART:20011028T090000
END:STANDARD
BEGIN:DAYLIGHT
TZOFFSETFROM:-0800
TZOFFSETTO:-0700
TZNAME:PDT
DTSTART:20020407T100000
END:DAYLIGHT
BEGIN:STANDARD
TZOFFSETFROM:-0700
TZOFFSETTO:-0800
TZNAME:PST
DTSTART:20021027T090000
END:STANDARD
BEGIN:DAYLIGHT
TZOFFSETFROM:-0800
TZOFFSETTO:-0700
TZNAME:PDT
DTSTART:20030406T100000
END:DAYLIGHT
BEGIN:STANDARD
TZOFFSETFROM:-0700
TZOFFSETTO:-0800
TZNAME:PST
DTSTART:20031026T090000
END:STANDARD
BEGIN:DAYLIGHT
TZOFFSETFROM:-0800
TZOFFSETTO:-0700
TZNAME:PDT
DTSTART:20040404T100000
END:DAYLIGHT
BEGIN:STANDARD
TZOFFSETFROM:-0700
TZOFFSETTO:-0800
TZNAME:PST
DTSTART:20041031T090000
END:STANDARD
BEGIN:DAYLIGHT
TZOFFSETFROM:-0800
TZOFFSETTO:-0700
TZNAME:PDT
DTSTART:20050403T100000
END:DAYLIGHT
BEGIN:STANDARD
TZOFFSETFROM:-0700
TZOFFSETTO:-0800
TZNAME:PST
DTSTART:20051030T090000
END:STANDARD
BEGIN:DAYLIGHT
TZOFFSETFROM:-0800
TZOFFSETTO:-0700
TZNAME:PDT
DTSTART:20060402T100000
END:DAYLIGHT
BEGIN:STANDARD
TZOFFSETFROM:-0700
TZOFFSETTO:-0800
TZNAME:PST
DTSTART:20061029T090000
END:STANDARD
BEGIN:DAYLIGHT
TZOFFSETFROM:-0800
TZOFFSETTO:-0700
TZNAME:PDT
DTSTART:20070311T100000
END:DAYLIGHT
BEGIN:STANDARD
TZOFFSETFROM:-0700
TZOFFSETTO:-0800
TZNAME:PST
DTSTART:20071104T090000
END:STANDARD
BEGIN:DAYLIGHT
TZOFFSETFROM:-0800
TZOFFSETTO:-0700
TZNAME:PDT
DTSTART:20080309T100000
END:DAYLIGHT
BEGIN:STANDARD
TZOFFSETFROM:-0700
TZOFFSETTO:-0800
TZNAME:PST
DTSTART:20081102T090000
END:STANDARD
BEGIN:DAYLIGHT
TZOFFSETFROM:-0800
TZOFFSETTO:-0700
TZNAME:PDT
DTSTART:20090308T100000
END:DAYLIGHT
BEGIN:STANDARD
TZOFFSETFROM:-0700
TZOFFSETTO:-0800
TZNAME:PST
DTSTART:20091101T090000
END:STANDARD
BEGIN:DAYLIGHT
TZOFFSETFROM:-0800
TZOFFSETTO:-0700
TZNAME:PDT
DTSTART:20100314T100000
END:DAYLIGHT
BEGIN:STANDARD
TZOFFSETFROM:-0700
TZOFFSETTO:-0800
TZNAME:PST
DTSTART:20101107T090000
END:STANDARD
BEGIN:DAYLIGHT
TZOFFSETFROM:-0800
TZOFFSETTO:-0700
TZNAME:PDT
DTSTART:20110313T100000
END:DAYLIGHT
BEGIN:STANDARD
TZOFFSETFROM:-0700
TZOFFSETTO:-0800
TZNAME:PST
DTSTART:20111106T090000
END:STANDARD
BEGIN:DAYLIGHT
TZOFFSETFROM:-0800
TZOFFSETTO:-0700
TZNAME:PDT
DTSTART:20120311T100000
END:DAYLIGHT
BEGIN:STANDARD
TZOFFSETFROM:-0700
TZOFFSETTO:-0800
TZNAME:PST
DTSTART:20121104T090000
END:STANDARD
BEGIN:DAYLIGHT
TZOFFSETFROM:-0800
TZOFFSETTO:-0700
TZNAME:PDT
DTSTART:20130310T100000
END:DAYLIGHT
BEGIN:STANDARD
TZOFFSETFROM:-0700
TZOFFSETTO:-0800
TZNAME:PST
DTSTART:20131103T090000
END:STANDARD
BEGIN:DAYLIGHT
TZOFFSETFROM:-0800
TZOFFSETTO:-0700
TZNAME:PDT
DTSTART:20140309T100000
END:DAYLIGHT
BEGIN:STANDARD
TZOFFSETFROM:-0700
TZOFFSETTO:-0800
TZNAME:PST
DTSTART:20141102T090000
END:STANDARD
BEGIN:DAYLIGHT
TZOFFSETFROM:-0800
TZOFFSETTO:-0700
TZNAME:PDT
DTSTART:20150308T100000
END:DAYLIGHT
BEGIN:STANDARD
TZOFFSETFROM:-0700
TZOFFSETTO:-0800
TZNAME:PST
DTSTART:20151101T090000
END:STANDARD
BEGIN:DAYLIGHT
TZOFFSETFROM:-0800
TZOFFSETTO:-0700
TZNAME:PDT
DTSTART:20160313T100000
END:DAYLIGHT
BEGIN:STANDARD
TZOFFSETFROM:-0700
TZOFFSETTO:-0800
TZNAME:PST
DTSTART:20161106T090000
END:STANDARD
BEGIN:DAYLIGHT
TZOFFSETFROM:-0800
TZOFFSETTO:-0700
TZNAME:PDT
DTSTART:20170312T100000
END:DAYLIGHT
BEGIN:STANDARD
TZOFFSETFROM:-0700
TZOFFSETTO:-0800
TZNAME:PST
DTSTART:20171105T090000
END:STANDARD
BEGIN:DAYLIGHT
TZOFFSETFROM:-0800
TZOFFSETTO:-0700
TZNAME:PDT
DTSTART:20180311T100000
END:DAYLIGHT
BEGIN:STANDARD
TZOFFSETFROM:-0700
TZOFFSETTO:-0800
TZNAME:PST
DTSTART:20181104T090000
END:STANDARD
BEGIN:DAYLIGHT
TZOFFSETFROM:-0800
TZOFFSETTO:-0700
TZNAME:PDT
DTSTART:20190310T100000
END:DAYLIGHT
BEGIN:STANDARD
TZOFFSETFROM:-0700
TZOFFSETTO:-0800
TZNAME:PST
DTSTART:20191103T090000
END:STANDARD
BEGIN:DAYLIGHT
TZOFFSETFROM:-0800
TZOFFSETTO:-0700
TZNAME:PDT
DTSTART:20200308T100000
END:DAYLIGHT
BEGIN:STANDARD
TZOFFSETFROM:-0700
TZOFFSETTO:-0800
TZNAME:PST
DTSTART:20201101T090000
END:STANDARD
BEGIN:DAYLIGHT
TZOFFSETFROM:-0800
TZOFFSETTO:-0700
TZNAME:PDT
DTSTART:20210314T100000
END:DAYLIGHT
BEGIN:STANDARD
TZOFFSETFROM:-0700
TZOFFSETTO:-0800
TZNAME:PST
DTSTART:20211107T090000
END:STANDARD
BEGIN:DAYLIGHT
TZOFFSETFROM:-0800
TZOFFSETTO:-0700
TZNAME:PDT
DTSTART:20220313T100000
END:DAYLIGHT
BEGIN:STANDARD
TZOFFSETFROM:-0700
TZOFFSETTO:-0800
TZNAME:PST
DTSTART:20221106T090000
END:STANDARD
BEGIN:DAYLIGHT
TZOFFSETFROM:-0800
TZOFFSETTO:-0700
TZNAME:PDT
DTSTART:20230312T100000
END:DAYLIGHT
BEGIN:STANDARD
TZOFFSETFROM:-0700
TZOFFSETTO:-0800
TZNAME:PST
DTSTART:20231105T090000
END:STANDARD
BEGIN:DAYLIGHT
TZOFFSETFROM:-0800
TZOFFSETTO:-0700
TZNAME:PDT
DTSTART:20240310T100000
END:DAYLIGHT
BEGIN:STANDARD
TZOFFSETFROM:-0700
TZOFFSETTO:-0800
TZNAME:PST
DTSTART:20241103T090000
END:STANDARD
BEGIN:DAYLIGHT
TZOFFSETFROM:-0800
TZOFFSETTO:-0700
TZNAME:PDT
DTSTART:20250309T100000
END:DAYLIGHT
BEGIN:STANDARD
TZOFFSETFROM:-0700
TZOFFSETTO:-0800
TZNAME:PST
DTSTART:20251102T090000
END:STANDARD
BEGIN:DAYLIGHT
TZOFFSETFROM:-0800
TZOFFSETTO:-0700
TZNAME:PDT
DTSTART:20260308T100000
END:DAYLIGHT
BEGIN:STANDARD
TZOFFSETFROM:-0700
TZOFFSETTO:-0800
TZNAME:PST
DTSTART:20261101T090000
END:STANDARD
END:VTIMEZONE
BEGIN:VEVENT
DTSTART;TZID=America/Los_Angeles:20260419T063137
DTEND;TZID=America/Los_Angeles:20250612T190000
DTSTAMP:20260419T063137
CREATED:20250602T231752Z
LAST-MODIFIED:20250602T231752Z
UID:23351-0-1749754800@fresnohousing.org
SUMMARY:Family Summer Reading Program   - Sequoia Courts
DESCRIPTION:Family Summer Reading Program   \n  \nFamilies are invited to participate in a summer literacy program. The program consists of a book reading and activities connected to the reading. Parents and caregivers are encouraged to bring children in support of summer reading.   \n  \n  \nSeqouia Courts- June 12th 5pm-7pm 
URL:https://fresnohousing.org/event/family-summer-reading-program-sequoia-courts/
LOCATION:Sequoia Courts\, CA\, United States
CATEGORIES:Arts and Crafts,Education,Literacy
ORGANIZER;CN="Danny Bravo":MAILTO:dbravo@fresnohousing.org
END:VEVENT
BEGIN:VEVENT
DTSTART;TZID=America/Los_Angeles:20231101T100000
DTEND;TZID=America/Los_Angeles:20231101T110000
DTSTAMP:20260419T063137
CREATED:20231031T190959Z
LAST-MODIFIED:20231031T190959Z
UID:20138-1698832800-1698836400@fresnohousing.org
SUMMARY:Veteran's Day Workshop
DESCRIPTION:Veteran’s Day is celebrated on November 11 to commemorate those who have fought for the USA. The workshop will include history of Veteran’s Day\, local celebrations in the Central Valley and will give local resources for veterans. 
URL:https://fresnohousing.org/event/veterans-day-workshop-7/
LOCATION:Rios Terrace\, 191 Tuft Street\, Mendota\, CA\, 93640\, United States
CATEGORIES:Community Engagement,Diversity Equity & Inclusion,Education
ORGANIZER;CN="Eunice Gomez":MAILTO:egomez@fresnohousing.org
END:VEVENT
BEGIN:VEVENT
DTSTART;TZID=America/Los_Angeles:20231106T130000
DTEND;TZID=America/Los_Angeles:20231106T150000
DTSTAMP:20260419T063137
CREATED:20231031T190725Z
LAST-MODIFIED:20231031T190725Z
UID:20136-1699275600-1699282800@fresnohousing.org
SUMMARY:Veteran's Day Workshop
DESCRIPTION:Veteran’s Day is celebrated on November 11 to commemorate those who have fought for the USA. The workshop will include history of Veteran’s Day\, local celebrations in the Central Valley and will give local resources for veterans. 
URL:https://fresnohousing.org/event/veterans-day-workshop-6/
LOCATION:Paseo 55\, 1233 G Street\, Reedly\, CA\, 93654\, United States
CATEGORIES:Community Engagement,Diversity Equity & Inclusion,Education
END:VEVENT
BEGIN:VEVENT
DTSTART;TZID=America/Los_Angeles:20231106T140000
DTEND;TZID=America/Los_Angeles:20231106T150000
DTSTAMP:20260419T063137
CREATED:20231031T191411Z
LAST-MODIFIED:20231031T191411Z
UID:20140-1699279200-1699282800@fresnohousing.org
SUMMARY:Veteran's Day Workshop
DESCRIPTION:Veteran’s Day is celebrated on November 11 to commemorate those who have fought for the USA. The workshop will include history of Veteran’s Day\, local celebrations in the Central Valley and will give local resources for veterans. 
URL:https://fresnohousing.org/event/veterans-day-workshop-8/
LOCATION:Mariposa Commons\, 1011 W Atchison Ave.\, Fresno\, CA\, 93706\, United States
CATEGORIES:Community Engagement,Diversity Equity & Inclusion,Education
ORGANIZER;CN="Eunice Gomez":MAILTO:egomez@fresnohousing.org
END:VEVENT
BEGIN:VEVENT
DTSTART;TZID=America/Los_Angeles:20231107T040000
DTEND;TZID=America/Los_Angeles:20231107T040000
DTSTAMP:20260419T063137
CREATED:20231031T201230Z
LAST-MODIFIED:20231031T201246Z
UID:20152-1699329600-1699329600@fresnohousing.org
SUMMARY:Fresno County Library Visit to After School Program 
DESCRIPTION:Fresno County Library Visit to After School Program  \n  \nCueva de Oso – Tuesday\, November 7\, 2023  4:00 pm – 5:00 pm   \n  \nA librarian from Fresno County Library will be visiting youth during After School Program to provide Coffee Filter Turkey Craft.  These types of activities are provided at the branch and librarian has offered to do on site for Fresno Housing. Activity will be held from 4pm – 5pm.  Library will also have resources and library card applications on hand.   
URL:https://fresnohousing.org/event/fresno-county-library-visit-to-after-school-program/
LOCATION:Cueva De Oso\, CA\, United States
CATEGORIES:After-School Program,Arts and Crafts,Education,Literacy
ORGANIZER;CN="Irma Garcia":MAILTO:igarcia@fresnohousing.org
END:VEVENT
BEGIN:VEVENT
DTSTART;TZID=America/Los_Angeles:20231107T133000
DTEND;TZID=America/Los_Angeles:20231107T143000
DTSTAMP:20260419T063137
CREATED:20231031T185739Z
LAST-MODIFIED:20231031T185739Z
UID:20128-1699363800-1699367400@fresnohousing.org
SUMMARY:Veterans Day Workshop
DESCRIPTION:Veteran’s Day is celebrated on November 11 to commemorate those who have fought for the USA. The workshop will include history of Veteran’s Day\, local celebrations in the Central Valley and will give local resources for veterans. 
URL:https://fresnohousing.org/event/veterans-day-workshop-2/
LOCATION:Parc Grove Commons\, 2674 E Clinton Ave\, Fresno\, CA\, 93703\, United States
CATEGORIES:Community Engagement,Diversity Equity & Inclusion,Education
ORGANIZER;CN="Edward Gama":MAILTO:egama@fresnohousing.org
END:VEVENT
BEGIN:VEVENT
DTSTART;TZID=America/Los_Angeles:20231113T100000
DTEND;TZID=America/Los_Angeles:20231113T110000
DTSTAMP:20260419T063138
CREATED:20231031T185900Z
LAST-MODIFIED:20231031T185900Z
UID:20130-1699869600-1699873200@fresnohousing.org
SUMMARY:Veteran's Day Workshop
DESCRIPTION:Veteran’s Day is celebrated on November 11 to commemorate those who have fought for the USA. The workshop will include history of Veteran’s Day\, local celebrations in the Central Valley and will give local resources for veterans. 
URL:https://fresnohousing.org/event/veterans-day-workshop-3/
LOCATION:Legacy Commons\, Fresno\, 93706
CATEGORIES:Community Engagement,Diversity Equity & Inclusion,Education
END:VEVENT
BEGIN:VEVENT
DTSTART;TZID=America/Los_Angeles:20231114T170000
DTEND;TZID=America/Los_Angeles:20231114T180000
DTSTAMP:20260419T063138
CREATED:20231031T212640Z
LAST-MODIFIED:20231031T212640Z
UID:20165-1699981200-1699984800@fresnohousing.org
SUMMARY:LCAP Meeting 
DESCRIPTION:LCAP Meeting  \n  \nFresno Unified School District Community Meeting for FUSD Families. Families who attend will receive a 1 adult ticket\, 1 child ticket\, and a ticket for giraffe feeding for the Chaffee Zoo.  \n  
URL:https://fresnohousing.org/event/lcap-meeting/
LOCATION:Parc Grove Commons\, 2674 E Clinton Ave\, Fresno\, CA\, 93703\, United States
CATEGORIES:Community Engagement,Education
ORGANIZER;CN="Edward Gama":MAILTO:egama@fresnohousing.org
END:VEVENT
BEGIN:VEVENT
DTSTART;TZID=America/Los_Angeles:20231114T170000
DTEND;TZID=America/Los_Angeles:20231114T200000
DTSTAMP:20260419T063138
CREATED:20231031T192533Z
LAST-MODIFIED:20231031T192533Z
UID:20144-1699981200-1699992000@fresnohousing.org
SUMMARY:Leadership Council Meeting
DESCRIPTION:Leadership Council Meeting  \nJewels of Justice/ Dr. Karen Crozier  \nLegacy Commons      Tuesday\, November 14\, 2023 / 5:00PM – 8:00PM  \nThe leadership council is joined by members of the community and Legacy residents.  The focus of the council is for residents and members to be able to serve the people\, advance Black self-care and wellness in Fresno County\, and to advocate for appropriate and relevant funds\, programs and services. 
URL:https://fresnohousing.org/event/leadership-council-meeting/
LOCATION:Legacy Commons\, Fresno\, 93706
CATEGORIES:Community Engagement,Diversity Equity & Inclusion,Diversity Equity & Inclusion,Education,Health & Wellness,Life Skills
END:VEVENT
BEGIN:VEVENT
DTSTART;TZID=America/Los_Angeles:20231115T133000
DTEND;TZID=America/Los_Angeles:20231115T143000
DTSTAMP:20260419T063138
CREATED:20231031T190326Z
LAST-MODIFIED:20231031T190326Z
UID:20132-1700055000-1700058600@fresnohousing.org
SUMMARY:Veteran's Day Workshop
DESCRIPTION:Veteran’s Day is celebrated on November 11 to commemorate those who have fought for the USA. The workshop will include history of Veteran’s Day\, local celebrations in the Central Valley and will give local resources for veterans. 
URL:https://fresnohousing.org/event/veterans-day-workshop-4/
LOCATION:Cedar Courts\, CA\, United States
CATEGORIES:Community Engagement,Diversity Equity & Inclusion,Education
END:VEVENT
BEGIN:VEVENT
DTSTART;TZID=America/Los_Angeles:20231116T130000
DTEND;TZID=America/Los_Angeles:20231116T130000
DTSTAMP:20260419T063138
CREATED:20231031T200626Z
LAST-MODIFIED:20231031T200626Z
UID:20148-1700139600-1700139600@fresnohousing.org
SUMMARY:CPR Training Class 
DESCRIPTION:CPR Training Class  \nThe Health Disparity Program in Partnership with West Fresno Family Resource Center  \n  \nLegacy Commons     Thursday\, November 16\, 2023 / 1:00PM – 5:00PM  \n  \nThe CPR Training will teach individuals how to provide immediate care to someone experiencing a cardiac arrest or a sudden medical emergency.  This class is geared towards those who would like to learn lifesaving skills or required to learn CPR for their employment. This class is also for parents of small children\, anyone living with someone who has health issues or for those who would like to learn about CPR. 
URL:https://fresnohousing.org/event/cpr-training-class/
LOCATION:Legacy Commons\, Fresno\, 93706
CATEGORIES:Education,Health & Wellness,Life Skills
END:VEVENT
BEGIN:VEVENT
DTSTART;TZID=America/Los_Angeles:20231120T143000
DTEND;TZID=America/Los_Angeles:20231120T153000
DTSTAMP:20260419T063138
CREATED:20231031T212857Z
LAST-MODIFIED:20231031T212857Z
UID:20167-1700490600-1700494200@fresnohousing.org
SUMMARY:Fresno County Library - Library Card Sign up Workshop 
DESCRIPTION:Fresno County Library-Library Card Sign up Workshop  \nParc Grove Commons- November 20\, 2023\, 2:30-3:30 pm  \n  \nSign up for a library card with local librarians on site. Residents will be able to learn about different programming that is available to them for free provided by the library.  
URL:https://fresnohousing.org/event/fresno-county-library-library-card-sign-up-workshop/
LOCATION:Parc Grove Commons\, 2674 E Clinton Ave\, Fresno\, CA\, 93703\, United States
CATEGORIES:Community Engagement,Education,Life Skills,Literacy
ORGANIZER;CN="Edward Gama":MAILTO:egama@fresnohousing.org
END:VEVENT
BEGIN:VEVENT
DTSTART;TZID=America/Los_Angeles:20231127T110000
DTEND;TZID=America/Los_Angeles:20231127T150000
DTSTAMP:20260419T063138
CREATED:20231031T213415Z
LAST-MODIFIED:20231031T213415Z
UID:20171-1701082800-1701097200@fresnohousing.org
SUMMARY:Lending Library - Community Art Painting Project
DESCRIPTION:Lending Library  \nCommunity painting project to turn a Fresno Bee Newspaper Box into a Lending Library.  \n  \nPaseo 55               Monday November 27\, 2023 @11am 
URL:https://fresnohousing.org/event/lending-library-community-art-painting-project/
LOCATION:Paseo 55\, 1233 G Street\, Reedly\, CA\, 93654\, United States
CATEGORIES:Arts and Crafts,Community Engagement,Literacy
END:VEVENT
BEGIN:VEVENT
DTSTART;TZID=America/Los_Angeles:20231130T140000
DTEND;TZID=America/Los_Angeles:20231130T160000
DTSTAMP:20260419T063138
CREATED:20231031T190536Z
LAST-MODIFIED:20231031T190536Z
UID:20134-1701352800-1701360000@fresnohousing.org
SUMMARY:Veteran's Day Workshop
DESCRIPTION:Veteran’s Day is celebrated on November 11 to commemorate those who have fought for the USA. The workshop will include history of Veteran’s Day\, local celebrations in the Central Valley and will give local resources for veterans. 
URL:https://fresnohousing.org/event/veterans-day-workshop-5/
LOCATION:Bridges at Florence\, 649 E Florence Ave\, Fresno\, CA\, 93706\, United States
CATEGORIES:Community Engagement,Diversity Equity & Inclusion,Education
END:VEVENT
END:VCALENDAR