
BEGIN:VCALENDAR
VERSION:2.0
PRODID:-//Fresno Housing - ECPv6.15.12.2//NONSGML v1.0//EN
CALSCALE:GREGORIAN
METHOD:PUBLISH
X-ORIGINAL-URL:https://fresnohousing.org
X-WR-CALDESC:Events for Fresno Housing
REFRESH-INTERVAL;VALUE=DURATION:PT1H
X-Robots-Tag:noindex
X-PUBLISHED-TTL:PT1H
BEGIN:VTIMEZONE
TZID:America/Los_Angeles
BEGIN:DAYLIGHT
TZOFFSETFROM:-0800
TZOFFSETTO:-0700
TZNAME:PDT
DTSTART:20240310T100000
END:DAYLIGHT
BEGIN:STANDARD
TZOFFSETFROM:-0700
TZOFFSETTO:-0800
TZNAME:PST
DTSTART:20241103T090000
END:STANDARD
BEGIN:DAYLIGHT
TZOFFSETFROM:-0800
TZOFFSETTO:-0700
TZNAME:PDT
DTSTART:20250309T100000
END:DAYLIGHT
BEGIN:STANDARD
TZOFFSETFROM:-0700
TZOFFSETTO:-0800
TZNAME:PST
DTSTART:20251102T090000
END:STANDARD
BEGIN:DAYLIGHT
TZOFFSETFROM:-0800
TZOFFSETTO:-0700
TZNAME:PDT
DTSTART:20260308T100000
END:DAYLIGHT
BEGIN:STANDARD
TZOFFSETFROM:-0700
TZOFFSETTO:-0800
TZNAME:PST
DTSTART:20261101T090000
END:STANDARD
END:VTIMEZONE
BEGIN:VEVENT
DTSTART;TZID=America/Los_Angeles:20250924T100000
DTEND;TZID=America/Los_Angeles:20250924T120000
DTSTAMP:20260422T205452
CREATED:20250902T214029Z
LAST-MODIFIED:20250902T214029Z
UID:24767-1758708000-1758715200@fresnohousing.org
SUMMARY:Hispanic Heritage Celebration - Corazon del Valle
DESCRIPTION:Hispanic Heritage Celebration  \nResidents will learn more about Hispanic Heritage and why it is celebrated in September. Residents will have the opportunity to share their family history. Residents are going to create an art project that represents the Hispanic Heritage.  \nCorazon del Valle – 9/24/25 @ 10am to 12pm  \n  \n 
URL:https://fresnohousing.org/event/hispanic-heritage-celebration-corazon-del-valle/
LOCATION:Corazon del Valle\, 36307 Fresno St.\, Huron\, CA\, 93234\, United States
CATEGORIES:Community Engagement,Diversity Equity & Inclusion
ORGANIZER;CN="Eunice Gomez":MAILTO:egomez@fresnohousing.org
END:VEVENT
BEGIN:VEVENT
DTSTART;TZID=America/Los_Angeles:20250925T100000
DTEND;TZID=America/Los_Angeles:20250925T120000
DTSTAMP:20260422T205452
CREATED:20250902T214504Z
LAST-MODIFIED:20250902T214540Z
UID:24769-1758794400-1758801600@fresnohousing.org
SUMMARY:Hispanic Heritage Celebration - Alegre Commons
DESCRIPTION:Hispanic Heritage Celebration  \nResidents will learn more about Hispanic Heritage and why it is celebrated in September. Residents will have the opportunity to share their family history. Residents are going to create an art project that represents the Hispanic Heritage.  \n  \nAlegre Commons – 9/25/25 @ 10am to 12pm  \n 
URL:https://fresnohousing.org/event/hispanic-heritage-celebration-alegre-commons/
LOCATION:Alegre Commons\, 130 W Barstow Ave\, Fresno\, CA\, 93704\, United States
CATEGORIES:Community Engagement,Diversity Equity & Inclusion
ORGANIZER;CN="Eunice Gomez":MAILTO:egomez@fresnohousing.org
END:VEVENT
END:VCALENDAR