
BEGIN:VCALENDAR
VERSION:2.0
PRODID:-//Fresno Housing - ECPv6.15.12.2//NONSGML v1.0//EN
CALSCALE:GREGORIAN
METHOD:PUBLISH
X-WR-CALNAME:Fresno Housing
X-ORIGINAL-URL:https://fresnohousing.org
X-WR-CALDESC:Events for Fresno Housing
REFRESH-INTERVAL;VALUE=DURATION:PT1H
X-Robots-Tag:noindex
X-PUBLISHED-TTL:PT1H
BEGIN:VTIMEZONE
TZID:America/Los_Angeles
BEGIN:DAYLIGHT
TZOFFSETFROM:-0800
TZOFFSETTO:-0700
TZNAME:PDT
DTSTART:20240310T100000
END:DAYLIGHT
BEGIN:STANDARD
TZOFFSETFROM:-0700
TZOFFSETTO:-0800
TZNAME:PST
DTSTART:20241103T090000
END:STANDARD
BEGIN:DAYLIGHT
TZOFFSETFROM:-0800
TZOFFSETTO:-0700
TZNAME:PDT
DTSTART:20250309T100000
END:DAYLIGHT
BEGIN:STANDARD
TZOFFSETFROM:-0700
TZOFFSETTO:-0800
TZNAME:PST
DTSTART:20251102T090000
END:STANDARD
BEGIN:DAYLIGHT
TZOFFSETFROM:-0800
TZOFFSETTO:-0700
TZNAME:PDT
DTSTART:20260308T100000
END:DAYLIGHT
BEGIN:STANDARD
TZOFFSETFROM:-0700
TZOFFSETTO:-0800
TZNAME:PST
DTSTART:20261101T090000
END:STANDARD
END:VTIMEZONE
BEGIN:VEVENT
DTSTART;TZID=America/Los_Angeles:20250701T070000
DTEND;TZID=America/Los_Angeles:20250701T140000
DTSTAMP:20260423T065508
CREATED:20250630T203920Z
LAST-MODIFIED:20250630T203920Z
UID:23871-1751353200-1751378400@fresnohousing.org
SUMMARY:Workforce Development - Construction Program
DESCRIPTION:Fresno EOC VAC program is providing a training program on construction. Students will earn 8 safety certificates in Construction and 3 certificates on Grade Checking Blueprint reading\, and Residential Writing. Students will have hands on training. This course is 12 weeks; in July they only have 2 weeks left. This is the second cohort at Granada Commons\, and they will graduate on 7/11. 
URL:https://fresnohousing.org/event/workforce-development-construction-program/2025-07-01/
LOCATION:Granada Commons\, 14570 W California Ave\, Kerman\, CA\, 93630\, United States
ORGANIZER;CN="Eunice Gomez":MAILTO:egomez@fresnohousing.org
END:VEVENT
BEGIN:VEVENT
DTSTART;TZID=America/Los_Angeles:20250701T100000
DTEND;TZID=America/Los_Angeles:20250701T120000
DTSTAMP:20260423T065508
CREATED:20250630T204100Z
LAST-MODIFIED:20250630T204100Z
UID:23878-1751364000-1751371200@fresnohousing.org
SUMMARY:Everyone On – Digital Class
DESCRIPTION:Everyone On will bring a holistic approach to digital inclusion that connects and intersects affordable internet and computers\, trains individuals and our residents on digital skills and resources and advances fair and just policies. 
URL:https://fresnohousing.org/event/everyone-on-digital-class/2025-07-01/
LOCATION:Cedar Courts\, CA\, United States
ORGANIZER;CN="Gladis Perez":MAILTO:gladisp@fresnohousing.org
END:VEVENT
BEGIN:VEVENT
DTSTART;TZID=America/Los_Angeles:20250701T103000
DTEND;TZID=America/Los_Angeles:20250701T113000
DTSTAMP:20260423T065508
CREATED:20250630T203423Z
LAST-MODIFIED:20250630T203423Z
UID:23865-1751365800-1751369400@fresnohousing.org
SUMMARY:Alzheimer's Awareness (Alzheimer’s Association)
DESCRIPTION:Alzheimer’s Association will educate residents on the complexities for Alzheimer’s and Dementia. The residents will learn the difference between Alzheimer’s and dementia\, stages and risk factors\, current research and treatments available for some symptoms\, and Alzheimer’s Association resources.
URL:https://fresnohousing.org/event/alzheimers-awareness-alzheimers-association/
LOCATION:Rio Villas\, 1238 P Street\, Firebaugh\, CA\, 93622\, United States
ORGANIZER;CN="Eunice Gomez":MAILTO:egomez@fresnohousing.org
END:VEVENT
BEGIN:VEVENT
DTSTART;TZID=America/Los_Angeles:20250701T130000
DTEND;TZID=America/Los_Angeles:20250701T140000
DTSTAMP:20260423T065508
CREATED:20250630T203640Z
LAST-MODIFIED:20250630T203640Z
UID:23867-1751374800-1751378400@fresnohousing.org
SUMMARY:Alzheimer's Awareness (Alzheimer’s Association)
DESCRIPTION:Alzheimer’s Association will educate residents on the complexities for Alzheimer’s and Dementia. The residents will learn the difference between Alzheimer’s and dementia\, stages and risk factors\, current research and treatments available for some symptoms\, and Alzheimer’s Association resources.  
URL:https://fresnohousing.org/event/alzheimers-awareness-alzheimers-association-2/
LOCATION:Rios Terrace\, 191 Tuft Street\, Mendota\, CA\, 93640\, United States
ORGANIZER;CN="Eunice Gomez":MAILTO:egomez@fresnohousing.org
END:VEVENT
BEGIN:VEVENT
DTSTART;TZID=America/Los_Angeles:20250701T130000
DTEND;TZID=America/Los_Angeles:20250701T150000
DTSTAMP:20260423T065508
CREATED:20250630T202535Z
LAST-MODIFIED:20250630T202535Z
UID:23831-1751374800-1751382000@fresnohousing.org
SUMMARY:Summer Reading Program
DESCRIPTION:Youth residents are engaging in an interactive\, creative Summer Literacy Program. Each lesson allows participants to read a book and enjoy activities tied to the book subject provided by Program Coordinators of Fresno Housing. The program is open to the entire family and the activities vary from activity packets\, crafts\, brain breaks\, exercise\, and more. 
URL:https://fresnohousing.org/event/summer-reading-program-6/2025-07-01/
LOCATION:Blossom Trail Commons\, 285 J Street\, Sanger\, 93657\, United States
ORGANIZER;CN="Gladis Perez":MAILTO:gladisp@fresnohousing.org
END:VEVENT
END:VCALENDAR