
BEGIN:VCALENDAR
VERSION:2.0
PRODID:-//Fresno Housing - ECPv6.15.12.2//NONSGML v1.0//EN
CALSCALE:GREGORIAN
METHOD:PUBLISH
X-ORIGINAL-URL:https://fresnohousing.org
X-WR-CALDESC:Events for Fresno Housing
REFRESH-INTERVAL;VALUE=DURATION:PT1H
X-Robots-Tag:noindex
X-PUBLISHED-TTL:PT1H
BEGIN:VTIMEZONE
TZID:America/Los_Angeles
BEGIN:DAYLIGHT
TZOFFSETFROM:-0800
TZOFFSETTO:-0700
TZNAME:PDT
DTSTART:20240310T100000
END:DAYLIGHT
BEGIN:STANDARD
TZOFFSETFROM:-0700
TZOFFSETTO:-0800
TZNAME:PST
DTSTART:20241103T090000
END:STANDARD
BEGIN:DAYLIGHT
TZOFFSETFROM:-0800
TZOFFSETTO:-0700
TZNAME:PDT
DTSTART:20250309T100000
END:DAYLIGHT
BEGIN:STANDARD
TZOFFSETFROM:-0700
TZOFFSETTO:-0800
TZNAME:PST
DTSTART:20251102T090000
END:STANDARD
BEGIN:DAYLIGHT
TZOFFSETFROM:-0800
TZOFFSETTO:-0700
TZNAME:PDT
DTSTART:20260308T100000
END:DAYLIGHT
BEGIN:STANDARD
TZOFFSETFROM:-0700
TZOFFSETTO:-0800
TZNAME:PST
DTSTART:20261101T090000
END:STANDARD
END:VTIMEZONE
BEGIN:VEVENT
DTSTART;TZID=America/Los_Angeles:20250618T093000
DTEND;TZID=America/Los_Angeles:20250618T110000
DTSTAMP:20260421T174734
CREATED:20250603T180137Z
LAST-MODIFIED:20250603T180137Z
UID:23400-1750239000-1750244400@fresnohousing.org
SUMMARY:Juneteenth Education and Painting Workshop  - Renaissance at Alta Monte
DESCRIPTION:Juneteenth Education and Painting Workshop  \nResidents will be educated on the history and significance of Juneteenth. Residents will also be led in a painting activity and provided supplies and prompts.   \n  \nRenaissance at Alta Monte – June 18th from 9:30 to 11am 
URL:https://fresnohousing.org/event/juneteenth-education-and-painting-workshop-renaissance-at-alta-monte/
LOCATION:Renaissance at Alta Monte\, 205 N Blackstone Ave.\, Fresno\, CA\, 93706\, United States
CATEGORIES:Arts and Crafts,Diversity Equity & Inclusion
END:VEVENT
BEGIN:VEVENT
DTSTART;TZID=America/Los_Angeles:20250618T110000
DTEND;TZID=America/Los_Angeles:20250618T120000
DTSTAMP:20260421T174734
CREATED:20250603T171253Z
LAST-MODIFIED:20250603T171253Z
UID:23363-1750244400-1750248000@fresnohousing.org
SUMMARY:Everyone On Program 
DESCRIPTION:Everyone On Program  \nEveryone On will bring a holistic approach to digital inclusion that connects and intersects affordable internet and computers\, trains individuals and our residents on digital skills and resources and advances fair and just policies.  \n  \nLegacy Commons- June 18th & 25th @ 11am-12pm 
URL:https://fresnohousing.org/event/everyone-on-program/2025-06-18/
LOCATION:Legacy Commons\, Fresno\, 93706
CATEGORIES:Computer/Digital Literacy
ORGANIZER;CN="Danny Bravo":MAILTO:dbravo@fresnohousing.org
END:VEVENT
BEGIN:VEVENT
DTSTART;TZID=America/Los_Angeles:20250618T120000
DTEND;TZID=America/Los_Angeles:20250618T133000
DTSTAMP:20260421T174734
CREATED:20250602T231225Z
LAST-MODIFIED:20250602T231225Z
UID:23348-1750248000-1750253400@fresnohousing.org
SUMMARY:Family Summer Reading Program  - The Arthur @ Blackstone
DESCRIPTION:Family Summer Reading Program   \n  \nFamilies are invited to participate in a summer literacy program. The program consists of a book reading and activities connected to the reading. Parents and caregivers are encouraged to bring children in support of summer reading.   \n  \nThe Arthur @ Blackstone – June 18th and 25th from 12 to 1:30.  \n 
URL:https://fresnohousing.org/event/family-summer-reading-program-the-arthur-blackstone/2025-06-18/
LOCATION:The Arthur at Blackstone\, 3045 N Blackstone Ave\, Fresno\, CA\, 93706\, United States
CATEGORIES:Arts and Crafts,Education,Literacy
ORGANIZER;CN="Eunice Gomez":MAILTO:egomez@fresnohousing.org
END:VEVENT
BEGIN:VEVENT
DTSTART;TZID=America/Los_Angeles:20250618T130000
DTEND;TZID=America/Los_Angeles:20250618T150000
DTSTAMP:20260421T174734
CREATED:20250603T170746Z
LAST-MODIFIED:20250603T170746Z
UID:23356-1750251600-1750258800@fresnohousing.org
SUMMARY:Summer Youth Literacy Club 
DESCRIPTION:Summer Youth Literacy Club  \n  \nThis youth reading club is designed to foster a love for reading while keeping kids engaged and learning during the summer months! This program encourages curiosity\, creativity\, and critical thinking through themed reading sessions\, discussions\, and interactive activities.  \n  \nLegacy Commons- June 11th\, 18th\, and 25th @ 1pm-3pm 
URL:https://fresnohousing.org/event/summer-youth-literacy-club/2025-06-18/
LOCATION:Legacy Commons\, Fresno\, 93706
CATEGORIES:Education,Literacy
ORGANIZER;CN="Danny Bravo":MAILTO:dbravo@fresnohousing.org
END:VEVENT
BEGIN:VEVENT
DTSTART;TZID=America/Los_Angeles:20250618T160000
DTEND;TZID=America/Los_Angeles:20250618T180000
DTSTAMP:20260421T174734
CREATED:20250602T225226Z
LAST-MODIFIED:20250602T225226Z
UID:23336-1750262400-1750269600@fresnohousing.org
SUMMARY:Home Buying 101 - RE/MAX Success (Realtors) - Kuffle Terrace
DESCRIPTION:Home Buying 101 – RE/MAX Success (Realtors)  \nThe workshop provides an opportunity for residents to unlock the keys to home ownership with guidance through the home buying process.  The education presents a general understanding of mortgage options and navigating the real estate market.  Residents learn how to empower themselves with knowledge for a confident and informed homebuying journey.   \n  \nWednesday\, June 18\, 2025 – Kuffle Terrace (Orange Cove) – 4:00 pm – 6pm  \n 
URL:https://fresnohousing.org/event/home-buying-101-re-max-success-realtors-kuffle-terrace/
LOCATION:Kuffle Terrace\, 100 Maple Ave\, Orange Cove\, CA\, 93646\, United States
CATEGORIES:Homebuyer's Education
ORGANIZER;CN="Irma Garcia":MAILTO:igarcia@fresnohousing.org
END:VEVENT
BEGIN:VEVENT
DTSTART;TZID=America/Los_Angeles:20250618T170000
DTEND;TZID=America/Los_Angeles:20250618T170000
DTSTAMP:20260421T174734
CREATED:20250304T175202Z
LAST-MODIFIED:20250304T175202Z
UID:23407-1750266000-1750266000@fresnohousing.org
SUMMARY:El Joven Noble Youth Leadership Program
DESCRIPTION:El Joven Noble Youth Leadership Program  \nThis is a 12-week program being offered at Yosemite Village. The series hosted by Reading and Beyond\, Youth and Family Strong program; focuses of supporting young men 14-18 years old. The program uses a “trauma-healing approach” to foster leadership skills and enhance youths’ belief in themselves. The program offers leadership curriculum\, educational workshop\, job readiness\, and individualized case management and mentorship to enhance the lives of youth participants.  \n   \nYosemite Village – weekly on Wednesday’s\, 5-6:30pm starting March 5\, 2025 until May 21\, 2025 (12 weeks)  \n  \nYosemite Village Joven Noble
URL:https://fresnohousing.org/event/el-joven-noble-youth-leadership-program/2025-06-18/
LOCATION:Yosemite Village Apartments\, 709 W California Ave.\, Fresno\, CA\, 93706\, United States
CATEGORIES:Community Engagement,Education,Financial Education,GED/HS Diploma,Life Skills,Literacy,Workforce Development
END:VEVENT
END:VCALENDAR