
BEGIN:VCALENDAR
VERSION:2.0
PRODID:-//Fresno Housing - ECPv6.15.12.2//NONSGML v1.0//EN
CALSCALE:GREGORIAN
METHOD:PUBLISH
X-WR-CALNAME:Fresno Housing
X-ORIGINAL-URL:https://fresnohousing.org
X-WR-CALDESC:Events for Fresno Housing
REFRESH-INTERVAL;VALUE=DURATION:PT1H
X-Robots-Tag:noindex
X-PUBLISHED-TTL:PT1H
BEGIN:VTIMEZONE
TZID:America/Los_Angeles
BEGIN:DAYLIGHT
TZOFFSETFROM:-0800
TZOFFSETTO:-0700
TZNAME:PDT
DTSTART:20240310T100000
END:DAYLIGHT
BEGIN:STANDARD
TZOFFSETFROM:-0700
TZOFFSETTO:-0800
TZNAME:PST
DTSTART:20241103T090000
END:STANDARD
BEGIN:DAYLIGHT
TZOFFSETFROM:-0800
TZOFFSETTO:-0700
TZNAME:PDT
DTSTART:20250309T100000
END:DAYLIGHT
BEGIN:STANDARD
TZOFFSETFROM:-0700
TZOFFSETTO:-0800
TZNAME:PST
DTSTART:20251102T090000
END:STANDARD
BEGIN:DAYLIGHT
TZOFFSETFROM:-0800
TZOFFSETTO:-0700
TZNAME:PDT
DTSTART:20260308T100000
END:DAYLIGHT
BEGIN:STANDARD
TZOFFSETFROM:-0700
TZOFFSETTO:-0800
TZNAME:PST
DTSTART:20261101T090000
END:STANDARD
END:VTIMEZONE
BEGIN:VEVENT
DTSTART;TZID=America/Los_Angeles:20250613T100000
DTEND;TZID=America/Los_Angeles:20250613T120000
DTSTAMP:20260424T080646
CREATED:20250603T171936Z
LAST-MODIFIED:20250603T171936Z
UID:23372-1749808800-1749816000@fresnohousing.org
SUMMARY:Community Garden (Cal-Fresh UC Cooperative Extension) 
DESCRIPTION:Community Garden (Cal-Fresh UC Cooperative Extension)  \nA gardening and nutrition class hosted by UC Cooperative Extension Cal-Fresh where residents are invited to join and learn about nutrition and gardening education.  \nSolivita Commons – June – 6/13/25 & 6/25/25 at 10am-12pm  \n                                         –   July – 7/16/25 & 7/31/25 at 10am-12pm 
URL:https://fresnohousing.org/event/community-garden-cal-fresh-uc-cooperative-extension/2025-06-13/
LOCATION:Solivita Commons\, 725 W Alluvial\, Clovis\, CA\, 93612
CATEGORIES:Gardening/Food Cultivation,Health & Wellness
END:VEVENT
BEGIN:VEVENT
DTSTART;TZID=America/Los_Angeles:20250613T140000
DTEND;TZID=America/Los_Angeles:20250613T160000
DTSTAMP:20260424T080646
CREATED:20250528T234941Z
LAST-MODIFIED:20250528T234941Z
UID:23321-1749823200-1749830400@fresnohousing.org
SUMMARY:American Heart Association Series –  Legacy Commons
DESCRIPTION:American Heart Association Series –   \nProgram is designed to help create a culture of health one lesson at a time.  Residents will learn to reduce risks and take steps to a longer\, healthier life. Workshops will be offered at the following sites:  \n  \nLegacy Commons 6/13/2025 @ 2pm- Father’s Day Activity  \n  \n 
URL:https://fresnohousing.org/event/american-heart-association-series-legacy-commons/
LOCATION:Legacy Commons\, Fresno\, 93706
CATEGORIES:Arts and Crafts,Education,Health & Wellness,Meal Program,Nutrition,Physical Fitness
ORGANIZER;CN="Danny Bravo":MAILTO:dbravo@fresnohousing.org
END:VEVENT
BEGIN:VEVENT
DTSTART;TZID=America/Los_Angeles:20250613T153000
DTEND;TZID=America/Los_Angeles:20250613T170000
DTSTAMP:20260424T080646
CREATED:20250304T180714Z
LAST-MODIFIED:20250304T180714Z
UID:22891-1749828600-1749834000@fresnohousing.org
SUMMARY:Young People in Recovery Program Information 
DESCRIPTION:Young People in Recovery Program Information  \nAttendees are invited to learn about the program offered by “Young People in Recovery” (YPR). They learn about their mission\, services and resources\, as well as how each can be tailored to help the individual heal and grow post recovery.  \n  \nPromesa Commons – 3/21/25 at 3:30 (every other Friday) 
URL:https://fresnohousing.org/event/young-people-in-recovery-program-information-3/2025-06-13/
LOCATION:Promesa Commons\, 1101 N Parkway Dr\,\, Fresno\, CA\, 93728\, United States
CATEGORIES:Education,Health & Wellness
ORGANIZER;CN="Nathan Turner":MAILTO:nturner@fresnohousing.org
END:VEVENT
END:VCALENDAR