
BEGIN:VCALENDAR
VERSION:2.0
PRODID:-//Fresno Housing - ECPv6.15.12.2//NONSGML v1.0//EN
CALSCALE:GREGORIAN
METHOD:PUBLISH
X-WR-CALNAME:Fresno Housing
X-ORIGINAL-URL:https://fresnohousing.org
X-WR-CALDESC:Events for Fresno Housing
REFRESH-INTERVAL;VALUE=DURATION:PT1H
X-Robots-Tag:noindex
X-PUBLISHED-TTL:PT1H
BEGIN:VTIMEZONE
TZID:America/Los_Angeles
BEGIN:DAYLIGHT
TZOFFSETFROM:-0800
TZOFFSETTO:-0700
TZNAME:PDT
DTSTART:20240310T100000
END:DAYLIGHT
BEGIN:STANDARD
TZOFFSETFROM:-0700
TZOFFSETTO:-0800
TZNAME:PST
DTSTART:20241103T090000
END:STANDARD
BEGIN:DAYLIGHT
TZOFFSETFROM:-0800
TZOFFSETTO:-0700
TZNAME:PDT
DTSTART:20250309T100000
END:DAYLIGHT
BEGIN:STANDARD
TZOFFSETFROM:-0700
TZOFFSETTO:-0800
TZNAME:PST
DTSTART:20251102T090000
END:STANDARD
BEGIN:DAYLIGHT
TZOFFSETFROM:-0800
TZOFFSETTO:-0700
TZNAME:PDT
DTSTART:20260308T100000
END:DAYLIGHT
BEGIN:STANDARD
TZOFFSETFROM:-0700
TZOFFSETTO:-0800
TZNAME:PST
DTSTART:20261101T090000
END:STANDARD
BEGIN:DAYLIGHT
TZOFFSETFROM:-0800
TZOFFSETTO:-0700
TZNAME:PDT
DTSTART:20270314T100000
END:DAYLIGHT
BEGIN:STANDARD
TZOFFSETFROM:-0700
TZOFFSETTO:-0800
TZNAME:PST
DTSTART:20271107T090000
END:STANDARD
END:VTIMEZONE
BEGIN:VEVENT
DTSTART;TZID=America/Los_Angeles:20260417T153000
DTEND;TZID=America/Los_Angeles:20260417T170000
DTSTAMP:20260422T170713
CREATED:20250304T180714Z
LAST-MODIFIED:20250304T180714Z
UID:22914-1776439800-1776445200@fresnohousing.org
SUMMARY:Young People in Recovery Program Information 
DESCRIPTION:Young People in Recovery Program Information  \nAttendees are invited to learn about the program offered by “Young People in Recovery” (YPR). They learn about their mission\, services and resources\, as well as how each can be tailored to help the individual heal and grow post recovery.  \n  \nPromesa Commons – 3/21/25 at 3:30 (every other Friday) 
URL:https://fresnohousing.org/event/young-people-in-recovery-program-information-3/2026-04-17/
LOCATION:Promesa Commons\, 1101 N Parkway Dr\,\, Fresno\, CA\, 93728\, United States
CATEGORIES:Education,Health & Wellness
ORGANIZER;CN="Nathan Turner":MAILTO:nturner@fresnohousing.org
END:VEVENT
BEGIN:VEVENT
DTSTART;TZID=America/Los_Angeles:20260403T153000
DTEND;TZID=America/Los_Angeles:20260403T170000
DTSTAMP:20260422T170713
CREATED:20250304T180714Z
LAST-MODIFIED:20250304T180714Z
UID:22913-1775230200-1775235600@fresnohousing.org
SUMMARY:Young People in Recovery Program Information 
DESCRIPTION:Young People in Recovery Program Information  \nAttendees are invited to learn about the program offered by “Young People in Recovery” (YPR). They learn about their mission\, services and resources\, as well as how each can be tailored to help the individual heal and grow post recovery.  \n  \nPromesa Commons – 3/21/25 at 3:30 (every other Friday) 
URL:https://fresnohousing.org/event/young-people-in-recovery-program-information-3/2026-04-03/
LOCATION:Promesa Commons\, 1101 N Parkway Dr\,\, Fresno\, CA\, 93728\, United States
CATEGORIES:Education,Health & Wellness
ORGANIZER;CN="Nathan Turner":MAILTO:nturner@fresnohousing.org
END:VEVENT
BEGIN:VEVENT
DTSTART;TZID=America/Los_Angeles:20260320T153000
DTEND;TZID=America/Los_Angeles:20260320T170000
DTSTAMP:20260422T170713
CREATED:20250304T180714Z
LAST-MODIFIED:20250304T180714Z
UID:22912-1774020600-1774026000@fresnohousing.org
SUMMARY:Young People in Recovery Program Information 
DESCRIPTION:Young People in Recovery Program Information  \nAttendees are invited to learn about the program offered by “Young People in Recovery” (YPR). They learn about their mission\, services and resources\, as well as how each can be tailored to help the individual heal and grow post recovery.  \n  \nPromesa Commons – 3/21/25 at 3:30 (every other Friday) 
URL:https://fresnohousing.org/event/young-people-in-recovery-program-information-3/2026-03-20/
LOCATION:Promesa Commons\, 1101 N Parkway Dr\,\, Fresno\, CA\, 93728\, United States
CATEGORIES:Education,Health & Wellness
ORGANIZER;CN="Nathan Turner":MAILTO:nturner@fresnohousing.org
END:VEVENT
BEGIN:VEVENT
DTSTART;TZID=America/Los_Angeles:20260306T153000
DTEND;TZID=America/Los_Angeles:20260306T170000
DTSTAMP:20260422T170713
CREATED:20250304T180714Z
LAST-MODIFIED:20250304T180714Z
UID:22911-1772811000-1772816400@fresnohousing.org
SUMMARY:Young People in Recovery Program Information 
DESCRIPTION:Young People in Recovery Program Information  \nAttendees are invited to learn about the program offered by “Young People in Recovery” (YPR). They learn about their mission\, services and resources\, as well as how each can be tailored to help the individual heal and grow post recovery.  \n  \nPromesa Commons – 3/21/25 at 3:30 (every other Friday) 
URL:https://fresnohousing.org/event/young-people-in-recovery-program-information-3/2026-03-06/
LOCATION:Promesa Commons\, 1101 N Parkway Dr\,\, Fresno\, CA\, 93728\, United States
CATEGORIES:Education,Health & Wellness
ORGANIZER;CN="Nathan Turner":MAILTO:nturner@fresnohousing.org
END:VEVENT
BEGIN:VEVENT
DTSTART;TZID=America/Los_Angeles:20260220T153000
DTEND;TZID=America/Los_Angeles:20260220T170000
DTSTAMP:20260422T170713
CREATED:20250304T180714Z
LAST-MODIFIED:20250304T180714Z
UID:22910-1771601400-1771606800@fresnohousing.org
SUMMARY:Young People in Recovery Program Information 
DESCRIPTION:Young People in Recovery Program Information  \nAttendees are invited to learn about the program offered by “Young People in Recovery” (YPR). They learn about their mission\, services and resources\, as well as how each can be tailored to help the individual heal and grow post recovery.  \n  \nPromesa Commons – 3/21/25 at 3:30 (every other Friday) 
URL:https://fresnohousing.org/event/young-people-in-recovery-program-information-3/2026-02-20/
LOCATION:Promesa Commons\, 1101 N Parkway Dr\,\, Fresno\, CA\, 93728\, United States
CATEGORIES:Education,Health & Wellness
ORGANIZER;CN="Nathan Turner":MAILTO:nturner@fresnohousing.org
END:VEVENT
BEGIN:VEVENT
DTSTART;TZID=America/Los_Angeles:20260206T153000
DTEND;TZID=America/Los_Angeles:20260206T170000
DTSTAMP:20260422T170713
CREATED:20250304T180714Z
LAST-MODIFIED:20250304T180714Z
UID:22909-1770391800-1770397200@fresnohousing.org
SUMMARY:Young People in Recovery Program Information 
DESCRIPTION:Young People in Recovery Program Information  \nAttendees are invited to learn about the program offered by “Young People in Recovery” (YPR). They learn about their mission\, services and resources\, as well as how each can be tailored to help the individual heal and grow post recovery.  \n  \nPromesa Commons – 3/21/25 at 3:30 (every other Friday) 
URL:https://fresnohousing.org/event/young-people-in-recovery-program-information-3/2026-02-06/
LOCATION:Promesa Commons\, 1101 N Parkway Dr\,\, Fresno\, CA\, 93728\, United States
CATEGORIES:Education,Health & Wellness
ORGANIZER;CN="Nathan Turner":MAILTO:nturner@fresnohousing.org
END:VEVENT
BEGIN:VEVENT
DTSTART;TZID=America/Los_Angeles:20260123T153000
DTEND;TZID=America/Los_Angeles:20260123T170000
DTSTAMP:20260422T170713
CREATED:20250304T180714Z
LAST-MODIFIED:20250304T180714Z
UID:22908-1769182200-1769187600@fresnohousing.org
SUMMARY:Young People in Recovery Program Information 
DESCRIPTION:Young People in Recovery Program Information  \nAttendees are invited to learn about the program offered by “Young People in Recovery” (YPR). They learn about their mission\, services and resources\, as well as how each can be tailored to help the individual heal and grow post recovery.  \n  \nPromesa Commons – 3/21/25 at 3:30 (every other Friday) 
URL:https://fresnohousing.org/event/young-people-in-recovery-program-information-3/2026-01-23/
LOCATION:Promesa Commons\, 1101 N Parkway Dr\,\, Fresno\, CA\, 93728\, United States
CATEGORIES:Education,Health & Wellness
ORGANIZER;CN="Nathan Turner":MAILTO:nturner@fresnohousing.org
END:VEVENT
BEGIN:VEVENT
DTSTART;TZID=America/Los_Angeles:20260109T153000
DTEND;TZID=America/Los_Angeles:20260109T170000
DTSTAMP:20260422T170713
CREATED:20250304T180714Z
LAST-MODIFIED:20250304T180714Z
UID:22907-1767972600-1767978000@fresnohousing.org
SUMMARY:Young People in Recovery Program Information 
DESCRIPTION:Young People in Recovery Program Information  \nAttendees are invited to learn about the program offered by “Young People in Recovery” (YPR). They learn about their mission\, services and resources\, as well as how each can be tailored to help the individual heal and grow post recovery.  \n  \nPromesa Commons – 3/21/25 at 3:30 (every other Friday) 
URL:https://fresnohousing.org/event/young-people-in-recovery-program-information-3/2026-01-09/
LOCATION:Promesa Commons\, 1101 N Parkway Dr\,\, Fresno\, CA\, 93728\, United States
CATEGORIES:Education,Health & Wellness
ORGANIZER;CN="Nathan Turner":MAILTO:nturner@fresnohousing.org
END:VEVENT
BEGIN:VEVENT
DTSTART;TZID=America/Los_Angeles:20251226T153000
DTEND;TZID=America/Los_Angeles:20251226T170000
DTSTAMP:20260422T170713
CREATED:20250304T180714Z
LAST-MODIFIED:20250304T180714Z
UID:22906-1766763000-1766768400@fresnohousing.org
SUMMARY:Young People in Recovery Program Information 
DESCRIPTION:Young People in Recovery Program Information  \nAttendees are invited to learn about the program offered by “Young People in Recovery” (YPR). They learn about their mission\, services and resources\, as well as how each can be tailored to help the individual heal and grow post recovery.  \n  \nPromesa Commons – 3/21/25 at 3:30 (every other Friday) 
URL:https://fresnohousing.org/event/young-people-in-recovery-program-information-3/2025-12-26/
LOCATION:Promesa Commons\, 1101 N Parkway Dr\,\, Fresno\, CA\, 93728\, United States
CATEGORIES:Education,Health & Wellness
ORGANIZER;CN="Nathan Turner":MAILTO:nturner@fresnohousing.org
END:VEVENT
BEGIN:VEVENT
DTSTART;TZID=America/Los_Angeles:20251212T153000
DTEND;TZID=America/Los_Angeles:20251212T170000
DTSTAMP:20260422T170713
CREATED:20250304T180714Z
LAST-MODIFIED:20250304T180714Z
UID:22905-1765553400-1765558800@fresnohousing.org
SUMMARY:Young People in Recovery Program Information 
DESCRIPTION:Young People in Recovery Program Information  \nAttendees are invited to learn about the program offered by “Young People in Recovery” (YPR). They learn about their mission\, services and resources\, as well as how each can be tailored to help the individual heal and grow post recovery.  \n  \nPromesa Commons – 3/21/25 at 3:30 (every other Friday) 
URL:https://fresnohousing.org/event/young-people-in-recovery-program-information-3/2025-12-12/
LOCATION:Promesa Commons\, 1101 N Parkway Dr\,\, Fresno\, CA\, 93728\, United States
CATEGORIES:Education,Health & Wellness
ORGANIZER;CN="Nathan Turner":MAILTO:nturner@fresnohousing.org
END:VEVENT
BEGIN:VEVENT
DTSTART;TZID=America/Los_Angeles:20251128T153000
DTEND;TZID=America/Los_Angeles:20251128T170000
DTSTAMP:20260422T170713
CREATED:20250304T180714Z
LAST-MODIFIED:20250304T180714Z
UID:22904-1764343800-1764349200@fresnohousing.org
SUMMARY:Young People in Recovery Program Information 
DESCRIPTION:Young People in Recovery Program Information  \nAttendees are invited to learn about the program offered by “Young People in Recovery” (YPR). They learn about their mission\, services and resources\, as well as how each can be tailored to help the individual heal and grow post recovery.  \n  \nPromesa Commons – 3/21/25 at 3:30 (every other Friday) 
URL:https://fresnohousing.org/event/young-people-in-recovery-program-information-3/2025-11-28/
LOCATION:Promesa Commons\, 1101 N Parkway Dr\,\, Fresno\, CA\, 93728\, United States
CATEGORIES:Education,Health & Wellness
ORGANIZER;CN="Nathan Turner":MAILTO:nturner@fresnohousing.org
END:VEVENT
BEGIN:VEVENT
DTSTART;TZID=America/Los_Angeles:20251114T153000
DTEND;TZID=America/Los_Angeles:20251114T170000
DTSTAMP:20260422T170713
CREATED:20250304T180714Z
LAST-MODIFIED:20250304T180714Z
UID:22903-1763134200-1763139600@fresnohousing.org
SUMMARY:Young People in Recovery Program Information 
DESCRIPTION:Young People in Recovery Program Information  \nAttendees are invited to learn about the program offered by “Young People in Recovery” (YPR). They learn about their mission\, services and resources\, as well as how each can be tailored to help the individual heal and grow post recovery.  \n  \nPromesa Commons – 3/21/25 at 3:30 (every other Friday) 
URL:https://fresnohousing.org/event/young-people-in-recovery-program-information-3/2025-11-14/
LOCATION:Promesa Commons\, 1101 N Parkway Dr\,\, Fresno\, CA\, 93728\, United States
CATEGORIES:Education,Health & Wellness
ORGANIZER;CN="Nathan Turner":MAILTO:nturner@fresnohousing.org
END:VEVENT
BEGIN:VEVENT
DTSTART;TZID=America/Los_Angeles:20251031T153000
DTEND;TZID=America/Los_Angeles:20251031T170000
DTSTAMP:20260422T170713
CREATED:20250304T180714Z
LAST-MODIFIED:20250304T180714Z
UID:22902-1761924600-1761930000@fresnohousing.org
SUMMARY:Young People in Recovery Program Information 
DESCRIPTION:Young People in Recovery Program Information  \nAttendees are invited to learn about the program offered by “Young People in Recovery” (YPR). They learn about their mission\, services and resources\, as well as how each can be tailored to help the individual heal and grow post recovery.  \n  \nPromesa Commons – 3/21/25 at 3:30 (every other Friday) 
URL:https://fresnohousing.org/event/young-people-in-recovery-program-information-3/2025-10-31/
LOCATION:Promesa Commons\, 1101 N Parkway Dr\,\, Fresno\, CA\, 93728\, United States
CATEGORIES:Education,Health & Wellness
ORGANIZER;CN="Nathan Turner":MAILTO:nturner@fresnohousing.org
END:VEVENT
BEGIN:VEVENT
DTSTART;TZID=America/Los_Angeles:20251017T153000
DTEND;TZID=America/Los_Angeles:20251017T170000
DTSTAMP:20260422T170713
CREATED:20250304T180714Z
LAST-MODIFIED:20250304T180714Z
UID:22901-1760715000-1760720400@fresnohousing.org
SUMMARY:Young People in Recovery Program Information 
DESCRIPTION:Young People in Recovery Program Information  \nAttendees are invited to learn about the program offered by “Young People in Recovery” (YPR). They learn about their mission\, services and resources\, as well as how each can be tailored to help the individual heal and grow post recovery.  \n  \nPromesa Commons – 3/21/25 at 3:30 (every other Friday) 
URL:https://fresnohousing.org/event/young-people-in-recovery-program-information-3/2025-10-17/
LOCATION:Promesa Commons\, 1101 N Parkway Dr\,\, Fresno\, CA\, 93728\, United States
CATEGORIES:Education,Health & Wellness
ORGANIZER;CN="Nathan Turner":MAILTO:nturner@fresnohousing.org
END:VEVENT
BEGIN:VEVENT
DTSTART;TZID=America/Los_Angeles:20251003T153000
DTEND;TZID=America/Los_Angeles:20251003T170000
DTSTAMP:20260422T170713
CREATED:20250304T180714Z
LAST-MODIFIED:20250304T180714Z
UID:22900-1759505400-1759510800@fresnohousing.org
SUMMARY:Young People in Recovery Program Information 
DESCRIPTION:Young People in Recovery Program Information  \nAttendees are invited to learn about the program offered by “Young People in Recovery” (YPR). They learn about their mission\, services and resources\, as well as how each can be tailored to help the individual heal and grow post recovery.  \n  \nPromesa Commons – 3/21/25 at 3:30 (every other Friday) 
URL:https://fresnohousing.org/event/young-people-in-recovery-program-information-3/2025-10-03/
LOCATION:Promesa Commons\, 1101 N Parkway Dr\,\, Fresno\, CA\, 93728\, United States
CATEGORIES:Education,Health & Wellness
ORGANIZER;CN="Nathan Turner":MAILTO:nturner@fresnohousing.org
END:VEVENT
BEGIN:VEVENT
DTSTART;TZID=America/Los_Angeles:20250919T153000
DTEND;TZID=America/Los_Angeles:20250919T170000
DTSTAMP:20260422T170713
CREATED:20250304T180714Z
LAST-MODIFIED:20250304T180714Z
UID:22899-1758295800-1758301200@fresnohousing.org
SUMMARY:Young People in Recovery Program Information 
DESCRIPTION:Young People in Recovery Program Information  \nAttendees are invited to learn about the program offered by “Young People in Recovery” (YPR). They learn about their mission\, services and resources\, as well as how each can be tailored to help the individual heal and grow post recovery.  \n  \nPromesa Commons – 3/21/25 at 3:30 (every other Friday) 
URL:https://fresnohousing.org/event/young-people-in-recovery-program-information-3/2025-09-19/
LOCATION:Promesa Commons\, 1101 N Parkway Dr\,\, Fresno\, CA\, 93728\, United States
CATEGORIES:Education,Health & Wellness
ORGANIZER;CN="Nathan Turner":MAILTO:nturner@fresnohousing.org
END:VEVENT
BEGIN:VEVENT
DTSTART;TZID=America/Los_Angeles:20250905T153000
DTEND;TZID=America/Los_Angeles:20250905T170000
DTSTAMP:20260422T170713
CREATED:20250304T180714Z
LAST-MODIFIED:20250304T180714Z
UID:22898-1757086200-1757091600@fresnohousing.org
SUMMARY:Young People in Recovery Program Information 
DESCRIPTION:Young People in Recovery Program Information  \nAttendees are invited to learn about the program offered by “Young People in Recovery” (YPR). They learn about their mission\, services and resources\, as well as how each can be tailored to help the individual heal and grow post recovery.  \n  \nPromesa Commons – 3/21/25 at 3:30 (every other Friday) 
URL:https://fresnohousing.org/event/young-people-in-recovery-program-information-3/2025-09-05/
LOCATION:Promesa Commons\, 1101 N Parkway Dr\,\, Fresno\, CA\, 93728\, United States
CATEGORIES:Education,Health & Wellness
ORGANIZER;CN="Nathan Turner":MAILTO:nturner@fresnohousing.org
END:VEVENT
BEGIN:VEVENT
DTSTART;TZID=America/Los_Angeles:20250822T153000
DTEND;TZID=America/Los_Angeles:20250822T170000
DTSTAMP:20260422T170713
CREATED:20250304T180714Z
LAST-MODIFIED:20250304T180714Z
UID:22897-1755876600-1755882000@fresnohousing.org
SUMMARY:Young People in Recovery Program Information 
DESCRIPTION:Young People in Recovery Program Information  \nAttendees are invited to learn about the program offered by “Young People in Recovery” (YPR). They learn about their mission\, services and resources\, as well as how each can be tailored to help the individual heal and grow post recovery.  \n  \nPromesa Commons – 3/21/25 at 3:30 (every other Friday) 
URL:https://fresnohousing.org/event/young-people-in-recovery-program-information-3/2025-08-22/
LOCATION:Promesa Commons\, 1101 N Parkway Dr\,\, Fresno\, CA\, 93728\, United States
CATEGORIES:Education,Health & Wellness
ORGANIZER;CN="Nathan Turner":MAILTO:nturner@fresnohousing.org
END:VEVENT
BEGIN:VEVENT
DTSTART;TZID=America/Los_Angeles:20250808T153000
DTEND;TZID=America/Los_Angeles:20250808T170000
DTSTAMP:20260422T170713
CREATED:20250304T180714Z
LAST-MODIFIED:20250304T180714Z
UID:22895-1754667000-1754672400@fresnohousing.org
SUMMARY:Young People in Recovery Program Information 
DESCRIPTION:Young People in Recovery Program Information  \nAttendees are invited to learn about the program offered by “Young People in Recovery” (YPR). They learn about their mission\, services and resources\, as well as how each can be tailored to help the individual heal and grow post recovery.  \n  \nPromesa Commons – 3/21/25 at 3:30 (every other Friday) 
URL:https://fresnohousing.org/event/young-people-in-recovery-program-information-3/2025-08-08/
LOCATION:Promesa Commons\, 1101 N Parkway Dr\,\, Fresno\, CA\, 93728\, United States
CATEGORIES:Education,Health & Wellness
ORGANIZER;CN="Nathan Turner":MAILTO:nturner@fresnohousing.org
END:VEVENT
BEGIN:VEVENT
DTSTART;TZID=America/Los_Angeles:20250725T153000
DTEND;TZID=America/Los_Angeles:20250725T170000
DTSTAMP:20260422T170713
CREATED:20250304T180714Z
LAST-MODIFIED:20250304T180714Z
UID:22894-1753457400-1753462800@fresnohousing.org
SUMMARY:Young People in Recovery Program Information 
DESCRIPTION:Young People in Recovery Program Information  \nAttendees are invited to learn about the program offered by “Young People in Recovery” (YPR). They learn about their mission\, services and resources\, as well as how each can be tailored to help the individual heal and grow post recovery.  \n  \nPromesa Commons – 3/21/25 at 3:30 (every other Friday) 
URL:https://fresnohousing.org/event/young-people-in-recovery-program-information-3/2025-07-25/
LOCATION:Promesa Commons\, 1101 N Parkway Dr\,\, Fresno\, CA\, 93728\, United States
CATEGORIES:Education,Health & Wellness
ORGANIZER;CN="Nathan Turner":MAILTO:nturner@fresnohousing.org
END:VEVENT
BEGIN:VEVENT
DTSTART;TZID=America/Los_Angeles:20250711T153000
DTEND;TZID=America/Los_Angeles:20250711T170000
DTSTAMP:20260422T170713
CREATED:20250304T180714Z
LAST-MODIFIED:20250304T180714Z
UID:22893-1752247800-1752253200@fresnohousing.org
SUMMARY:Young People in Recovery Program Information 
DESCRIPTION:Young People in Recovery Program Information  \nAttendees are invited to learn about the program offered by “Young People in Recovery” (YPR). They learn about their mission\, services and resources\, as well as how each can be tailored to help the individual heal and grow post recovery.  \n  \nPromesa Commons – 3/21/25 at 3:30 (every other Friday) 
URL:https://fresnohousing.org/event/young-people-in-recovery-program-information-3/2025-07-11/
LOCATION:Promesa Commons\, 1101 N Parkway Dr\,\, Fresno\, CA\, 93728\, United States
CATEGORIES:Education,Health & Wellness
ORGANIZER;CN="Nathan Turner":MAILTO:nturner@fresnohousing.org
END:VEVENT
BEGIN:VEVENT
DTSTART;TZID=America/Los_Angeles:20250627T153000
DTEND;TZID=America/Los_Angeles:20250627T170000
DTSTAMP:20260422T170713
CREATED:20250304T180714Z
LAST-MODIFIED:20250304T180714Z
UID:22892-1751038200-1751043600@fresnohousing.org
SUMMARY:Young People in Recovery Program Information 
DESCRIPTION:Young People in Recovery Program Information  \nAttendees are invited to learn about the program offered by “Young People in Recovery” (YPR). They learn about their mission\, services and resources\, as well as how each can be tailored to help the individual heal and grow post recovery.  \n  \nPromesa Commons – 3/21/25 at 3:30 (every other Friday) 
URL:https://fresnohousing.org/event/young-people-in-recovery-program-information-3/2025-06-27/
LOCATION:Promesa Commons\, 1101 N Parkway Dr\,\, Fresno\, CA\, 93728\, United States
CATEGORIES:Education,Health & Wellness
ORGANIZER;CN="Nathan Turner":MAILTO:nturner@fresnohousing.org
END:VEVENT
BEGIN:VEVENT
DTSTART;TZID=America/Los_Angeles:20250613T153000
DTEND;TZID=America/Los_Angeles:20250613T170000
DTSTAMP:20260422T170713
CREATED:20250304T180714Z
LAST-MODIFIED:20250304T180714Z
UID:22891-1749828600-1749834000@fresnohousing.org
SUMMARY:Young People in Recovery Program Information 
DESCRIPTION:Young People in Recovery Program Information  \nAttendees are invited to learn about the program offered by “Young People in Recovery” (YPR). They learn about their mission\, services and resources\, as well as how each can be tailored to help the individual heal and grow post recovery.  \n  \nPromesa Commons – 3/21/25 at 3:30 (every other Friday) 
URL:https://fresnohousing.org/event/young-people-in-recovery-program-information-3/2025-06-13/
LOCATION:Promesa Commons\, 1101 N Parkway Dr\,\, Fresno\, CA\, 93728\, United States
CATEGORIES:Education,Health & Wellness
ORGANIZER;CN="Nathan Turner":MAILTO:nturner@fresnohousing.org
END:VEVENT
BEGIN:VEVENT
DTSTART;TZID=America/Los_Angeles:20250530T153000
DTEND;TZID=America/Los_Angeles:20250530T170000
DTSTAMP:20260422T170713
CREATED:20250304T180714Z
LAST-MODIFIED:20250304T180714Z
UID:22890-1748619000-1748624400@fresnohousing.org
SUMMARY:Young People in Recovery Program Information 
DESCRIPTION:Young People in Recovery Program Information  \nAttendees are invited to learn about the program offered by “Young People in Recovery” (YPR). They learn about their mission\, services and resources\, as well as how each can be tailored to help the individual heal and grow post recovery.  \n  \nPromesa Commons – 3/21/25 at 3:30 (every other Friday) 
URL:https://fresnohousing.org/event/young-people-in-recovery-program-information-3/2025-05-30/
LOCATION:Promesa Commons\, 1101 N Parkway Dr\,\, Fresno\, CA\, 93728\, United States
CATEGORIES:Education,Health & Wellness
ORGANIZER;CN="Nathan Turner":MAILTO:nturner@fresnohousing.org
END:VEVENT
BEGIN:VEVENT
DTSTART;TZID=America/Los_Angeles:20250516T153000
DTEND;TZID=America/Los_Angeles:20250516T170000
DTSTAMP:20260422T170713
CREATED:20250304T180714Z
LAST-MODIFIED:20250304T180714Z
UID:22889-1747409400-1747414800@fresnohousing.org
SUMMARY:Young People in Recovery Program Information 
DESCRIPTION:Young People in Recovery Program Information  \nAttendees are invited to learn about the program offered by “Young People in Recovery” (YPR). They learn about their mission\, services and resources\, as well as how each can be tailored to help the individual heal and grow post recovery.  \n  \nPromesa Commons – 3/21/25 at 3:30 (every other Friday) 
URL:https://fresnohousing.org/event/young-people-in-recovery-program-information-3/2025-05-16/
LOCATION:Promesa Commons\, 1101 N Parkway Dr\,\, Fresno\, CA\, 93728\, United States
CATEGORIES:Education,Health & Wellness
ORGANIZER;CN="Nathan Turner":MAILTO:nturner@fresnohousing.org
END:VEVENT
BEGIN:VEVENT
DTSTART;TZID=America/Los_Angeles:20250502T153000
DTEND;TZID=America/Los_Angeles:20250502T170000
DTSTAMP:20260422T170713
CREATED:20250304T180714Z
LAST-MODIFIED:20250304T180714Z
UID:22888-1746199800-1746205200@fresnohousing.org
SUMMARY:Young People in Recovery Program Information 
DESCRIPTION:Young People in Recovery Program Information  \nAttendees are invited to learn about the program offered by “Young People in Recovery” (YPR). They learn about their mission\, services and resources\, as well as how each can be tailored to help the individual heal and grow post recovery.  \n  \nPromesa Commons – 3/21/25 at 3:30 (every other Friday) 
URL:https://fresnohousing.org/event/young-people-in-recovery-program-information-3/2025-05-02/
LOCATION:Promesa Commons\, 1101 N Parkway Dr\,\, Fresno\, CA\, 93728\, United States
CATEGORIES:Education,Health & Wellness
ORGANIZER;CN="Nathan Turner":MAILTO:nturner@fresnohousing.org
END:VEVENT
BEGIN:VEVENT
DTSTART;TZID=America/Los_Angeles:20250418T153000
DTEND;TZID=America/Los_Angeles:20250418T170000
DTSTAMP:20260422T170713
CREATED:20250304T180714Z
LAST-MODIFIED:20250304T180714Z
UID:22887-1744990200-1744995600@fresnohousing.org
SUMMARY:Young People in Recovery Program Information 
DESCRIPTION:Young People in Recovery Program Information  \nAttendees are invited to learn about the program offered by “Young People in Recovery” (YPR). They learn about their mission\, services and resources\, as well as how each can be tailored to help the individual heal and grow post recovery.  \n  \nPromesa Commons – 3/21/25 at 3:30 (every other Friday) 
URL:https://fresnohousing.org/event/young-people-in-recovery-program-information-3/2025-04-18/
LOCATION:Promesa Commons\, 1101 N Parkway Dr\,\, Fresno\, CA\, 93728\, United States
CATEGORIES:Education,Health & Wellness
ORGANIZER;CN="Nathan Turner":MAILTO:nturner@fresnohousing.org
END:VEVENT
BEGIN:VEVENT
DTSTART;TZID=America/Los_Angeles:20250404T153000
DTEND;TZID=America/Los_Angeles:20250404T170000
DTSTAMP:20260422T170713
CREATED:20250304T180714Z
LAST-MODIFIED:20250304T180714Z
UID:22886-1743780600-1743786000@fresnohousing.org
SUMMARY:Young People in Recovery Program Information 
DESCRIPTION:Young People in Recovery Program Information  \nAttendees are invited to learn about the program offered by “Young People in Recovery” (YPR). They learn about their mission\, services and resources\, as well as how each can be tailored to help the individual heal and grow post recovery.  \n  \nPromesa Commons – 3/21/25 at 3:30 (every other Friday) 
URL:https://fresnohousing.org/event/young-people-in-recovery-program-information-3/2025-04-04/
LOCATION:Promesa Commons\, 1101 N Parkway Dr\,\, Fresno\, CA\, 93728\, United States
CATEGORIES:Education,Health & Wellness
ORGANIZER;CN="Nathan Turner":MAILTO:nturner@fresnohousing.org
END:VEVENT
BEGIN:VEVENT
DTSTART;TZID=America/Los_Angeles:20250321T153000
DTEND;TZID=America/Los_Angeles:20250321T170000
DTSTAMP:20260422T170713
CREATED:20250304T180714Z
LAST-MODIFIED:20250304T180714Z
UID:22885-1742571000-1742576400@fresnohousing.org
SUMMARY:Young People in Recovery Program Information 
DESCRIPTION:Young People in Recovery Program Information  \nAttendees are invited to learn about the program offered by “Young People in Recovery” (YPR). They learn about their mission\, services and resources\, as well as how each can be tailored to help the individual heal and grow post recovery.  \n  \nPromesa Commons – 3/21/25 at 3:30 (every other Friday) 
URL:https://fresnohousing.org/event/young-people-in-recovery-program-information-3/2025-03-21/
LOCATION:Promesa Commons\, 1101 N Parkway Dr\,\, Fresno\, CA\, 93728\, United States
CATEGORIES:Education,Health & Wellness
ORGANIZER;CN="Nathan Turner":MAILTO:nturner@fresnohousing.org
END:VEVENT
END:VCALENDAR