
BEGIN:VCALENDAR
VERSION:2.0
PRODID:-//Fresno Housing - ECPv6.15.12.2//NONSGML v1.0//EN
CALSCALE:GREGORIAN
METHOD:PUBLISH
X-WR-CALNAME:Fresno Housing
X-ORIGINAL-URL:https://fresnohousing.org
X-WR-CALDESC:Events for Fresno Housing
REFRESH-INTERVAL;VALUE=DURATION:PT1H
X-Robots-Tag:noindex
X-PUBLISHED-TTL:PT1H
BEGIN:VTIMEZONE
TZID:America/Los_Angeles
BEGIN:DAYLIGHT
TZOFFSETFROM:-0800
TZOFFSETTO:-0700
TZNAME:PDT
DTSTART:20240310T100000
END:DAYLIGHT
BEGIN:STANDARD
TZOFFSETFROM:-0700
TZOFFSETTO:-0800
TZNAME:PST
DTSTART:20241103T090000
END:STANDARD
BEGIN:DAYLIGHT
TZOFFSETFROM:-0800
TZOFFSETTO:-0700
TZNAME:PDT
DTSTART:20250309T100000
END:DAYLIGHT
BEGIN:STANDARD
TZOFFSETFROM:-0700
TZOFFSETTO:-0800
TZNAME:PST
DTSTART:20251102T090000
END:STANDARD
BEGIN:DAYLIGHT
TZOFFSETFROM:-0800
TZOFFSETTO:-0700
TZNAME:PDT
DTSTART:20260308T100000
END:DAYLIGHT
BEGIN:STANDARD
TZOFFSETFROM:-0700
TZOFFSETTO:-0800
TZNAME:PST
DTSTART:20261101T090000
END:STANDARD
END:VTIMEZONE
BEGIN:VEVENT
DTSTART;TZID=America/Los_Angeles:20250211T123000
DTEND;TZID=America/Los_Angeles:20250211T143000
DTSTAMP:20260422T170632
CREATED:20250204T231544Z
LAST-MODIFIED:20250204T231544Z
UID:22649-1739277000-1739284200@fresnohousing.org
SUMMARY:Vision Board Workshop - Viking Village
DESCRIPTION:Vision Board Workshops: \nThe workshops will help residents create a vision/resolution board to define and clarify their personal goals to represent their aspirations\, values\, and outcomes for the year.  Coordinators will help to guide residents through the process of reflecting on their vision by collecting materials to assemble their vision boards.  Boards can represent personal\, professional\, health\, financial growth\, etc. and serves as a reminder and motivation for residents to keep their goals in the forefront.  Workshops will be held at the following sites: \n  \nViking Village – February 7th @ 2pm and February 11th @ 12:30pm
URL:https://fresnohousing.org/event/vision-board-workshop-viking-village/2025-02-11/
LOCATION:Viking Village\, 4260 N Chestnut Ave.\, Fresno\, CA\, 93726\, United States
CATEGORIES:Arts and Crafts,Health & Wellness
ORGANIZER;CN="Ali Vue":MAILTO:pvue@fresnohousing.org
END:VEVENT
BEGIN:VEVENT
DTSTART;TZID=America/Los_Angeles:20250207T140000
DTEND;TZID=America/Los_Angeles:20250207T160000
DTSTAMP:20260422T170632
CREATED:20250204T231544Z
LAST-MODIFIED:20250204T231544Z
UID:22648-1738936800-1738944000@fresnohousing.org
SUMMARY:Vision Board Workshop - Viking Village
DESCRIPTION:Vision Board Workshops: \nThe workshops will help residents create a vision/resolution board to define and clarify their personal goals to represent their aspirations\, values\, and outcomes for the year.  Coordinators will help to guide residents through the process of reflecting on their vision by collecting materials to assemble their vision boards.  Boards can represent personal\, professional\, health\, financial growth\, etc. and serves as a reminder and motivation for residents to keep their goals in the forefront.  Workshops will be held at the following sites: \n  \nViking Village – February 7th @ 2pm and February 11th @ 12:30pm
URL:https://fresnohousing.org/event/vision-board-workshop-viking-village/2025-02-07/
LOCATION:Viking Village\, 4260 N Chestnut Ave.\, Fresno\, CA\, 93726\, United States
CATEGORIES:Arts and Crafts,Health & Wellness
ORGANIZER;CN="Ali Vue":MAILTO:pvue@fresnohousing.org
END:VEVENT
END:VCALENDAR