
BEGIN:VCALENDAR
VERSION:2.0
PRODID:-//Fresno Housing - ECPv6.15.12.2//NONSGML v1.0//EN
CALSCALE:GREGORIAN
METHOD:PUBLISH
X-ORIGINAL-URL:https://fresnohousing.org
X-WR-CALDESC:Events for Fresno Housing
REFRESH-INTERVAL;VALUE=DURATION:PT1H
X-Robots-Tag:noindex
X-PUBLISHED-TTL:PT1H
BEGIN:VTIMEZONE
TZID:America/Los_Angeles
BEGIN:DAYLIGHT
TZOFFSETFROM:-0800
TZOFFSETTO:-0700
TZNAME:PDT
DTSTART:20230312T100000
END:DAYLIGHT
BEGIN:STANDARD
TZOFFSETFROM:-0700
TZOFFSETTO:-0800
TZNAME:PST
DTSTART:20231105T090000
END:STANDARD
BEGIN:DAYLIGHT
TZOFFSETFROM:-0800
TZOFFSETTO:-0700
TZNAME:PDT
DTSTART:20240310T100000
END:DAYLIGHT
BEGIN:STANDARD
TZOFFSETFROM:-0700
TZOFFSETTO:-0800
TZNAME:PST
DTSTART:20241103T090000
END:STANDARD
BEGIN:DAYLIGHT
TZOFFSETFROM:-0800
TZOFFSETTO:-0700
TZNAME:PDT
DTSTART:20250309T100000
END:DAYLIGHT
BEGIN:STANDARD
TZOFFSETFROM:-0700
TZOFFSETTO:-0800
TZNAME:PST
DTSTART:20251102T090000
END:STANDARD
END:VTIMEZONE
BEGIN:VEVENT
DTSTART;TZID=America/Los_Angeles:20240726T100000
DTEND;TZID=America/Los_Angeles:20240726T180000
DTSTAMP:20260424T155625
CREATED:20240624T185518Z
LAST-MODIFIED:20240624T185518Z
UID:21716-1721988000-1722016800@fresnohousing.org
SUMMARY:FUSD /Fresno Metro Ministry Summer Camp at Yosemite Village
DESCRIPTION:FUSD /Fresno Metro Ministry Summer Camp at Yosemite Village  \n  \nGardening & cooking summer program for youth  \n  \n  \nJuly 8- July 26 \, 2024 10am-6pm Monday-Friday – at Yosemite Village 
URL:https://fresnohousing.org/event/fusd-fresno-metro-ministry-summer-camp-at-yosemite-village/2024-07-26/
LOCATION:Yosemite Village Apartments\, 709 W California Ave.\, Fresno\, CA\, 93706\, United States
CATEGORIES:Education,Health & Wellness,Life Skills,Meal Program,Nutrition
END:VEVENT
BEGIN:VEVENT
DTSTART;TZID=America/Los_Angeles:20240725T100000
DTEND;TZID=America/Los_Angeles:20240725T180000
DTSTAMP:20260424T155625
CREATED:20240624T185518Z
LAST-MODIFIED:20240624T185518Z
UID:21715-1721901600-1721930400@fresnohousing.org
SUMMARY:FUSD /Fresno Metro Ministry Summer Camp at Yosemite Village
DESCRIPTION:FUSD /Fresno Metro Ministry Summer Camp at Yosemite Village  \n  \nGardening & cooking summer program for youth  \n  \n  \nJuly 8- July 26 \, 2024 10am-6pm Monday-Friday – at Yosemite Village 
URL:https://fresnohousing.org/event/fusd-fresno-metro-ministry-summer-camp-at-yosemite-village/2024-07-25/
LOCATION:Yosemite Village Apartments\, 709 W California Ave.\, Fresno\, CA\, 93706\, United States
CATEGORIES:Education,Health & Wellness,Life Skills,Meal Program,Nutrition
END:VEVENT
BEGIN:VEVENT
DTSTART;TZID=America/Los_Angeles:20240724T100000
DTEND;TZID=America/Los_Angeles:20240724T180000
DTSTAMP:20260424T155625
CREATED:20240624T185518Z
LAST-MODIFIED:20240624T185518Z
UID:21714-1721815200-1721844000@fresnohousing.org
SUMMARY:FUSD /Fresno Metro Ministry Summer Camp at Yosemite Village
DESCRIPTION:FUSD /Fresno Metro Ministry Summer Camp at Yosemite Village  \n  \nGardening & cooking summer program for youth  \n  \n  \nJuly 8- July 26 \, 2024 10am-6pm Monday-Friday – at Yosemite Village 
URL:https://fresnohousing.org/event/fusd-fresno-metro-ministry-summer-camp-at-yosemite-village/2024-07-24/
LOCATION:Yosemite Village Apartments\, 709 W California Ave.\, Fresno\, CA\, 93706\, United States
CATEGORIES:Education,Health & Wellness,Life Skills,Meal Program,Nutrition
END:VEVENT
BEGIN:VEVENT
DTSTART;TZID=America/Los_Angeles:20240723T100000
DTEND;TZID=America/Los_Angeles:20240723T180000
DTSTAMP:20260424T155625
CREATED:20240624T185518Z
LAST-MODIFIED:20240624T185518Z
UID:21713-1721728800-1721757600@fresnohousing.org
SUMMARY:FUSD /Fresno Metro Ministry Summer Camp at Yosemite Village
DESCRIPTION:FUSD /Fresno Metro Ministry Summer Camp at Yosemite Village  \n  \nGardening & cooking summer program for youth  \n  \n  \nJuly 8- July 26 \, 2024 10am-6pm Monday-Friday – at Yosemite Village 
URL:https://fresnohousing.org/event/fusd-fresno-metro-ministry-summer-camp-at-yosemite-village/2024-07-23/
LOCATION:Yosemite Village Apartments\, 709 W California Ave.\, Fresno\, CA\, 93706\, United States
CATEGORIES:Education,Health & Wellness,Life Skills,Meal Program,Nutrition
END:VEVENT
BEGIN:VEVENT
DTSTART;TZID=America/Los_Angeles:20240722T100000
DTEND;TZID=America/Los_Angeles:20240722T180000
DTSTAMP:20260424T155625
CREATED:20240624T185518Z
LAST-MODIFIED:20240624T185518Z
UID:21711-1721642400-1721671200@fresnohousing.org
SUMMARY:FUSD /Fresno Metro Ministry Summer Camp at Yosemite Village
DESCRIPTION:FUSD /Fresno Metro Ministry Summer Camp at Yosemite Village  \n  \nGardening & cooking summer program for youth  \n  \n  \nJuly 8- July 26 \, 2024 10am-6pm Monday-Friday – at Yosemite Village 
URL:https://fresnohousing.org/event/fusd-fresno-metro-ministry-summer-camp-at-yosemite-village/2024-07-22/
LOCATION:Yosemite Village Apartments\, 709 W California Ave.\, Fresno\, CA\, 93706\, United States
CATEGORIES:Education,Health & Wellness,Life Skills,Meal Program,Nutrition
END:VEVENT
BEGIN:VEVENT
DTSTART;TZID=America/Los_Angeles:20240719T100000
DTEND;TZID=America/Los_Angeles:20240719T180000
DTSTAMP:20260424T155625
CREATED:20240624T185518Z
LAST-MODIFIED:20240624T185518Z
UID:21710-1721383200-1721412000@fresnohousing.org
SUMMARY:FUSD /Fresno Metro Ministry Summer Camp at Yosemite Village
DESCRIPTION:FUSD /Fresno Metro Ministry Summer Camp at Yosemite Village  \n  \nGardening & cooking summer program for youth  \n  \n  \nJuly 8- July 26 \, 2024 10am-6pm Monday-Friday – at Yosemite Village 
URL:https://fresnohousing.org/event/fusd-fresno-metro-ministry-summer-camp-at-yosemite-village/2024-07-19/
LOCATION:Yosemite Village Apartments\, 709 W California Ave.\, Fresno\, CA\, 93706\, United States
CATEGORIES:Education,Health & Wellness,Life Skills,Meal Program,Nutrition
END:VEVENT
BEGIN:VEVENT
DTSTART;TZID=America/Los_Angeles:20240718T100000
DTEND;TZID=America/Los_Angeles:20240718T180000
DTSTAMP:20260424T155625
CREATED:20240624T185518Z
LAST-MODIFIED:20240624T185518Z
UID:21709-1721296800-1721325600@fresnohousing.org
SUMMARY:FUSD /Fresno Metro Ministry Summer Camp at Yosemite Village
DESCRIPTION:FUSD /Fresno Metro Ministry Summer Camp at Yosemite Village  \n  \nGardening & cooking summer program for youth  \n  \n  \nJuly 8- July 26 \, 2024 10am-6pm Monday-Friday – at Yosemite Village 
URL:https://fresnohousing.org/event/fusd-fresno-metro-ministry-summer-camp-at-yosemite-village/2024-07-18/
LOCATION:Yosemite Village Apartments\, 709 W California Ave.\, Fresno\, CA\, 93706\, United States
CATEGORIES:Education,Health & Wellness,Life Skills,Meal Program,Nutrition
END:VEVENT
BEGIN:VEVENT
DTSTART;TZID=America/Los_Angeles:20240717T100000
DTEND;TZID=America/Los_Angeles:20240717T180000
DTSTAMP:20260424T155625
CREATED:20240624T185518Z
LAST-MODIFIED:20240624T185518Z
UID:21708-1721210400-1721239200@fresnohousing.org
SUMMARY:FUSD /Fresno Metro Ministry Summer Camp at Yosemite Village
DESCRIPTION:FUSD /Fresno Metro Ministry Summer Camp at Yosemite Village  \n  \nGardening & cooking summer program for youth  \n  \n  \nJuly 8- July 26 \, 2024 10am-6pm Monday-Friday – at Yosemite Village 
URL:https://fresnohousing.org/event/fusd-fresno-metro-ministry-summer-camp-at-yosemite-village/2024-07-17/
LOCATION:Yosemite Village Apartments\, 709 W California Ave.\, Fresno\, CA\, 93706\, United States
CATEGORIES:Education,Health & Wellness,Life Skills,Meal Program,Nutrition
END:VEVENT
BEGIN:VEVENT
DTSTART;TZID=America/Los_Angeles:20240716T100000
DTEND;TZID=America/Los_Angeles:20240716T180000
DTSTAMP:20260424T155625
CREATED:20240624T185518Z
LAST-MODIFIED:20240624T185518Z
UID:21707-1721124000-1721152800@fresnohousing.org
SUMMARY:FUSD /Fresno Metro Ministry Summer Camp at Yosemite Village
DESCRIPTION:FUSD /Fresno Metro Ministry Summer Camp at Yosemite Village  \n  \nGardening & cooking summer program for youth  \n  \n  \nJuly 8- July 26 \, 2024 10am-6pm Monday-Friday – at Yosemite Village 
URL:https://fresnohousing.org/event/fusd-fresno-metro-ministry-summer-camp-at-yosemite-village/2024-07-16/
LOCATION:Yosemite Village Apartments\, 709 W California Ave.\, Fresno\, CA\, 93706\, United States
CATEGORIES:Education,Health & Wellness,Life Skills,Meal Program,Nutrition
END:VEVENT
BEGIN:VEVENT
DTSTART;TZID=America/Los_Angeles:20240715T100000
DTEND;TZID=America/Los_Angeles:20240715T180000
DTSTAMP:20260424T155625
CREATED:20240624T185518Z
LAST-MODIFIED:20240624T185518Z
UID:21706-1721037600-1721066400@fresnohousing.org
SUMMARY:FUSD /Fresno Metro Ministry Summer Camp at Yosemite Village
DESCRIPTION:FUSD /Fresno Metro Ministry Summer Camp at Yosemite Village  \n  \nGardening & cooking summer program for youth  \n  \n  \nJuly 8- July 26 \, 2024 10am-6pm Monday-Friday – at Yosemite Village 
URL:https://fresnohousing.org/event/fusd-fresno-metro-ministry-summer-camp-at-yosemite-village/2024-07-15/
LOCATION:Yosemite Village Apartments\, 709 W California Ave.\, Fresno\, CA\, 93706\, United States
CATEGORIES:Education,Health & Wellness,Life Skills,Meal Program,Nutrition
END:VEVENT
BEGIN:VEVENT
DTSTART;TZID=America/Los_Angeles:20240712T100000
DTEND;TZID=America/Los_Angeles:20240712T180000
DTSTAMP:20260424T155625
CREATED:20240624T185518Z
LAST-MODIFIED:20240624T185518Z
UID:21705-1720778400-1720807200@fresnohousing.org
SUMMARY:FUSD /Fresno Metro Ministry Summer Camp at Yosemite Village
DESCRIPTION:FUSD /Fresno Metro Ministry Summer Camp at Yosemite Village  \n  \nGardening & cooking summer program for youth  \n  \n  \nJuly 8- July 26 \, 2024 10am-6pm Monday-Friday – at Yosemite Village 
URL:https://fresnohousing.org/event/fusd-fresno-metro-ministry-summer-camp-at-yosemite-village/2024-07-12/
LOCATION:Yosemite Village Apartments\, 709 W California Ave.\, Fresno\, CA\, 93706\, United States
CATEGORIES:Education,Health & Wellness,Life Skills,Meal Program,Nutrition
END:VEVENT
BEGIN:VEVENT
DTSTART;TZID=America/Los_Angeles:20240711T100000
DTEND;TZID=America/Los_Angeles:20240711T180000
DTSTAMP:20260424T155625
CREATED:20240624T185518Z
LAST-MODIFIED:20240624T185518Z
UID:21704-1720692000-1720720800@fresnohousing.org
SUMMARY:FUSD /Fresno Metro Ministry Summer Camp at Yosemite Village
DESCRIPTION:FUSD /Fresno Metro Ministry Summer Camp at Yosemite Village  \n  \nGardening & cooking summer program for youth  \n  \n  \nJuly 8- July 26 \, 2024 10am-6pm Monday-Friday – at Yosemite Village 
URL:https://fresnohousing.org/event/fusd-fresno-metro-ministry-summer-camp-at-yosemite-village/2024-07-11/
LOCATION:Yosemite Village Apartments\, 709 W California Ave.\, Fresno\, CA\, 93706\, United States
CATEGORIES:Education,Health & Wellness,Life Skills,Meal Program,Nutrition
END:VEVENT
BEGIN:VEVENT
DTSTART;TZID=America/Los_Angeles:20240710T100000
DTEND;TZID=America/Los_Angeles:20240710T180000
DTSTAMP:20260424T155625
CREATED:20240624T185518Z
LAST-MODIFIED:20240624T185518Z
UID:21703-1720605600-1720634400@fresnohousing.org
SUMMARY:FUSD /Fresno Metro Ministry Summer Camp at Yosemite Village
DESCRIPTION:FUSD /Fresno Metro Ministry Summer Camp at Yosemite Village  \n  \nGardening & cooking summer program for youth  \n  \n  \nJuly 8- July 26 \, 2024 10am-6pm Monday-Friday – at Yosemite Village 
URL:https://fresnohousing.org/event/fusd-fresno-metro-ministry-summer-camp-at-yosemite-village/2024-07-10/
LOCATION:Yosemite Village Apartments\, 709 W California Ave.\, Fresno\, CA\, 93706\, United States
CATEGORIES:Education,Health & Wellness,Life Skills,Meal Program,Nutrition
END:VEVENT
BEGIN:VEVENT
DTSTART;TZID=America/Los_Angeles:20240709T100000
DTEND;TZID=America/Los_Angeles:20240709T180000
DTSTAMP:20260424T155625
CREATED:20240624T185518Z
LAST-MODIFIED:20240624T185518Z
UID:21702-1720519200-1720548000@fresnohousing.org
SUMMARY:FUSD /Fresno Metro Ministry Summer Camp at Yosemite Village
DESCRIPTION:FUSD /Fresno Metro Ministry Summer Camp at Yosemite Village  \n  \nGardening & cooking summer program for youth  \n  \n  \nJuly 8- July 26 \, 2024 10am-6pm Monday-Friday – at Yosemite Village 
URL:https://fresnohousing.org/event/fusd-fresno-metro-ministry-summer-camp-at-yosemite-village/2024-07-09/
LOCATION:Yosemite Village Apartments\, 709 W California Ave.\, Fresno\, CA\, 93706\, United States
CATEGORIES:Education,Health & Wellness,Life Skills,Meal Program,Nutrition
END:VEVENT
BEGIN:VEVENT
DTSTART;TZID=America/Los_Angeles:20240708T100000
DTEND;TZID=America/Los_Angeles:20240708T180000
DTSTAMP:20260424T155625
CREATED:20240624T185518Z
LAST-MODIFIED:20240624T185518Z
UID:21701-1720432800-1720461600@fresnohousing.org
SUMMARY:FUSD /Fresno Metro Ministry Summer Camp at Yosemite Village
DESCRIPTION:FUSD /Fresno Metro Ministry Summer Camp at Yosemite Village  \n  \nGardening & cooking summer program for youth  \n  \n  \nJuly 8- July 26 \, 2024 10am-6pm Monday-Friday – at Yosemite Village 
URL:https://fresnohousing.org/event/fusd-fresno-metro-ministry-summer-camp-at-yosemite-village/2024-07-08/
LOCATION:Yosemite Village Apartments\, 709 W California Ave.\, Fresno\, CA\, 93706\, United States
CATEGORIES:Education,Health & Wellness,Life Skills,Meal Program,Nutrition
END:VEVENT
END:VCALENDAR