
BEGIN:VCALENDAR
VERSION:2.0
PRODID:-//Fresno Housing - ECPv6.15.12.2//NONSGML v1.0//EN
CALSCALE:GREGORIAN
METHOD:PUBLISH
X-WR-CALNAME:Fresno Housing
X-ORIGINAL-URL:https://fresnohousing.org
X-WR-CALDESC:Events for Fresno Housing
REFRESH-INTERVAL;VALUE=DURATION:PT1H
X-Robots-Tag:noindex
X-PUBLISHED-TTL:PT1H
BEGIN:VTIMEZONE
TZID:America/Los_Angeles
BEGIN:DAYLIGHT
TZOFFSETFROM:-0800
TZOFFSETTO:-0700
TZNAME:PDT
DTSTART:20240310T100000
END:DAYLIGHT
BEGIN:STANDARD
TZOFFSETFROM:-0700
TZOFFSETTO:-0800
TZNAME:PST
DTSTART:20241103T090000
END:STANDARD
BEGIN:DAYLIGHT
TZOFFSETFROM:-0800
TZOFFSETTO:-0700
TZNAME:PDT
DTSTART:20250309T100000
END:DAYLIGHT
BEGIN:STANDARD
TZOFFSETFROM:-0700
TZOFFSETTO:-0800
TZNAME:PST
DTSTART:20251102T090000
END:STANDARD
BEGIN:DAYLIGHT
TZOFFSETFROM:-0800
TZOFFSETTO:-0700
TZNAME:PDT
DTSTART:20260308T100000
END:DAYLIGHT
BEGIN:STANDARD
TZOFFSETFROM:-0700
TZOFFSETTO:-0800
TZNAME:PST
DTSTART:20261101T090000
END:STANDARD
END:VTIMEZONE
BEGIN:VEVENT
DTSTART;TZID=America/Los_Angeles:20250829T100000
DTEND;TZID=America/Los_Angeles:20250829T120000
DTSTAMP:20260421T073920
CREATED:20250804T203608Z
LAST-MODIFIED:20250804T203608Z
UID:24292-1756461600-1756468800@fresnohousing.org
SUMMARY:Everyone On - Digital Literacy Course - Cueva de Oso
DESCRIPTION:Everyone On – Digital Literacy Course   \nResidents will participate in a series educational course on using computers\, exploring the internet\, setting up and using emails.  Participants will receive a free laptop upon completion of course.   \n  \nCueva de Oso – Mondays & Wednesdays – August 11th\, 13th\, 18th\, 20th\, 27th\, and 29th – 10am to 12pm 
URL:https://fresnohousing.org/event/everyone-on-digital-literacy-course-cueva-de-oso/2025-08-29/
LOCATION:Cueva De Oso\, CA\, United States
CATEGORIES:Computer/Digital Literacy,Education
ORGANIZER;CN="Irma Garcia":MAILTO:igarcia@fresnohousing.org
END:VEVENT
BEGIN:VEVENT
DTSTART;TZID=America/Los_Angeles:20250827T100000
DTEND;TZID=America/Los_Angeles:20250827T120000
DTSTAMP:20260421T073920
CREATED:20250804T203608Z
LAST-MODIFIED:20250804T203608Z
UID:24291-1756288800-1756296000@fresnohousing.org
SUMMARY:Everyone On - Digital Literacy Course - Cueva de Oso
DESCRIPTION:Everyone On – Digital Literacy Course   \nResidents will participate in a series educational course on using computers\, exploring the internet\, setting up and using emails.  Participants will receive a free laptop upon completion of course.   \n  \nCueva de Oso – Mondays & Wednesdays – August 11th\, 13th\, 18th\, 20th\, 27th\, and 29th – 10am to 12pm 
URL:https://fresnohousing.org/event/everyone-on-digital-literacy-course-cueva-de-oso/2025-08-27/
LOCATION:Cueva De Oso\, CA\, United States
CATEGORIES:Computer/Digital Literacy,Education
ORGANIZER;CN="Irma Garcia":MAILTO:igarcia@fresnohousing.org
END:VEVENT
BEGIN:VEVENT
DTSTART;TZID=America/Los_Angeles:20250820T100000
DTEND;TZID=America/Los_Angeles:20250820T120000
DTSTAMP:20260421T073920
CREATED:20250804T203608Z
LAST-MODIFIED:20250804T203608Z
UID:24290-1755684000-1755691200@fresnohousing.org
SUMMARY:Everyone On - Digital Literacy Course - Cueva de Oso
DESCRIPTION:Everyone On – Digital Literacy Course   \nResidents will participate in a series educational course on using computers\, exploring the internet\, setting up and using emails.  Participants will receive a free laptop upon completion of course.   \n  \nCueva de Oso – Mondays & Wednesdays – August 11th\, 13th\, 18th\, 20th\, 27th\, and 29th – 10am to 12pm 
URL:https://fresnohousing.org/event/everyone-on-digital-literacy-course-cueva-de-oso/2025-08-20/
LOCATION:Cueva De Oso\, CA\, United States
CATEGORIES:Computer/Digital Literacy,Education
ORGANIZER;CN="Irma Garcia":MAILTO:igarcia@fresnohousing.org
END:VEVENT
BEGIN:VEVENT
DTSTART;TZID=America/Los_Angeles:20250818T100000
DTEND;TZID=America/Los_Angeles:20250818T120000
DTSTAMP:20260421T073920
CREATED:20250804T203608Z
LAST-MODIFIED:20250804T203608Z
UID:24289-1755511200-1755518400@fresnohousing.org
SUMMARY:Everyone On - Digital Literacy Course - Cueva de Oso
DESCRIPTION:Everyone On – Digital Literacy Course   \nResidents will participate in a series educational course on using computers\, exploring the internet\, setting up and using emails.  Participants will receive a free laptop upon completion of course.   \n  \nCueva de Oso – Mondays & Wednesdays – August 11th\, 13th\, 18th\, 20th\, 27th\, and 29th – 10am to 12pm 
URL:https://fresnohousing.org/event/everyone-on-digital-literacy-course-cueva-de-oso/2025-08-18/
LOCATION:Cueva De Oso\, CA\, United States
CATEGORIES:Computer/Digital Literacy,Education
ORGANIZER;CN="Irma Garcia":MAILTO:igarcia@fresnohousing.org
END:VEVENT
BEGIN:VEVENT
DTSTART;TZID=America/Los_Angeles:20250813T100000
DTEND;TZID=America/Los_Angeles:20250813T120000
DTSTAMP:20260421T073920
CREATED:20250804T203608Z
LAST-MODIFIED:20250804T203608Z
UID:24288-1755079200-1755086400@fresnohousing.org
SUMMARY:Everyone On - Digital Literacy Course - Cueva de Oso
DESCRIPTION:Everyone On – Digital Literacy Course   \nResidents will participate in a series educational course on using computers\, exploring the internet\, setting up and using emails.  Participants will receive a free laptop upon completion of course.   \n  \nCueva de Oso – Mondays & Wednesdays – August 11th\, 13th\, 18th\, 20th\, 27th\, and 29th – 10am to 12pm 
URL:https://fresnohousing.org/event/everyone-on-digital-literacy-course-cueva-de-oso/2025-08-13/
LOCATION:Cueva De Oso\, CA\, United States
CATEGORIES:Computer/Digital Literacy,Education
ORGANIZER;CN="Irma Garcia":MAILTO:igarcia@fresnohousing.org
END:VEVENT
BEGIN:VEVENT
DTSTART;TZID=America/Los_Angeles:20250811T100000
DTEND;TZID=America/Los_Angeles:20250811T120000
DTSTAMP:20260421T073920
CREATED:20250804T203608Z
LAST-MODIFIED:20250804T203608Z
UID:24287-1754906400-1754913600@fresnohousing.org
SUMMARY:Everyone On - Digital Literacy Course - Cueva de Oso
DESCRIPTION:Everyone On – Digital Literacy Course   \nResidents will participate in a series educational course on using computers\, exploring the internet\, setting up and using emails.  Participants will receive a free laptop upon completion of course.   \n  \nCueva de Oso – Mondays & Wednesdays – August 11th\, 13th\, 18th\, 20th\, 27th\, and 29th – 10am to 12pm 
URL:https://fresnohousing.org/event/everyone-on-digital-literacy-course-cueva-de-oso/2025-08-11/
LOCATION:Cueva De Oso\, CA\, United States
CATEGORIES:Computer/Digital Literacy,Education
ORGANIZER;CN="Irma Garcia":MAILTO:igarcia@fresnohousing.org
END:VEVENT
END:VCALENDAR